BEGIN:VCALENDAR
VERSION:2.0
PRODID:-//Northpark - ECPv6.15.14//NONSGML v1.0//EN
CALSCALE:GREGORIAN
METHOD:PUBLISH
X-WR-CALNAME:Northpark
X-ORIGINAL-URL:https://www.northparkchurch.org
X-WR-CALDESC:Events for Northpark
REFRESH-INTERVAL;VALUE=DURATION:PT1H
X-Robots-Tag:noindex
X-PUBLISHED-TTL:PT1H
BEGIN:VTIMEZONE
TZID:America/Los_Angeles
BEGIN:DAYLIGHT
TZOFFSETFROM:-0800
TZOFFSETTO:-0700
TZNAME:PDT
DTSTART:20210314T100000
END:DAYLIGHT
BEGIN:STANDARD
TZOFFSETFROM:-0700
TZOFFSETTO:-0800
TZNAME:PST
DTSTART:20211107T090000
END:STANDARD
BEGIN:DAYLIGHT
TZOFFSETFROM:-0800
TZOFFSETTO:-0700
TZNAME:PDT
DTSTART:20220313T100000
END:DAYLIGHT
BEGIN:STANDARD
TZOFFSETFROM:-0700
TZOFFSETTO:-0800
TZNAME:PST
DTSTART:20221106T090000
END:STANDARD
BEGIN:DAYLIGHT
TZOFFSETFROM:-0800
TZOFFSETTO:-0700
TZNAME:PDT
DTSTART:20230312T100000
END:DAYLIGHT
BEGIN:STANDARD
TZOFFSETFROM:-0700
TZOFFSETTO:-0800
TZNAME:PST
DTSTART:20231105T090000
END:STANDARD
BEGIN:DAYLIGHT
TZOFFSETFROM:-0800
TZOFFSETTO:-0700
TZNAME:PDT
DTSTART:20240310T100000
END:DAYLIGHT
BEGIN:STANDARD
TZOFFSETFROM:-0700
TZOFFSETTO:-0800
TZNAME:PST
DTSTART:20241103T090000
END:STANDARD
BEGIN:DAYLIGHT
TZOFFSETFROM:-0800
TZOFFSETTO:-0700
TZNAME:PDT
DTSTART:20250309T100000
END:DAYLIGHT
BEGIN:STANDARD
TZOFFSETFROM:-0700
TZOFFSETTO:-0800
TZNAME:PST
DTSTART:20251102T090000
END:STANDARD
BEGIN:DAYLIGHT
TZOFFSETFROM:-0800
TZOFFSETTO:-0700
TZNAME:PDT
DTSTART:20260308T100000
END:DAYLIGHT
BEGIN:STANDARD
TZOFFSETFROM:-0700
TZOFFSETTO:-0800
TZNAME:PST
DTSTART:20261101T090000
END:STANDARD
BEGIN:DAYLIGHT
TZOFFSETFROM:-0800
TZOFFSETTO:-0700
TZNAME:PDT
DTSTART:20270314T100000
END:DAYLIGHT
BEGIN:STANDARD
TZOFFSETFROM:-0700
TZOFFSETTO:-0800
TZNAME:PST
DTSTART:20271107T090000
END:STANDARD
END:VTIMEZONE
BEGIN:VEVENT
DTSTART;VALUE=DATE:20260330
DTEND;VALUE=DATE:20260402
DTSTAMP:20260422T053429
CREATED:20251208T192330Z
LAST-MODIFIED:20260205T220545Z
UID:10011382-1774828800-1775087999@www.northparkchurch.org
SUMMARY:YOUTH: Breakaway
DESCRIPTION:Spring Break Service and Worship Opportunity for Youth\nBreakaway is 3 days of serving the city\, worship\, encouraging messages\, and bonding with other students. \n\nDATES:\nMonday\, March 30 – Wednesday April 1\, 2026\n(see schedule below) \nLOCATION:\nPeople’s Church\n7127 N Cedar Ave.\, Fresno CA 93720 \nCOST: \n$100\n*Students will not spend the night on campus and will need transportation to and from People’s church each day. \nSCHEDULE: \n\nTBA\n\n\nREGISTER ONLINE\nNorthpark has reserved spots at the discounted rate of $100. \nRegistration Deadline: February 28 \nREGISTER ONLINE NOW\n\nIf you have any questions\, please  CONTACT PASTOR JUSTIN  or talk to him in person Sunday or Wednesday.
URL:https://www.northparkchurch.org/event/youth-breakaway/
LOCATION:People’s Church\, 7172 N Cedar Ave\, Fresno\, CA\, 93720\, United States
CATEGORIES:Church Event,Youth
ATTACH;FMTTYPE=image/jpeg:https://www.northparkchurch.org/wp-content/uploads/2025/12/Breakaway-2026-e1770329135495.jpeg
ORGANIZER;CN="Pastor Justin Goble":MAILTO:Justin@Northparkcc.org
GEO:36.8409078;-119.7534208
X-APPLE-STRUCTURED-LOCATION;VALUE=URI;X-ADDRESS=DESCRIPTION:Spring Break Service and Worship Opportunity for Youth\nBreakaway is 3 days of serving the city worship encouraging messages and bonding with other students. \n\nDATES:\nMonday March 30 – Wednesday April 1 2026\n(see schedule below) \n\nPeople’s Church\n7127 N Cedar Ave. Fresno CA 93720 \nCOST: \n$100\n*Students will not spend the night on campus and will need transportation to and from People’s church each day. \nSCHEDULE: \n\nTBA\n\n\nREGISTER ONLINE\nNorthpark has reserved spots at the discounted rate of $100. \nRegistration Deadline: February 28 \nREGISTER ONLINE NOW\n\nIf you have any questions please  CONTACT PASTOR JUSTIN  or talk to him in person Sunday or Wednesday.;X-APPLE-RADIUS=500;X-TITLE=7172 N Cedar Ave:geo:-119.7534208,36.8409078
END:VEVENT
BEGIN:VEVENT
DTSTART;TZID=America/Los_Angeles:20260116T190000
DTEND;TZID=America/Los_Angeles:20260116T200000
DTSTAMP:20260422T053429
CREATED:20231221T181624Z
LAST-MODIFIED:20260114T232724Z
UID:10009876-1768590000-1768593600@www.northparkchurch.org
SUMMARY:Nightly Prayer & Fasting Service - People's Church
DESCRIPTION:Nightly Prayer & Fasting Service\nFriday\, January 16 – 6:00 p.m.\nHosted By People’s Church\nIn Person: 7172 N Cedar Ave\, Fresno\, CA 93720 \n Website: www.peopleschurch.org \nYouTube: http://www.youtube.com/@pcfresno \n\nEvery night during the 21 days of Prayer and Fasting there will be a service hosted by a different church allowing us to experience the depth and diversity of congregations across our community while acknowledging that we are One Church. \nThese services will be available online or in person\, will incorporate prayer and worship\, and are a great opportunity for the Church of Fresno/Clovis to gather together in unity. \nWe invite you to join us for 1\, or 2\, or all 21 as we pray for our community and believe God together for powerful results throughout 2024 and beyond. You will be encouraged\, and you will be an encouragement to others as well! \n\nMore Resources\n\nSign up for daily email encouragement from Pastor Bob Willis guiding you during prayer and fasting\nFAQ’s\, Books and Videos about Prayer & Fasting\n\nGet more resources here: NorthparkChurch.org/fasting \n\nOther Nightly Services\nSee the full list of nightly prayer and fasting services: northparkchurch.org/series/nightly-prayer-fasting-service/ \n 
URL:https://www.northparkchurch.org/event/nightly-prayer-fasting-service-25/
LOCATION:People’s Church\, 7172 N Cedar Ave\, Fresno\, CA\, 93720\, United States
CATEGORIES:Fasting
ATTACH;FMTTYPE=image/jpeg:https://www.northparkchurch.org/wp-content/uploads/2021/12/NIGHTLY-PRAYER-FASTING-SERVICE-500-x-500-px-e1767913392586.jpg
GEO:36.8409078;-119.7534208
X-APPLE-STRUCTURED-LOCATION;VALUE=URI;X-ADDRESS=People’s Church 7172 N Cedar Ave Fresno CA 93720 United States;X-APPLE-RADIUS=500;X-TITLE=7172 N Cedar Ave:geo:-119.7534208,36.8409078
END:VEVENT
BEGIN:VEVENT
DTSTART;TZID=America/Los_Angeles:20250714T180000
DTEND;TZID=America/Los_Angeles:20250714T200000
DTSTAMP:20260422T053429
CREATED:20250227T230810Z
LAST-MODIFIED:20250227T230810Z
UID:10010634-1752516000-1752523200@www.northparkchurch.org
SUMMARY:9 to 5 for Christ Women's Dinner
DESCRIPTION:9 TO 5 FOR CHRIST\nSecond Monday of Every Month\n6:00 – 8:00 P.M.\n**THIS MONTH ONLY – MEETS at PEOPLE’S CHURCH\n7172 N Cedar Ave\, Fresno\, CA 93720 \nRegister and get more info about this month’s meeting \nWHAT TO EXPECT:\nWomen of all ages are invited to join us every month! \nEach month’s dinner meeting incorporates fellowship and networking opportunities\, an inspirational speaker\, and prayer\, all in a warm\, supportive atmosphere the second Monday of every month. \nCOST:\n$23 if paid by the Friday prior to the meeting\n$25 if paid at the door\n$20 for first time attendees \nREGISTER: \nRegister and get more info about this month’s meeting \n 
URL:https://www.northparkchurch.org/event/9-to-5-for-christ-womens-dinner-2/
LOCATION:People’s Church\, 7172 N Cedar Ave\, Fresno\, CA\, 93720\, United States
CATEGORIES:Women's Ministry
ATTACH;FMTTYPE=image/jpeg:https://www.northparkchurch.org/wp-content/uploads/2021/08/9-to-5-square.jpg
GEO:36.8409078;-119.7534208
X-APPLE-STRUCTURED-LOCATION;VALUE=URI;X-ADDRESS=People’s Church 7172 N Cedar Ave Fresno CA 93720 United States;X-APPLE-RADIUS=500;X-TITLE=7172 N Cedar Ave:geo:-119.7534208,36.8409078
END:VEVENT
BEGIN:VEVENT
DTSTART;VALUE=DATE:20250414
DTEND;VALUE=DATE:20250417
DTSTAMP:20260422T053429
CREATED:20240222T181805Z
LAST-MODIFIED:20250205T190705Z
UID:10009910-1744588800-1744847999@www.northparkchurch.org
SUMMARY:YOUTH: Breakaway Remix
DESCRIPTION:Spring Break Service and Worship Opportunity for Youth\nDATES:\nMonday\, April 14 – Wednesday April 16\, 2025\n(see schedule below) \nLOCATION:\nPeople’s Church\n7127 N Cedar Ave.\, Fresno CA 93720 \nBreakaway is 3 days of serving the city\, worship\, encouraging messages\, and bonding with other students. \nEach day is filled with worksites across the city\, gatherings\, after parties and games. These are great ways to grow your students through serving\, worship\, and messages. Throughout the years we have seen students also grow closer with their peers and their adult leaders. \nCOST: $75\nCost includes meals\, serving supplies\, messages and worship\, games and a camp t-shirt! \n*Students will not spend the night on campus and will need transportation to and from People’s church each day. \nSCHEDULE:  \n\nMonday 5pm – 10pm\nTuesday 9am – 10pm\nWednesday 9am – 11pm\n\nTO REGISTER: \nNorthpark has reserved spots at the discounted rate of $75. \nTo reserve your spot\, please  CONTACT PASTOR JUSTIN  or talk to him in person Sunday or Wednesday. \nTo make an online payment\, use this link:  \nMAKE A PAYMENT (please note Student Name and ‘Breakaway’ in the memo)
URL:https://www.northparkchurch.org/event/youth-breakaway-remix/
LOCATION:People’s Church\, 7172 N Cedar Ave\, Fresno\, CA\, 93720\, United States
CATEGORIES:Church Event,Youth
ATTACH;FMTTYPE=image/png:https://www.northparkchurch.org/wp-content/uploads/2024/02/breakaway-2025.png
ORGANIZER;CN="Pastor Justin Goble":MAILTO:Justin@Northparkcc.org
GEO:36.8409078;-119.7534208
X-APPLE-STRUCTURED-LOCATION;VALUE=URI;X-ADDRESS=DESCRIPTION:Spring Break Service and Worship Opportunity for Youth\nDATES:\nMonday April 14 – Wednesday April 16 2025\n(see schedule below) \n\nPeople’s Church\n7127 N Cedar Ave. Fresno CA 93720 \nBreakaway is 3 days of serving the city worship encouraging messages and bonding with other students. \nEach day is filled with worksites across the city gatherings after parties and games. These are great ways to grow your students through serving worship and messages. Throughout the years we have seen students also grow closer with their peers and their adult leaders. \nCOST: $75\nCost includes meals serving supplies messages and worship games and a camp t-shirt! \n*Students will not spend the night on campus and will need transportation to and from People’s church each day. \nSCHEDULE:  \n\nMonday 5pm – 10pm\nTuesday 9am – 10pm\nWednesday 9am – 11pm\n\nTO REGISTER: \nNorthpark has reserved spots at the discounted rate of $75. \nTo reserve your spot please  CONTACT PASTOR JUSTIN  or talk to him in person Sunday or Wednesday. \nTo make an online payment use this link:  \nMAKE A PAYMENT (please note Student Name and ‘Breakaway’ in the memo);X-APPLE-RADIUS=500;X-TITLE=7172 N Cedar Ave:geo:-119.7534208,36.8409078
END:VEVENT
BEGIN:VEVENT
DTSTART;TZID=America/Los_Angeles:20220430T083000
DTEND;TZID=America/Los_Angeles:20220430T143000
DTSTAMP:20260422T053429
CREATED:20220411T220610Z
LAST-MODIFIED:20220413T190433Z
UID:10008155-1651307400-1651329000@www.northparkchurch.org
SUMMARY:ALL IN Men's Conference
DESCRIPTION:Saturday\, April 30\, 2022\n8:30 am – 2:30 pm\nPeople’s Church\n7172 North Cedar Ave.\, Fresno CA 93720 \nAre you ready to go ALL IN? \nAre you ready to live a better life for the Lord\, for yourself\, and your family? Then it’s time to join us at the All In Conference. \nLearn more and get tickets at: https://mightymenmovement.org/all-in-conference
URL:https://www.northparkchurch.org/event/all-in-mens-conference/
LOCATION:People’s Church\, 7172 N Cedar Ave\, Fresno\, CA\, 93720\, United States
CATEGORIES:Men's Ministry
ATTACH;FMTTYPE=image/jpeg:https://www.northparkchurch.org/wp-content/uploads/2022/04/All-in-flyer-square.jpg
GEO:36.8409078;-119.7534208
X-APPLE-STRUCTURED-LOCATION;VALUE=URI;X-ADDRESS=People’s Church 7172 N Cedar Ave Fresno CA 93720 United States;X-APPLE-RADIUS=500;X-TITLE=7172 N Cedar Ave:geo:-119.7534208,36.8409078
END:VEVENT
END:VCALENDAR