BEGIN:VCALENDAR
VERSION:2.0
PRODID:-//Northpark - ECPv6.15.14//NONSGML v1.0//EN
CALSCALE:GREGORIAN
METHOD:PUBLISH
X-WR-CALNAME:Northpark
X-ORIGINAL-URL:https://www.northparkchurch.org
X-WR-CALDESC:Events for Northpark
REFRESH-INTERVAL;VALUE=DURATION:PT1H
X-Robots-Tag:noindex
X-PUBLISHED-TTL:PT1H
BEGIN:VTIMEZONE
TZID:America/Los_Angeles
BEGIN:DAYLIGHT
TZOFFSETFROM:-0800
TZOFFSETTO:-0700
TZNAME:PDT
DTSTART:20210314T100000
END:DAYLIGHT
BEGIN:STANDARD
TZOFFSETFROM:-0700
TZOFFSETTO:-0800
TZNAME:PST
DTSTART:20211107T090000
END:STANDARD
BEGIN:DAYLIGHT
TZOFFSETFROM:-0800
TZOFFSETTO:-0700
TZNAME:PDT
DTSTART:20220313T100000
END:DAYLIGHT
BEGIN:STANDARD
TZOFFSETFROM:-0700
TZOFFSETTO:-0800
TZNAME:PST
DTSTART:20221106T090000
END:STANDARD
BEGIN:DAYLIGHT
TZOFFSETFROM:-0800
TZOFFSETTO:-0700
TZNAME:PDT
DTSTART:20230312T100000
END:DAYLIGHT
BEGIN:STANDARD
TZOFFSETFROM:-0700
TZOFFSETTO:-0800
TZNAME:PST
DTSTART:20231105T090000
END:STANDARD
BEGIN:DAYLIGHT
TZOFFSETFROM:-0800
TZOFFSETTO:-0700
TZNAME:PDT
DTSTART:20240310T100000
END:DAYLIGHT
BEGIN:STANDARD
TZOFFSETFROM:-0700
TZOFFSETTO:-0800
TZNAME:PST
DTSTART:20241103T090000
END:STANDARD
BEGIN:DAYLIGHT
TZOFFSETFROM:-0800
TZOFFSETTO:-0700
TZNAME:PDT
DTSTART:20250309T100000
END:DAYLIGHT
BEGIN:STANDARD
TZOFFSETFROM:-0700
TZOFFSETTO:-0800
TZNAME:PST
DTSTART:20251102T090000
END:STANDARD
BEGIN:DAYLIGHT
TZOFFSETFROM:-0800
TZOFFSETTO:-0700
TZNAME:PDT
DTSTART:20260308T100000
END:DAYLIGHT
BEGIN:STANDARD
TZOFFSETFROM:-0700
TZOFFSETTO:-0800
TZNAME:PST
DTSTART:20261101T090000
END:STANDARD
BEGIN:DAYLIGHT
TZOFFSETFROM:-0800
TZOFFSETTO:-0700
TZNAME:PDT
DTSTART:20270314T100000
END:DAYLIGHT
BEGIN:STANDARD
TZOFFSETFROM:-0700
TZOFFSETTO:-0800
TZNAME:PST
DTSTART:20271107T090000
END:STANDARD
END:VTIMEZONE
BEGIN:VEVENT
DTSTART;TZID=America/Los_Angeles:20260124T180000
DTEND;TZID=America/Los_Angeles:20260124T190000
DTSTAMP:20260420T212830
CREATED:20231221T184615Z
LAST-MODIFIED:20260109T074120Z
UID:10009882-1769277600-1769281200@www.northparkchurch.org
SUMMARY:Nightly Prayer & Fasting Service - Clovis Hills Church
DESCRIPTION:Nightly Prayer & Fasting Service\nSaturday\, January 24 – 6:00 p.m.\nHosted By Clovis Hills Church\nIn Person: 759 E International Ave\, Clovis\, CA 93619 \nOnline: https://clovishills.online.church/  \nYouTube: youtube.com/@hillsonline/streams \n\nEvery night during the 21 days of Prayer and Fasting there will be a service hosted by a different church allowing us to experience the depth and diversity of congregations across our community while acknowledging that we are One Church. \nThese services will be available online or in person\, will incorporate prayer and worship\, and are a great opportunity for the Church of Fresno/Clovis to gather together in unity. \nWe invite you to join us for 1\, or 2\, or all 21 as we pray for our community and believe God together for powerful results throughout 2025 and beyond. You will be encouraged\, and you will be an encouragement to others as well! \n\nMore Resources\n\nSign up for daily email encouragement from Pastor Bob Willis guiding you during prayer and fasting\nFAQ’s\, Books and Videos about Prayer & Fasting\n\nGet more resources here: NorthparkChurch.org/fasting \n\nOther Nightly Services\nSee the full list of nightly prayer and fasting services: northparkchurch.org/series/nightly-prayer-fasting-service/ \n 
URL:https://www.northparkchurch.org/event/nightly-prayer-fasting-service-31/
LOCATION:Clovis Hills Community Church\, 759 E International\, Clovis\, CA\, 93619\, United States
CATEGORIES:Fasting
ATTACH;FMTTYPE=image/jpeg:https://www.northparkchurch.org/wp-content/uploads/2021/12/NIGHTLY-PRAYER-FASTING-SERVICE-500-x-500-px-e1767913392586.jpg
GEO:36.890562;-119.727387
X-APPLE-STRUCTURED-LOCATION;VALUE=URI;X-ADDRESS=Clovis Hills Community Church 759 E International Clovis CA 93619 United States;X-APPLE-RADIUS=500;X-TITLE=759 E International:geo:-119.727387,36.890562
END:VEVENT
BEGIN:VEVENT
DTSTART;TZID=America/Los_Angeles:20230128T180000
DTEND;TZID=America/Los_Angeles:20230128T190000
DTSTAMP:20260420T212830
CREATED:20221231T033254Z
LAST-MODIFIED:20221231T033254Z
UID:10008810-1674928800-1674932400@www.northparkchurch.org
SUMMARY:Nightly Prayer & Fasting Service - Clovis Hills Church
DESCRIPTION:Nightly Prayer & Fasting Service\nSaturday\, January 28 – 6:00 p.m.\nHosted by Clovis Hills Church\nIn Person: 10590 N Willow Ave\, Clovis CA 93619 \nOnline: http://www.clovishills.com/ \n\nEvery night during the 21 days of Prayer and Fasting there will be a service hosted by a different church allowing us to experience the depth and diversity of congregations across our community while acknowledging that we are One Church. \nThese services will be available online or in person\, will incorporate prayer and worship\, and are a great opportunity for the Church of Fresno/Clovis to gather together in unity. \nWe invite you to join us for 1\, or 2\, or all 21 as we pray for our community and believe God together for powerful results throughout 2022 and beyond. You will be encouraged\, and you will be an encouragement to others as well! \n\nMore Resources\n\nSign up for daily email encouragement from Pastor Bob Willis guiding you during prayer and fasting\nFAQ’s\, Books and Videos about Prayer & Fasting\n\nGet more resources here: NorthparkChurch.org/fasting \n\nOther Nightly Services\nSee the full list of nightly prayer and fasting services: northparkchurch.org/series/nightly-prayer-and-fasting-services-2023/ \n  \n 
URL:https://www.northparkchurch.org/event/nightly-prayer-fasting-service-20/
LOCATION:Clovis Hills Community Church\, 759 E International\, Clovis\, CA\, 93619\, United States
CATEGORIES:Fasting
ATTACH;FMTTYPE=image/jpeg:https://www.northparkchurch.org/wp-content/uploads/2021/12/NIGHTLY-PRAYER-FASTING-SERVICE-500-x-500-px-e1767913392586.jpg
GEO:36.890562;-119.727387
X-APPLE-STRUCTURED-LOCATION;VALUE=URI;X-ADDRESS=Clovis Hills Community Church 759 E International Clovis CA 93619 United States;X-APPLE-RADIUS=500;X-TITLE=759 E International:geo:-119.727387,36.890562
END:VEVENT
BEGIN:VEVENT
DTSTART;TZID=America/Los_Angeles:20220129T190000
DTEND;TZID=America/Los_Angeles:20220129T200000
DTSTAMP:20260420T212830
CREATED:20211222T210838Z
LAST-MODIFIED:20220129T081616Z
UID:10008105-1643482800-1643486400@www.northparkchurch.org
SUMMARY:Nightly Prayer & Fasting Service
DESCRIPTION:Nightly Prayer & Fasting Service\nSaturday\, January 29 – 7:00 p.m.\nClovis Hills Church\nIn Person: 10590 N Willow Ave\, Clovis\, CA 93619\nOnline: https://www.clovishills.com \n\nEvery night during the 21 days of Prayer and Fasting there will be a service hosted by a different church allowing us to experience the depth and diversity of congregations across our community while acknowledging that we are One Church. \nThese services will be available online or in person\, will incorporate prayer and worship\, and are a great opportunity for the Church of Fresno/Clovis to gather together in unity. \nWe invite you to join us for 1\, or 2\, or all 21 as we pray for our community and believe God together for powerful results throughout 2022 and beyond. You will be encouraged\, and you will be an encouragement to others as well! \n\nMore Resources\n\nSign up for daily email encouragement from Pastor Bob Willis guiding you during prayer and fasting\nFAQ’s\, Books and Videos about Prayer & Fasting\n\nGet more resources here \n\nFuture Dates:\nSunday January 30 **CELEBRATION** Cornerstone Church\n1545 Fulton St\, Fresno\, CA 93721\nhttps://www.youtube.com/user/cornerstonefresno
URL:https://www.northparkchurch.org/event/nightly-prayer-fasting-services-2022-01-29/
LOCATION:Clovis Hills Community Church\, 759 E International\, Clovis\, CA\, 93619\, United States
CATEGORIES:Fasting
ATTACH;FMTTYPE=image/jpeg:https://www.northparkchurch.org/wp-content/uploads/2021/12/NIGHTLY-PRAYER-FASTING-SERVICE-500-x-500-px-e1767913392586.jpg
GEO:36.890562;-119.727387
X-APPLE-STRUCTURED-LOCATION;VALUE=URI;X-ADDRESS=Clovis Hills Community Church 759 E International Clovis CA 93619 United States;X-APPLE-RADIUS=500;X-TITLE=759 E International:geo:-119.727387,36.890562
END:VEVENT
BEGIN:VEVENT
DTSTART;TZID=America/Los_Angeles:20220109T180000
DTEND;TZID=America/Los_Angeles:20220109T190000
DTSTAMP:20260420T212830
CREATED:20211221T001955Z
LAST-MODIFIED:20220107T063120Z
UID:10008085-1641751200-1641754800@www.northparkchurch.org
SUMMARY:Prayer & Fasting Kick Off
DESCRIPTION:SUNDAY\, JANUARY 9\, 2022\n6:00 – 7:00 P.M.\nClovis Hills Community Church\n10590 N Willow Ave\, Clovis\, CA 93619 \n\nWe are joining other churches in Northeast Fresno\, kicking off 21 Days of Prayer and Fasting.   \nJoin us for a time of preparation\, prayer and worship as we kick off 21 Days of Prayer and Fasting.  This is a combined service with other churches in Northeast Fresno. \n\nGet more information at www.NorthparkChurch.org/fasting
URL:https://www.northparkchurch.org/event/prayer-fasting-kick-off/
LOCATION:Clovis Hills Community Church\, 759 E International\, Clovis\, CA\, 93619\, United States
CATEGORIES:Fasting
ATTACH;FMTTYPE=image/jpeg:https://www.northparkchurch.org/wp-content/uploads/2021/12/NIGHTLY-PRAYER-FASTING-SERVICE-500-x-500-px-e1767913392586.jpg
GEO:36.890562;-119.727387
X-APPLE-STRUCTURED-LOCATION;VALUE=URI;X-ADDRESS=Clovis Hills Community Church 759 E International Clovis CA 93619 United States;X-APPLE-RADIUS=500;X-TITLE=759 E International:geo:-119.727387,36.890562
END:VEVENT
END:VCALENDAR