BEGIN:VCALENDAR
VERSION:2.0
PRODID:-//Northpark - ECPv6.15.14//NONSGML v1.0//EN
CALSCALE:GREGORIAN
METHOD:PUBLISH
X-ORIGINAL-URL:https://www.northparkchurch.org
X-WR-CALDESC:Events for Northpark
REFRESH-INTERVAL;VALUE=DURATION:PT1H
X-Robots-Tag:noindex
X-PUBLISHED-TTL:PT1H
BEGIN:VTIMEZONE
TZID:America/Los_Angeles
BEGIN:DAYLIGHT
TZOFFSETFROM:-0800
TZOFFSETTO:-0700
TZNAME:PDT
DTSTART:20210314T100000
END:DAYLIGHT
BEGIN:STANDARD
TZOFFSETFROM:-0700
TZOFFSETTO:-0800
TZNAME:PST
DTSTART:20211107T090000
END:STANDARD
BEGIN:DAYLIGHT
TZOFFSETFROM:-0800
TZOFFSETTO:-0700
TZNAME:PDT
DTSTART:20220313T100000
END:DAYLIGHT
BEGIN:STANDARD
TZOFFSETFROM:-0700
TZOFFSETTO:-0800
TZNAME:PST
DTSTART:20221106T090000
END:STANDARD
BEGIN:DAYLIGHT
TZOFFSETFROM:-0800
TZOFFSETTO:-0700
TZNAME:PDT
DTSTART:20230312T100000
END:DAYLIGHT
BEGIN:STANDARD
TZOFFSETFROM:-0700
TZOFFSETTO:-0800
TZNAME:PST
DTSTART:20231105T090000
END:STANDARD
BEGIN:DAYLIGHT
TZOFFSETFROM:-0800
TZOFFSETTO:-0700
TZNAME:PDT
DTSTART:20240310T100000
END:DAYLIGHT
BEGIN:STANDARD
TZOFFSETFROM:-0700
TZOFFSETTO:-0800
TZNAME:PST
DTSTART:20241103T090000
END:STANDARD
BEGIN:DAYLIGHT
TZOFFSETFROM:-0800
TZOFFSETTO:-0700
TZNAME:PDT
DTSTART:20250309T100000
END:DAYLIGHT
BEGIN:STANDARD
TZOFFSETFROM:-0700
TZOFFSETTO:-0800
TZNAME:PST
DTSTART:20251102T090000
END:STANDARD
BEGIN:DAYLIGHT
TZOFFSETFROM:-0800
TZOFFSETTO:-0700
TZNAME:PDT
DTSTART:20260308T100000
END:DAYLIGHT
BEGIN:STANDARD
TZOFFSETFROM:-0700
TZOFFSETTO:-0800
TZNAME:PST
DTSTART:20261101T090000
END:STANDARD
BEGIN:DAYLIGHT
TZOFFSETFROM:-0800
TZOFFSETTO:-0700
TZNAME:PDT
DTSTART:20270314T100000
END:DAYLIGHT
BEGIN:STANDARD
TZOFFSETFROM:-0700
TZOFFSETTO:-0800
TZNAME:PST
DTSTART:20271107T090000
END:STANDARD
END:VTIMEZONE
BEGIN:VEVENT
DTSTART;TZID=America/Los_Angeles:20260114T190000
DTEND;TZID=America/Los_Angeles:20260114T200000
DTSTAMP:20260421T184613
CREATED:20231220T230515Z
LAST-MODIFIED:20251215T225922Z
UID:10009872-1768417200-1768420800@www.northparkchurch.org
SUMMARY:Nightly Prayer & Fasting Service - Bethany Church
DESCRIPTION:Nightly Prayer & Fasting Service\nWednesday\, January 14 – 7:00 p.m.\nHosted By Bethany Church\nIn Person: 9161 N Maple Ave\, Fresno CA 93720 \nOnline: https://www.youtube.com/bethanychurchfresno \n\nEvery night during the 21 days of Prayer and Fasting there will be a service hosted by a different church allowing us to experience the depth and diversity of congregations across our community while acknowledging that we are One Church. \nThese services will be available online or in person\, will incorporate prayer and worship\, and are a great opportunity for the Church of Fresno/Clovis to gather together in unity. \nWe invite you to join us for 1\, or 2\, or all 21 as we pray for our community and believe God together for powerful results throughout 2025 and beyond. You will be encouraged\, and you will be an encouragement to others as well! \n\nMore Resources\n\nSign up for daily email encouragement from Pastor Bob Willis guiding you during prayer and fasting\nFAQ’s\, Books and Videos about Prayer & Fasting\n\nGet more resources here: NorthparkChurch.org/fasting \n\nOther Nightly Services\nSee the full list of nightly prayer and fasting services: northparkchurch.org/series/nightly-prayer-fasting-service/ \n 
URL:https://www.northparkchurch.org/event/nightly-prayer-fasting-service-22-11/
LOCATION:Bethany Church\, 9161 N Maple Ave\, Fresno\, CA\, 93720\, United States
CATEGORIES:Fasting
ATTACH;FMTTYPE=image/jpeg:https://www.northparkchurch.org/wp-content/uploads/2021/12/NIGHTLY-PRAYER-FASTING-SERVICE-500-x-500-px-e1767913392586.jpg
GEO:36.8680987;-119.7477736
X-APPLE-STRUCTURED-LOCATION;VALUE=URI;X-ADDRESS=Bethany Church 9161 N Maple Ave Fresno CA 93720 United States;X-APPLE-RADIUS=500;X-TITLE=9161 N Maple Ave:geo:-119.7477736,36.8680987
END:VEVENT
BEGIN:VEVENT
DTSTART;TZID=America/Los_Angeles:20230118T190000
DTEND;TZID=America/Los_Angeles:20230118T200000
DTSTAMP:20260421T184613
CREATED:20221231T015452Z
LAST-MODIFIED:20221231T015452Z
UID:10008800-1674068400-1674072000@www.northparkchurch.org
SUMMARY:Nightly Prayer & Fasting Service - Bethany Church
DESCRIPTION:Nightly Prayer & Fasting Service\nWednesday\, January 18 – 7:00 p.m.\nHosted By Bethany Church\nIn Person: 9161 N Maple Ave.\, Fresno\, CA 93720 \nOnline: https://www.youtube.com/bethanychurchfresno \n\nEvery night during the 21 days of Prayer and Fasting there will be a service hosted by a different church allowing us to experience the depth and diversity of congregations across our community while acknowledging that we are One Church. \nThese services will be available online or in person\, will incorporate prayer and worship\, and are a great opportunity for the Church of Fresno/Clovis to gather together in unity. \nWe invite you to join us for 1\, or 2\, or all 21 as we pray for our community and believe God together for powerful results throughout 2022 and beyond. You will be encouraged\, and you will be an encouragement to others as well! \n\nMore Resources\n\nSign up for daily email encouragement from Pastor Bob Willis guiding you during prayer and fasting\nFAQ’s\, Books and Videos about Prayer & Fasting\n\nGet more resources here: NorthparkChurch.org/fasting \n\nOther Nightly Services\nSee the full list of nightly prayer and fasting services: northparkchurch.org/series/nightly-prayer-and-fasting-services-2023/ \n  \n 
URL:https://www.northparkchurch.org/event/nightly-prayer-fasting-service-10/
LOCATION:Bethany Church\, 9161 N Maple Ave\, Fresno\, CA\, 93720\, United States
CATEGORIES:Fasting
ATTACH;FMTTYPE=image/jpeg:https://www.northparkchurch.org/wp-content/uploads/2021/12/NIGHTLY-PRAYER-FASTING-SERVICE-500-x-500-px-e1767913392586.jpg
GEO:36.8680987;-119.7477736
X-APPLE-STRUCTURED-LOCATION;VALUE=URI;X-ADDRESS=Bethany Church 9161 N Maple Ave Fresno CA 93720 United States;X-APPLE-RADIUS=500;X-TITLE=9161 N Maple Ave:geo:-119.7477736,36.8680987
END:VEVENT
BEGIN:VEVENT
DTSTART;VALUE=DATE:20220803
DTEND;VALUE=DATE:20220804
DTSTAMP:20260421T184613
CREATED:20220724T011822Z
LAST-MODIFIED:20220803T195656Z
UID:10008205-1659484800-1659571199@www.northparkchurch.org
SUMMARY:Youth: Hot Heat Wednesday
DESCRIPTION:Wednesday\, August 3\nat Northpark \n5:00 Youth Band \n6:30 Youth Gathering: Pinata Race and Dodge Volleyball! \n**The Dodgeball Tournament at Bethany Church has been cancelled** \nSign up for REMIND texts to get details! www.NorthparkChurch.org/Youth
URL:https://www.northparkchurch.org/event/youth-dodgeball-tournament/
LOCATION:Bethany Church\, 9161 N Maple Ave\, Fresno\, CA\, 93720\, United States
CATEGORIES:Youth
ATTACH;FMTTYPE=image/jpeg:https://www.northparkchurch.org/wp-content/uploads/2020/09/1-1-e1658624550340.jpg
GEO:36.8680987;-119.7477736
X-APPLE-STRUCTURED-LOCATION;VALUE=URI;X-ADDRESS=Bethany Church 9161 N Maple Ave Fresno CA 93720 United States;X-APPLE-RADIUS=500;X-TITLE=9161 N Maple Ave:geo:-119.7477736,36.8680987
END:VEVENT
BEGIN:VEVENT
DTSTART;TZID=America/Los_Angeles:20220126T190000
DTEND;TZID=America/Los_Angeles:20220126T200000
DTSTAMP:20260421T184613
CREATED:20211222T210838Z
LAST-MODIFIED:20220125T223804Z
UID:10008102-1643223600-1643227200@www.northparkchurch.org
SUMMARY:Nightly Prayer & Fasting Service
DESCRIPTION:Nightly Prayer & Fasting Service\nWednesday\, January 26 – 7:00 p.m.\nBethany Church\nIn person: 9161 N Maple Ave\, Fresno\, CA 93720\nOnline: https://youtu.be/waa4pse3uCA​ \n\nEvery night during the 21 days of Prayer and Fasting there will be a service hosted by a different church allowing us to experience the depth and diversity of congregations across our community while acknowledging that we are One Church. \nThese services will be available online or in person\, will incorporate prayer and worship\, and are a great opportunity for the Church of Fresno/Clovis to gather together in unity. \nWe invite you to join us for 1\, or 2\, or all 21 as we pray for our community and believe God together for powerful results throughout 2022 and beyond. You will be encouraged\, and you will be an encouragement to others as well! \n\nMore Resources\n\nSign up for daily email encouragement from Pastor Bob Willis guiding you during prayer and fasting\nFAQ’s\, Books and Videos about Prayer & Fasting\n\nGet more resources here \n\nFuture Dates:\nThursday January 27 – North Fresno Church\n5724 N Fresno St\, Fresno\, CA 93710\nhttps://www.youtube.com/northfresnochurch \nFriday January 28 – The Church of Tollhouse\n27950 Tollhouse Rd\, Tollhouse\, CA 93667\nhttps://www.churchoftollhouse.org \nSaturday January 29 – Clovis Hills Church\n10590 N Willow Ave\, Clovis\, CA 93619\nhttps://www.clovishills.com \nSunday January 30 **CELEBRATION** Cornerstone Church\n1545 Fulton St\, Fresno\, CA 93721\nhttps://www.youtube.com/user/cornerstonefresno
URL:https://www.northparkchurch.org/event/nightly-prayer-fasting-services-2022-01-26/
LOCATION:Bethany Church\, 9161 N Maple Ave\, Fresno\, CA\, 93720\, United States
CATEGORIES:Fasting
ATTACH;FMTTYPE=image/jpeg:https://www.northparkchurch.org/wp-content/uploads/2021/12/NIGHTLY-PRAYER-FASTING-SERVICE-500-x-500-px-e1767913392586.jpg
GEO:36.8680987;-119.7477736
X-APPLE-STRUCTURED-LOCATION;VALUE=URI;X-ADDRESS=Bethany Church 9161 N Maple Ave Fresno CA 93720 United States;X-APPLE-RADIUS=500;X-TITLE=9161 N Maple Ave:geo:-119.7477736,36.8680987
END:VEVENT
END:VCALENDAR