BEGIN:VCALENDAR
VERSION:2.0
PRODID:-//Northpark - ECPv6.15.14//NONSGML v1.0//EN
CALSCALE:GREGORIAN
METHOD:PUBLISH
X-ORIGINAL-URL:https://www.northparkchurch.org
X-WR-CALDESC:Events for Northpark
REFRESH-INTERVAL;VALUE=DURATION:PT1H
X-Robots-Tag:noindex
X-PUBLISHED-TTL:PT1H
BEGIN:VTIMEZONE
TZID:America/Los_Angeles
BEGIN:DAYLIGHT
TZOFFSETFROM:-0800
TZOFFSETTO:-0700
TZNAME:PDT
DTSTART:20230312T100000
END:DAYLIGHT
BEGIN:STANDARD
TZOFFSETFROM:-0700
TZOFFSETTO:-0800
TZNAME:PST
DTSTART:20231105T090000
END:STANDARD
BEGIN:DAYLIGHT
TZOFFSETFROM:-0800
TZOFFSETTO:-0700
TZNAME:PDT
DTSTART:20240310T100000
END:DAYLIGHT
BEGIN:STANDARD
TZOFFSETFROM:-0700
TZOFFSETTO:-0800
TZNAME:PST
DTSTART:20241103T090000
END:STANDARD
BEGIN:DAYLIGHT
TZOFFSETFROM:-0800
TZOFFSETTO:-0700
TZNAME:PDT
DTSTART:20250309T100000
END:DAYLIGHT
BEGIN:STANDARD
TZOFFSETFROM:-0700
TZOFFSETTO:-0800
TZNAME:PST
DTSTART:20251102T090000
END:STANDARD
END:VTIMEZONE
BEGIN:VEVENT
DTSTART;TZID=America/Los_Angeles:20240428T113000
DTEND;TZID=America/Los_Angeles:20240428T123000
DTSTAMP:20260423T015636
CREATED:20240329T004031Z
LAST-MODIFIED:20240426T173240Z
UID:10009959-1714303800-1714307400@www.northparkchurch.org
SUMMARY:Bible Recap Group Study
DESCRIPTION:BIBLE RECAP GROUP STUDY \nSunday\, April 28\, 11:30 a.m. in Room 202\n*This meeting has been rescheduled from the originally scheduled date of 4/21/24 \nIf you are part of the daily Bible reading plan ‘The Bible Recap’ (or if you are interested in joining us as we read through the Bible) join us as we discuss the Bible readings and get to know one another. \nGet more info: NorthparkChurch.org/Bible.
URL:https://www.northparkchurch.org/event/bible-recap-group-study-2/
LOCATION:Northpark Community Church\, 2297 E. Shepherd Ave.\, Fresno\, CA\, 93720\, United States
CATEGORIES:Church Event,Small Group
ATTACH;FMTTYPE=image/jpeg:https://www.northparkchurch.org/wp-content/uploads/2024/01/Bible-Recap-Square-e1705221374212.jpg
ORGANIZER;CN="Nicole Liberta":MAILTO:nicole@northparkcc.org
GEO:36.8657759;-119.741738
X-APPLE-STRUCTURED-LOCATION;VALUE=URI;X-ADDRESS=Northpark Community Church 2297 E. Shepherd Ave. Fresno CA 93720 United States;X-APPLE-RADIUS=500;X-TITLE=2297 E. Shepherd Ave.:geo:-119.741738,36.8657759
END:VEVENT
BEGIN:VEVENT
DTSTART;TZID=America/Los_Angeles:20240204T113000
DTEND;TZID=America/Los_Angeles:20240204T120000
DTSTAMP:20260423T015636
CREATED:20240114T083523Z
LAST-MODIFIED:20240114T083719Z
UID:10009901-1707046200-1707048000@www.northparkchurch.org
SUMMARY:Read the Bible in 2024 - Info Meeting
DESCRIPTION:Join us as we read through the Bible together in 2024!\nInfo Meeting: The Bible Recap \nSunday\, February 4\, 2024\n11:30 a.m. Room 202 \nDo you want to read\, understand\, and love Scripture? This one-year chronological reading plan corresponds to The Bible Recap. In the podcast\, video\, or book form\, Tara-Leigh Cobble highlights and summarizes each day’s Bible reading in a casual\, easy to understand way. The Bible Recap will not only help you read scripture but help you love reading it! \nGet all the details at this info meeting – including hearing more about the Bible reading plan\, ‘The Bible Recap’\, hear the experiences of those who have used this plan\, and get tips on how to be successful. \n\nFIND OUT MORE
URL:https://www.northparkchurch.org/event/biblerecap/
LOCATION:Northpark Community Church\, 2297 E. Shepherd Ave.\, Fresno\, CA\, 93720\, United States
CATEGORIES:Church Event
ATTACH;FMTTYPE=image/jpeg:https://www.northparkchurch.org/wp-content/uploads/2024/01/Bible-Recap-Square-e1705221374212.jpg
ORGANIZER;CN="Nicole Liberta":MAILTO:nicole@northparkcc.org
GEO:36.8657759;-119.741738
X-APPLE-STRUCTURED-LOCATION;VALUE=URI;X-ADDRESS=Northpark Community Church 2297 E. Shepherd Ave. Fresno CA 93720 United States;X-APPLE-RADIUS=500;X-TITLE=2297 E. Shepherd Ave.:geo:-119.741738,36.8657759
END:VEVENT
END:VCALENDAR