BEGIN:VCALENDAR
VERSION:2.0
PRODID:-//Northpark - ECPv6.15.14//NONSGML v1.0//EN
CALSCALE:GREGORIAN
METHOD:PUBLISH
X-WR-CALNAME:Northpark
X-ORIGINAL-URL:https://www.northparkchurch.org
X-WR-CALDESC:Events for Northpark
REFRESH-INTERVAL;VALUE=DURATION:PT1H
X-Robots-Tag:noindex
X-PUBLISHED-TTL:PT1H
BEGIN:VTIMEZONE
TZID:America/Los_Angeles
BEGIN:DAYLIGHT
TZOFFSETFROM:-0800
TZOFFSETTO:-0700
TZNAME:PDT
DTSTART:20220313T100000
END:DAYLIGHT
BEGIN:STANDARD
TZOFFSETFROM:-0700
TZOFFSETTO:-0800
TZNAME:PST
DTSTART:20221106T090000
END:STANDARD
BEGIN:DAYLIGHT
TZOFFSETFROM:-0800
TZOFFSETTO:-0700
TZNAME:PDT
DTSTART:20230312T100000
END:DAYLIGHT
BEGIN:STANDARD
TZOFFSETFROM:-0700
TZOFFSETTO:-0800
TZNAME:PST
DTSTART:20231105T090000
END:STANDARD
BEGIN:DAYLIGHT
TZOFFSETFROM:-0800
TZOFFSETTO:-0700
TZNAME:PDT
DTSTART:20240310T100000
END:DAYLIGHT
BEGIN:STANDARD
TZOFFSETFROM:-0700
TZOFFSETTO:-0800
TZNAME:PST
DTSTART:20241103T090000
END:STANDARD
END:VTIMEZONE
BEGIN:VEVENT
DTSTART;TZID=America/Los_Angeles:20230625T093000
DTEND;TZID=America/Los_Angeles:20230625T113000
DTSTAMP:20260421T045748
CREATED:20230606T212341Z
LAST-MODIFIED:20230606T212718Z
UID:10008939-1687685400-1687692600@www.northparkchurch.org
SUMMARY:BBQ Hot Dog Lunch
DESCRIPTION:Sunday\, June 25\, 2023\nImmediately Following 9:30 a.m. Service\nEnjoy a FREE BBQ hot dog lunch after service. Bring your friends and family for a fun time of fellowship and food! \nThank you to our Men’s Ministry grilling team for cooking for us! \n\nUpcoming Food & Fun:\nSunday\, July 23\, 2023 – Breakfast Burritos in the courtyard before/after church \nSaturday\, August 19\, 2023 – Pancake Breakfast\, Water Slides and Fun (9am – Noon)
URL:https://www.northparkchurch.org/event/bbq-hot-dog-lunch/
LOCATION:Northpark Community Church\, 2297 E. Shepherd Ave.\, Fresno\, CA\, 93720\, United States
CATEGORIES:Children,Church Event,Men's Ministry,Youth
ATTACH;FMTTYPE=image/jpeg:https://www.northparkchurch.org/wp-content/uploads/2023/06/BBQ-at-Northpark.jpg
GEO:36.8657759;-119.741738
X-APPLE-STRUCTURED-LOCATION;VALUE=URI;X-ADDRESS=Northpark Community Church 2297 E. Shepherd Ave. Fresno CA 93720 United States;X-APPLE-RADIUS=500;X-TITLE=2297 E. Shepherd Ave.:geo:-119.741738,36.8657759
END:VEVENT
BEGIN:VEVENT
DTSTART;TZID=America/Los_Angeles:20230628T100000
DTEND;TZID=America/Los_Angeles:20230628T113000
DTSTAMP:20260421T045748
CREATED:20230427T164534Z
LAST-MODIFIED:20230427T164622Z
UID:10008922-1687946400-1687951800@www.northparkchurch.org
SUMMARY:Wednesday Morning Women's Bible Study
DESCRIPTION:April 26 – June 28\, 2023\nWednesdays @ 10:00 am\nNorthpark Room 101 \nLadies\, join us as we study the book of Colossians using the study guide ‘Jesus Christ our All in All’ by Chuck Swindoll. \nBring your Bible and invite a friend! \nThis study is facilitated by Margarita Navarrette. For more information\, contact the church office\, 559-322-7200 or info@northparkcc.org.
URL:https://www.northparkchurch.org/event/wednesday-morning-womens-bible-study-4/2023-06-28/
LOCATION:Northpark Community Church\, 2297 E. Shepherd Ave.\, Fresno\, CA\, 93720\, United States
CATEGORIES:Women's Ministry
ATTACH;FMTTYPE=image/jpeg:https://www.northparkchurch.org/wp-content/uploads/2021/08/Womens-Bible-Study-Square.jpg
GEO:36.8657759;-119.741738
X-APPLE-STRUCTURED-LOCATION;VALUE=URI;X-ADDRESS=Northpark Community Church 2297 E. Shepherd Ave. Fresno CA 93720 United States;X-APPLE-RADIUS=500;X-TITLE=2297 E. Shepherd Ave.:geo:-119.741738,36.8657759
END:VEVENT
BEGIN:VEVENT
DTSTART;TZID=America/Los_Angeles:20230628T190000
DTEND;TZID=America/Los_Angeles:20230628T203000
DTSTAMP:20260421T045748
CREATED:20230607T171813Z
LAST-MODIFIED:20230607T171909Z
UID:10008942-1687978800-1687984200@www.northparkchurch.org
SUMMARY:Wednesday Night Youth - Pool Party
DESCRIPTION:Jr. High and High School students YOU are invited! \nWednesday Night Youth\n7:00 – 8:30 p.m.\nPool Party at the Tatham’s Home\nFor more information or directions\, contact Pastor Jacob Stout\, Jacob@Northparkcc.org
URL:https://www.northparkchurch.org/event/wednesday-night-youth-2/
LOCATION:Northpark Community Church\, 2297 E. Shepherd Ave.\, Fresno\, CA\, 93720\, United States
CATEGORIES:Youth
ATTACH;FMTTYPE=image/jpeg:https://www.northparkchurch.org/wp-content/uploads/2023/06/Summer-Youth.jpg
ORGANIZER;CN="Jacob Stout":MAILTO:Jacob@Northparkcc.org
GEO:36.8657759;-119.741738
X-APPLE-STRUCTURED-LOCATION;VALUE=URI;X-ADDRESS=Northpark Community Church 2297 E. Shepherd Ave. Fresno CA 93720 United States;X-APPLE-RADIUS=500;X-TITLE=2297 E. Shepherd Ave.:geo:-119.741738,36.8657759
END:VEVENT
BEGIN:VEVENT
DTSTART;TZID=America/Los_Angeles:20230629T180000
DTEND;TZID=America/Los_Angeles:20230629T190000
DTSTAMP:20260421T045748
CREATED:20221222T214358Z
LAST-MODIFIED:20231220T213031Z
UID:10008931-1688061600-1688065200@www.northparkchurch.org
SUMMARY:Women's Beginner Yoga
DESCRIPTION:Thursdays | 6:00 – 7:15 p.m.\nNorthpark Community Church\, Room 203 \nAll ages and skill levels are welcome! \nThis class is facilitated by certified yoga instructor\, Cheryl Tristan. \nAs we cope with the stressors of life\, including anxiety and isolation\, yoga is a great way to draw closer to God and practice self-care through movement\, breathing and balance.  Modifications can be made as needed so that you can find movement and gain mobility. \nBring a yoga mat\, water and any yoga props you want (blocks etc.) Some loaner items will be available if needed. \nSpace is limited\, sign up in advance. \nClick the link below or contact Cheryl at 559-907-5303. \nRegister Online Now
URL:https://www.northparkchurch.org/event/womens-beginner-yoga/2023-06-29/
LOCATION:Northpark Community Church\, 2297 E. Shepherd Ave.\, Fresno\, CA\, 93720\, United States
CATEGORIES:Church Event,Women's Ministry
ATTACH;FMTTYPE=image/jpeg:https://www.northparkchurch.org/wp-content/uploads/2022/05/yoga-square-e1653233022519.jpg
GEO:36.8657759;-119.741738
X-APPLE-STRUCTURED-LOCATION;VALUE=URI;X-ADDRESS=Northpark Community Church 2297 E. Shepherd Ave. Fresno CA 93720 United States;X-APPLE-RADIUS=500;X-TITLE=2297 E. Shepherd Ave.:geo:-119.741738,36.8657759
END:VEVENT
END:VCALENDAR