BEGIN:VCALENDAR
VERSION:2.0
PRODID:-//Northpark - ECPv6.15.14//NONSGML v1.0//EN
CALSCALE:GREGORIAN
METHOD:PUBLISH
X-WR-CALNAME:Northpark
X-ORIGINAL-URL:https://www.northparkchurch.org
X-WR-CALDESC:Events for Northpark
REFRESH-INTERVAL;VALUE=DURATION:PT1H
X-Robots-Tag:noindex
X-PUBLISHED-TTL:PT1H
BEGIN:VTIMEZONE
TZID:America/Los_Angeles
BEGIN:DAYLIGHT
TZOFFSETFROM:-0800
TZOFFSETTO:-0700
TZNAME:PDT
DTSTART:20210314T100000
END:DAYLIGHT
BEGIN:STANDARD
TZOFFSETFROM:-0700
TZOFFSETTO:-0800
TZNAME:PST
DTSTART:20211107T090000
END:STANDARD
BEGIN:DAYLIGHT
TZOFFSETFROM:-0800
TZOFFSETTO:-0700
TZNAME:PDT
DTSTART:20220313T100000
END:DAYLIGHT
BEGIN:STANDARD
TZOFFSETFROM:-0700
TZOFFSETTO:-0800
TZNAME:PST
DTSTART:20221106T090000
END:STANDARD
BEGIN:DAYLIGHT
TZOFFSETFROM:-0800
TZOFFSETTO:-0700
TZNAME:PDT
DTSTART:20230312T100000
END:DAYLIGHT
BEGIN:STANDARD
TZOFFSETFROM:-0700
TZOFFSETTO:-0800
TZNAME:PST
DTSTART:20231105T090000
END:STANDARD
END:VTIMEZONE
BEGIN:VEVENT
DTSTART;TZID=America/Los_Angeles:20220622T150000
DTEND;TZID=America/Los_Angeles:20220622T160000
DTSTAMP:20260420T015038
CREATED:20210228T212352Z
LAST-MODIFIED:20230125T232738Z
UID:10008051-1655910000-1655913600@www.northparkchurch.org
SUMMARY:Small Group Online with Pastor Bob Fuller
DESCRIPTION:JOIN PASTOR BOB FULLER FOR A VIRTUAL SMALL GROUP!\nCONNECT with others | LEARN something new | GROW in your faith \nThis is a great way to connect with others\, while also growing spiritually as we dig into Sunday’s talk a little more.  Our format will include introductions\, some discussion regarding Sunday’s talk\, additional resources\, and prayer. \nYou are welcome to join anytime! \nThis small group will be hosted on ZOOM. \n\nREQUEST ACCESS\nYou must send an email to Pastor Bob Fuller to request access to the password protected meeting room. \nRequest Access \n\nUSING ZOOM\nZoom is easy to use\, and can be used on a Computer\, Laptop\, Chromebook\, Tablet\, or Smartphone. \nSimply create your free account by either going to the Zoom website (zoom.us) or downloading the app on your smart device and search for the “Zoom Cloud Meetings” app\, its logo is a white camera on a blue background. \nZoom Website  |  Download Zoom Mobile App\n(or search “Zoom Cloud Meetings” in your app store – white camera on a blue background logo) \nSecurity features will be enabled to ensure that only those who request access will be able to join.
URL:https://www.northparkchurch.org/event/small-group-online-with-pastor-bob-fuller/2022-06-22/
LOCATION:CA\, United States
CATEGORIES:Online,Small Group
ATTACH;FMTTYPE=image/jpeg:https://www.northparkchurch.org/wp-content/uploads/2021/02/Small-Groups-Online-500-x-500-px.jpg
ORGANIZER;CN="Pastor Bob Fuller":MAILTO:bfuller@northparkcc.org
GEO:36.778261;-119.4179324
END:VEVENT
BEGIN:VEVENT
DTSTART;TZID=America/Los_Angeles:20220622T183000
DTEND;TZID=America/Los_Angeles:20220622T203000
DTSTAMP:20260420T015038
CREATED:20220323T210830Z
LAST-MODIFIED:20220526T174905Z
UID:10008152-1655922600-1655929800@www.northparkchurch.org
SUMMARY:Financial Peace University
DESCRIPTION:June 22 – August 17\, 2022\nWednesdays\, 6:30 – 8:30 p.m.\nat Northpark Community Church \nFinancial Peace University is a nine-lesson course that teaches you how to save for emergencies\, pay off debt fast\, spend wisely\, and invest for your future. And no complicated financial blah blah blah over here. For over 25 years\, Dave Ramsey’s been teaching commonsense\, biblical money principles that work. Every time. \nAre you ready to succeed financially? \nSessions include practical how to advice on: \n\nBudgeting\nPaying off debt\nCreating an emergency fund\nInvesting for retirement\nSaving for kids college\nRecognizing sneaky marketing tactics\nUnderstanding insurance and which ones you need\nBuilding wealth\nUnderstanding real estate and mortgages\nLiving with outrageous generosity\n\nSIGN UP NOW\nReady to sign up?  JOIN NOW \nYou will need to choose a payment option – 3\, 6\, or 12 month membership. This will give you access to all the Financial Peace materials (you can cancel at any time\, and it includes a 14 day trial period). \nNEED MORE INFOMATION?\nGot questions? We’re here to help! \n\n 
URL:https://www.northparkchurch.org/event/financial-peace-university/
LOCATION:Northpark Community Church\, 2297 E. Shepherd Ave.\, Fresno\, CA\, 93720\, United States
ATTACH;FMTTYPE=image/jpeg:https://www.northparkchurch.org/wp-content/uploads/2022/03/Financial-peace-University.jpg
ORGANIZER;CN="Pastor Bob Fuller":MAILTO:bfuller@northparkcc.org
GEO:36.8657759;-119.741738
X-APPLE-STRUCTURED-LOCATION;VALUE=URI;X-ADDRESS=Northpark Community Church 2297 E. Shepherd Ave. Fresno CA 93720 United States;X-APPLE-RADIUS=500;X-TITLE=2297 E. Shepherd Ave.:geo:-119.741738,36.8657759
END:VEVENT
END:VCALENDAR