BEGIN:VCALENDAR
VERSION:2.0
PRODID:-//Northpark - ECPv6.15.14//NONSGML v1.0//EN
CALSCALE:GREGORIAN
METHOD:PUBLISH
X-WR-CALNAME:Northpark
X-ORIGINAL-URL:https://www.northparkchurch.org
X-WR-CALDESC:Events for Northpark
REFRESH-INTERVAL;VALUE=DURATION:PT1H
X-Robots-Tag:noindex
X-PUBLISHED-TTL:PT1H
BEGIN:VTIMEZONE
TZID:America/Los_Angeles
BEGIN:DAYLIGHT
TZOFFSETFROM:-0800
TZOFFSETTO:-0700
TZNAME:PDT
DTSTART:20210314T100000
END:DAYLIGHT
BEGIN:STANDARD
TZOFFSETFROM:-0700
TZOFFSETTO:-0800
TZNAME:PST
DTSTART:20211107T090000
END:STANDARD
BEGIN:DAYLIGHT
TZOFFSETFROM:-0800
TZOFFSETTO:-0700
TZNAME:PDT
DTSTART:20220313T100000
END:DAYLIGHT
BEGIN:STANDARD
TZOFFSETFROM:-0700
TZOFFSETTO:-0800
TZNAME:PST
DTSTART:20221106T090000
END:STANDARD
BEGIN:DAYLIGHT
TZOFFSETFROM:-0800
TZOFFSETTO:-0700
TZNAME:PDT
DTSTART:20230312T100000
END:DAYLIGHT
BEGIN:STANDARD
TZOFFSETFROM:-0700
TZOFFSETTO:-0800
TZNAME:PST
DTSTART:20231105T090000
END:STANDARD
END:VTIMEZONE
BEGIN:VEVENT
DTSTART;TZID=America/Los_Angeles:20220517T183000
DTEND;TZID=America/Los_Angeles:20220517T200000
DTSTAMP:20260420T223759
CREATED:20220414T064723Z
LAST-MODIFIED:20220414T064723Z
UID:10008159-1652812200-1652817600@www.northparkchurch.org
SUMMARY:Women's Bible Study: Take Courage
DESCRIPTION:Tuesday Evening Women’s Bible Study\nTake Courage: A Study of Haggai by Jennifer Rothschild \nThis 7 week video series Bible study will be facilitated by Maryellen Willis – we hope YOU will join us! \n*If you need childcare\, please contact us so that we can make the necessary arrangements! \n\n \nFrom www.jenniferrothschild.com: \nIn this 7-session study on the Book of Haggai\, learn to walk confidently in your calling\, stay motivated despite opposition\, and courageously invest your life in God’s purposes\, trusting Him for results you may never see in this lifetime. \nThrough this Bible study\, you will: \n\nDefeat discouragement through God’s presence\, people\, and Word.\nSee beyond your current circumstances to a future hope.\nLearn to trust God more than your feelings.
URL:https://www.northparkchurch.org/event/womens-bible-study-take-courage/2022-05-17/
LOCATION:Northpark Community Church\, 2297 E. Shepherd Ave.\, Fresno\, CA\, 93720\, United States
CATEGORIES:Women's Ministry
ATTACH;FMTTYPE=image/jpeg:https://www.northparkchurch.org/wp-content/uploads/2021/08/Womens-Bible-Study-Square.jpg
ORGANIZER;CN="Maryellen Willis":MAILTO:maryellen@nonnieshouseboutique.com
GEO:36.8657759;-119.741738
X-APPLE-STRUCTURED-LOCATION;VALUE=URI;X-ADDRESS=Northpark Community Church 2297 E. Shepherd Ave. Fresno CA 93720 United States;X-APPLE-RADIUS=500;X-TITLE=2297 E. Shepherd Ave.:geo:-119.741738,36.8657759
END:VEVENT
BEGIN:VEVENT
DTSTART;TZID=America/Los_Angeles:20220518T150000
DTEND;TZID=America/Los_Angeles:20220518T160000
DTSTAMP:20260420T223759
CREATED:20210228T212352Z
LAST-MODIFIED:20230125T232738Z
UID:10008046-1652886000-1652889600@www.northparkchurch.org
SUMMARY:Small Group Online with Pastor Bob Fuller
DESCRIPTION:JOIN PASTOR BOB FULLER FOR A VIRTUAL SMALL GROUP!\nCONNECT with others | LEARN something new | GROW in your faith \nThis is a great way to connect with others\, while also growing spiritually as we dig into Sunday’s talk a little more.  Our format will include introductions\, some discussion regarding Sunday’s talk\, additional resources\, and prayer. \nYou are welcome to join anytime! \nThis small group will be hosted on ZOOM. \n\nREQUEST ACCESS\nYou must send an email to Pastor Bob Fuller to request access to the password protected meeting room. \nRequest Access \n\nUSING ZOOM\nZoom is easy to use\, and can be used on a Computer\, Laptop\, Chromebook\, Tablet\, or Smartphone. \nSimply create your free account by either going to the Zoom website (zoom.us) or downloading the app on your smart device and search for the “Zoom Cloud Meetings” app\, its logo is a white camera on a blue background. \nZoom Website  |  Download Zoom Mobile App\n(or search “Zoom Cloud Meetings” in your app store – white camera on a blue background logo) \nSecurity features will be enabled to ensure that only those who request access will be able to join.
URL:https://www.northparkchurch.org/event/small-group-online-with-pastor-bob-fuller/2022-05-18/
LOCATION:CA\, United States
CATEGORIES:Online,Small Group
ATTACH;FMTTYPE=image/jpeg:https://www.northparkchurch.org/wp-content/uploads/2021/02/Small-Groups-Online-500-x-500-px.jpg
ORGANIZER;CN="Pastor Bob Fuller":MAILTO:bfuller@northparkcc.org
GEO:36.778261;-119.4179324
END:VEVENT
BEGIN:VEVENT
DTSTART;TZID=America/Los_Angeles:20220518T180000
DTEND;TZID=America/Los_Angeles:20220518T200000
DTSTAMP:20260420T223759
CREATED:20220121T235344Z
LAST-MODIFIED:20220414T070734Z
UID:10008118-1652896800-1652904000@www.northparkchurch.org
SUMMARY:ALPHA at Northpark
DESCRIPTION:HAVE YOU EVER WONDERED\, “WHERE IS GOD?”\nJoin us at Northpark on Wednesday nights as we have conversations about faith\, life and God. \nALPHA AT NORTHPARK COMMUNITY CHURCH\nFebruary 16 – March 23\, 2022\nand\nApril 27 -May 18\, 2022 \n6:00 Free Dinner\n6:30 Classes for all ages \nDinner provided  | Classes for kids and youth at the same time \nFIND OUT MORE or REGISTER NOW
URL:https://www.northparkchurch.org/event/alpha/2022-05-18/
LOCATION:Northpark Community Church\, 2297 E. Shepherd Ave.\, Fresno\, CA\, 93720\, United States
CATEGORIES:Church Event,Older Adults,Small Group,Wednesday Night,Young Adult,Youth
ATTACH;FMTTYPE=image/png:https://www.northparkchurch.org/wp-content/uploads/2022/02/alpha-logo-transparent-background-e1644104689716.png
GEO:36.8657759;-119.741738
X-APPLE-STRUCTURED-LOCATION;VALUE=URI;X-ADDRESS=Northpark Community Church 2297 E. Shepherd Ave. Fresno CA 93720 United States;X-APPLE-RADIUS=500;X-TITLE=2297 E. Shepherd Ave.:geo:-119.741738,36.8657759
END:VEVENT
BEGIN:VEVENT
DTSTART;TZID=America/Los_Angeles:20220519T183000
DTEND;TZID=America/Los_Angeles:20220519T200000
DTSTAMP:20260420T223759
CREATED:20220512T231029Z
LAST-MODIFIED:20220512T231029Z
UID:10008173-1652985000-1652990400@www.northparkchurch.org
SUMMARY:High School Seniors Grad Dinner
DESCRIPTION:High School seniors – we want to celebrate YOU! \nIf you are graduating this year OR graduated last year\, please let us know so we can send you an invitation to this dinner honoring YOU!
URL:https://www.northparkchurch.org/event/high-school-seniors-grad-dinner/
LOCATION:CA
CATEGORIES:Youth
ATTACH;FMTTYPE=image/png:https://www.northparkchurch.org/wp-content/uploads/2021/05/grad-cap.png
ORGANIZER;CN="Kerry Belfiore":MAILTO:Kerry@NorthparkCC.org
END:VEVENT
BEGIN:VEVENT
DTSTART;TZID=America/Los_Angeles:20220520T181500
DTEND;TZID=America/Los_Angeles:20220520T200000
DTSTAMP:20260420T223800
CREATED:20220414T070308Z
LAST-MODIFIED:20220505T233042Z
UID:10008164-1653070500-1653076800@www.northparkchurch.org
SUMMARY:Ladies FUN Night: Succulents
DESCRIPTION:Friday\, May 20\, 2022\n6:15 – 8:00 p.m.\nNorthpark Community Church\, Room 202 \nCost: $25 \nDon’t miss your chance to create a unique succulent planter. Treat yourself (and a friend) to a night out filled with great conversation\, creativity\, laughter\, and of course\, dessert! Not only will you take home a cute plant\, you’ll also take home some fun memories and new friendships. \nFor more information or to sign up for this event\, contact Kim Tatham at 559-900-5035 or stop by the Women’s Ministry cart in the courtyard on Sunday morning. \nOption 1 – Bird House \nOption 2 – Pink Clay Pot \n 
URL:https://www.northparkchurch.org/event/ladies-fun-night-succulents/
LOCATION:Northpark Community Church\, 2297 E. Shepherd Ave.\, Fresno\, CA\, 93720\, United States
CATEGORIES:Women's Ministry
ATTACH;FMTTYPE=image/jpeg:https://www.northparkchurch.org/wp-content/uploads/2022/04/Succulent-Night.jpg
GEO:36.8657759;-119.741738
X-APPLE-STRUCTURED-LOCATION;VALUE=URI;X-ADDRESS=Northpark Community Church 2297 E. Shepherd Ave. Fresno CA 93720 United States;X-APPLE-RADIUS=500;X-TITLE=2297 E. Shepherd Ave.:geo:-119.741738,36.8657759
END:VEVENT
END:VCALENDAR