BEGIN:VCALENDAR
VERSION:2.0
PRODID:-//Northpark - ECPv6.15.14//NONSGML v1.0//EN
CALSCALE:GREGORIAN
METHOD:PUBLISH
X-ORIGINAL-URL:https://www.northparkchurch.org
X-WR-CALDESC:Events for Northpark
REFRESH-INTERVAL;VALUE=DURATION:PT1H
X-Robots-Tag:noindex
X-PUBLISHED-TTL:PT1H
BEGIN:VTIMEZONE
TZID:America/Los_Angeles
BEGIN:DAYLIGHT
TZOFFSETFROM:-0800
TZOFFSETTO:-0700
TZNAME:PDT
DTSTART:20210314T100000
END:DAYLIGHT
BEGIN:STANDARD
TZOFFSETFROM:-0700
TZOFFSETTO:-0800
TZNAME:PST
DTSTART:20211107T090000
END:STANDARD
BEGIN:DAYLIGHT
TZOFFSETFROM:-0800
TZOFFSETTO:-0700
TZNAME:PDT
DTSTART:20220313T100000
END:DAYLIGHT
BEGIN:STANDARD
TZOFFSETFROM:-0700
TZOFFSETTO:-0800
TZNAME:PST
DTSTART:20221106T090000
END:STANDARD
BEGIN:DAYLIGHT
TZOFFSETFROM:-0800
TZOFFSETTO:-0700
TZNAME:PDT
DTSTART:20230312T100000
END:DAYLIGHT
BEGIN:STANDARD
TZOFFSETFROM:-0700
TZOFFSETTO:-0800
TZNAME:PST
DTSTART:20231105T090000
END:STANDARD
END:VTIMEZONE
BEGIN:VEVENT
DTSTART;TZID=America/Los_Angeles:20220330T150000
DTEND;TZID=America/Los_Angeles:20220330T160000
DTSTAMP:20260421T131922
CREATED:20210228T212352Z
LAST-MODIFIED:20230125T232738Z
UID:10008039-1648652400-1648656000@www.northparkchurch.org
SUMMARY:Small Group Online with Pastor Bob Fuller
DESCRIPTION:JOIN PASTOR BOB FULLER FOR A VIRTUAL SMALL GROUP!\nCONNECT with others | LEARN something new | GROW in your faith \nThis is a great way to connect with others\, while also growing spiritually as we dig into Sunday’s talk a little more.  Our format will include introductions\, some discussion regarding Sunday’s talk\, additional resources\, and prayer. \nYou are welcome to join anytime! \nThis small group will be hosted on ZOOM. \n\nREQUEST ACCESS\nYou must send an email to Pastor Bob Fuller to request access to the password protected meeting room. \nRequest Access \n\nUSING ZOOM\nZoom is easy to use\, and can be used on a Computer\, Laptop\, Chromebook\, Tablet\, or Smartphone. \nSimply create your free account by either going to the Zoom website (zoom.us) or downloading the app on your smart device and search for the “Zoom Cloud Meetings” app\, its logo is a white camera on a blue background. \nZoom Website  |  Download Zoom Mobile App\n(or search “Zoom Cloud Meetings” in your app store – white camera on a blue background logo) \nSecurity features will be enabled to ensure that only those who request access will be able to join.
URL:https://www.northparkchurch.org/event/small-group-online-with-pastor-bob-fuller/2022-03-30/
LOCATION:CA\, United States
CATEGORIES:Online,Small Group
ATTACH;FMTTYPE=image/jpeg:https://www.northparkchurch.org/wp-content/uploads/2021/02/Small-Groups-Online-500-x-500-px.jpg
ORGANIZER;CN="Pastor Bob Fuller":MAILTO:bfuller@northparkcc.org
GEO:36.778261;-119.4179324
END:VEVENT
BEGIN:VEVENT
DTSTART;TZID=America/Los_Angeles:20220330T180000
DTEND;TZID=America/Los_Angeles:20220330T200000
DTSTAMP:20260421T131922
CREATED:20220320T042202Z
LAST-MODIFIED:20220912T181401Z
UID:10008147-1648663200-1648670400@www.northparkchurch.org
SUMMARY:Parent Workshop
DESCRIPTION:Being a parent is tough… but we’ve got your back! \nParents of kids from birth through high school are invited to join us for these workshops where experts will share resources and insight. \nThese are free events\, but please REGISTER IN ADVANCE so we can plan appropriately. Registration form is below. \n\nWEDNESDAY\, MARCH 30\, 2022\n6:00 FREE DINNER | 6:30 P.M. WORKSHOP\nDr. Ryan Eisele\, Clovis Unified School District\nPrincipal\, Clovis East High School & Reyburn Intermediate \nJosh Turpin\, Clovis Unified School District\nGuidance Instructional Specialist\, Maple Creek Elementary \nExperts in the field of education will be here to discuss and answer questions about the social and emotional well-being of students and what they have experienced over the past several years. Our speakers will share tips for academic success in today’s environment\, give insights to parents about how to partner with their kids/teens in regards to learning\, and help parents navigate the challenges they may be facing. \nREGISTER NOW:\n\n\nNext Week:\nWEDNESDAY\, APRIL 6\, 2020\n6:00 FREE DINNER | 6:30 P.M. WORKSHOP\nKaren D. Wood\nClinical Social Work / Therapist\, MSW\, LCSW\nClear Thinking Counseling Alliance\nBrain Training & Behavioral Counseling \nCandi Maur\nChildren’s Ministry Pastor\nNorthpark Community Church\, Fresno CA \nWhy do we respond the way we do? Why do kids respond the way they do? This session will help parents have more insight into living life with clear\, concise thinking in any situation and in every relationship. Also\, resources will be shared on how to guide your kids spiritually in an increasingly challenging environment. \n 
URL:https://www.northparkchurch.org/event/parent-workshop/
LOCATION:Northpark Community Church\, 2297 E. Shepherd Ave.\, Fresno\, CA\, 93720\, United States
CATEGORIES:Children,Church Event,Men's Ministry,Preteen,Women's Ministry,Youth
ATTACH;FMTTYPE=image/jpeg:https://www.northparkchurch.org/wp-content/uploads/2022/03/1.jpg
ORGANIZER;CN="Pastor Candi Maur":MAILTO:Candi@NorthparkCC.org
GEO:36.8657759;-119.741738
X-APPLE-STRUCTURED-LOCATION;VALUE=URI;X-ADDRESS=Northpark Community Church 2297 E. Shepherd Ave. Fresno CA 93720 United States;X-APPLE-RADIUS=500;X-TITLE=2297 E. Shepherd Ave.:geo:-119.741738,36.8657759
END:VEVENT
END:VCALENDAR