BEGIN:VCALENDAR
VERSION:2.0
PRODID:-//Northpark - ECPv6.15.14//NONSGML v1.0//EN
CALSCALE:GREGORIAN
METHOD:PUBLISH
X-ORIGINAL-URL:https://www.northparkchurch.org
X-WR-CALDESC:Events for Northpark
REFRESH-INTERVAL;VALUE=DURATION:PT1H
X-Robots-Tag:noindex
X-PUBLISHED-TTL:PT1H
BEGIN:VTIMEZONE
TZID:America/Los_Angeles
BEGIN:DAYLIGHT
TZOFFSETFROM:-0800
TZOFFSETTO:-0700
TZNAME:PDT
DTSTART:20260308T100000
END:DAYLIGHT
BEGIN:STANDARD
TZOFFSETFROM:-0700
TZOFFSETTO:-0800
TZNAME:PST
DTSTART:20261101T090000
END:STANDARD
BEGIN:DAYLIGHT
TZOFFSETFROM:-0800
TZOFFSETTO:-0700
TZNAME:PDT
DTSTART:20270314T100000
END:DAYLIGHT
BEGIN:STANDARD
TZOFFSETFROM:-0700
TZOFFSETTO:-0800
TZNAME:PST
DTSTART:20271107T090000
END:STANDARD
BEGIN:DAYLIGHT
TZOFFSETFROM:-0800
TZOFFSETTO:-0700
TZNAME:PDT
DTSTART:20280312T100000
END:DAYLIGHT
BEGIN:STANDARD
TZOFFSETFROM:-0700
TZOFFSETTO:-0800
TZNAME:PST
DTSTART:20281105T090000
END:STANDARD
END:VTIMEZONE
BEGIN:VEVENT
DTSTART;TZID=America/Los_Angeles:20270225T120000
DTEND;TZID=America/Los_Angeles:20270225T133000
DTSTAMP:20260421T174723
CREATED:20250410T210218Z
LAST-MODIFIED:20260205T221155Z
UID:10010793-1803556800-1803562200@www.northparkchurch.org
SUMMARY:Men's Bible Study
DESCRIPTION:Every Thursday at 12:00 p.m. at The Well Coffeehouse\, 327 Nees Avenue\, Clovis. For more information at 559-940-4789 call Chris Doda.
URL:https://www.northparkchurch.org/event/new-mens-bible-study/2027-02-25/
CATEGORIES:Men's Ministry
ATTACH;FMTTYPE=image/jpeg:https://www.northparkchurch.org/wp-content/uploads/2025/04/Mens-Bible-Study.jpg
END:VEVENT
BEGIN:VEVENT
DTSTART;TZID=America/Los_Angeles:20270304T120000
DTEND;TZID=America/Los_Angeles:20270304T133000
DTSTAMP:20260421T174723
CREATED:20250410T210218Z
LAST-MODIFIED:20260205T221155Z
UID:10010794-1804161600-1804167000@www.northparkchurch.org
SUMMARY:Men's Bible Study
DESCRIPTION:Every Thursday at 12:00 p.m. at The Well Coffeehouse\, 327 Nees Avenue\, Clovis. For more information at 559-940-4789 call Chris Doda.
URL:https://www.northparkchurch.org/event/new-mens-bible-study/2027-03-04/
CATEGORIES:Men's Ministry
ATTACH;FMTTYPE=image/jpeg:https://www.northparkchurch.org/wp-content/uploads/2025/04/Mens-Bible-Study.jpg
END:VEVENT
BEGIN:VEVENT
DTSTART;TZID=America/Los_Angeles:20270311T120000
DTEND;TZID=America/Los_Angeles:20270311T133000
DTSTAMP:20260421T174723
CREATED:20250410T210218Z
LAST-MODIFIED:20260205T221155Z
UID:10010795-1804766400-1804771800@www.northparkchurch.org
SUMMARY:Men's Bible Study
DESCRIPTION:Every Thursday at 12:00 p.m. at The Well Coffeehouse\, 327 Nees Avenue\, Clovis. For more information at 559-940-4789 call Chris Doda.
URL:https://www.northparkchurch.org/event/new-mens-bible-study/2027-03-11/
CATEGORIES:Men's Ministry
ATTACH;FMTTYPE=image/jpeg:https://www.northparkchurch.org/wp-content/uploads/2025/04/Mens-Bible-Study.jpg
END:VEVENT
BEGIN:VEVENT
DTSTART;TZID=America/Los_Angeles:20270318T120000
DTEND;TZID=America/Los_Angeles:20270318T133000
DTSTAMP:20260421T174723
CREATED:20250410T210218Z
LAST-MODIFIED:20260205T221155Z
UID:10010796-1805371200-1805376600@www.northparkchurch.org
SUMMARY:Men's Bible Study
DESCRIPTION:Every Thursday at 12:00 p.m. at The Well Coffeehouse\, 327 Nees Avenue\, Clovis. For more information at 559-940-4789 call Chris Doda.
URL:https://www.northparkchurch.org/event/new-mens-bible-study/2027-03-18/
CATEGORIES:Men's Ministry
ATTACH;FMTTYPE=image/jpeg:https://www.northparkchurch.org/wp-content/uploads/2025/04/Mens-Bible-Study.jpg
END:VEVENT
BEGIN:VEVENT
DTSTART;TZID=America/Los_Angeles:20270325T120000
DTEND;TZID=America/Los_Angeles:20270325T133000
DTSTAMP:20260421T174723
CREATED:20250410T210218Z
LAST-MODIFIED:20260205T221155Z
UID:10010797-1805976000-1805981400@www.northparkchurch.org
SUMMARY:Men's Bible Study
DESCRIPTION:Every Thursday at 12:00 p.m. at The Well Coffeehouse\, 327 Nees Avenue\, Clovis. For more information at 559-940-4789 call Chris Doda.
URL:https://www.northparkchurch.org/event/new-mens-bible-study/2027-03-25/
CATEGORIES:Men's Ministry
ATTACH;FMTTYPE=image/jpeg:https://www.northparkchurch.org/wp-content/uploads/2025/04/Mens-Bible-Study.jpg
END:VEVENT
BEGIN:VEVENT
DTSTART;TZID=America/Los_Angeles:20270401T120000
DTEND;TZID=America/Los_Angeles:20270401T133000
DTSTAMP:20260421T174723
CREATED:20250410T210218Z
LAST-MODIFIED:20260205T221155Z
UID:10010798-1806580800-1806586200@www.northparkchurch.org
SUMMARY:Men's Bible Study
DESCRIPTION:Every Thursday at 12:00 p.m. at The Well Coffeehouse\, 327 Nees Avenue\, Clovis. For more information at 559-940-4789 call Chris Doda.
URL:https://www.northparkchurch.org/event/new-mens-bible-study/2027-04-01/
CATEGORIES:Men's Ministry
ATTACH;FMTTYPE=image/jpeg:https://www.northparkchurch.org/wp-content/uploads/2025/04/Mens-Bible-Study.jpg
END:VEVENT
BEGIN:VEVENT
DTSTART;TZID=America/Los_Angeles:20270408T120000
DTEND;TZID=America/Los_Angeles:20270408T133000
DTSTAMP:20260421T174723
CREATED:20250410T210218Z
LAST-MODIFIED:20260205T221155Z
UID:10010799-1807185600-1807191000@www.northparkchurch.org
SUMMARY:Men's Bible Study
DESCRIPTION:Every Thursday at 12:00 p.m. at The Well Coffeehouse\, 327 Nees Avenue\, Clovis. For more information at 559-940-4789 call Chris Doda.
URL:https://www.northparkchurch.org/event/new-mens-bible-study/2027-04-08/
CATEGORIES:Men's Ministry
ATTACH;FMTTYPE=image/jpeg:https://www.northparkchurch.org/wp-content/uploads/2025/04/Mens-Bible-Study.jpg
END:VEVENT
BEGIN:VEVENT
DTSTART;TZID=America/Los_Angeles:20270415T120000
DTEND;TZID=America/Los_Angeles:20270415T133000
DTSTAMP:20260421T174723
CREATED:20250410T210218Z
LAST-MODIFIED:20260205T221155Z
UID:10010800-1807790400-1807795800@www.northparkchurch.org
SUMMARY:Men's Bible Study
DESCRIPTION:Every Thursday at 12:00 p.m. at The Well Coffeehouse\, 327 Nees Avenue\, Clovis. For more information at 559-940-4789 call Chris Doda.
URL:https://www.northparkchurch.org/event/new-mens-bible-study/2027-04-15/
CATEGORIES:Men's Ministry
ATTACH;FMTTYPE=image/jpeg:https://www.northparkchurch.org/wp-content/uploads/2025/04/Mens-Bible-Study.jpg
END:VEVENT
BEGIN:VEVENT
DTSTART;TZID=America/Los_Angeles:20270422T120000
DTEND;TZID=America/Los_Angeles:20270422T133000
DTSTAMP:20260421T174723
CREATED:20250410T210218Z
LAST-MODIFIED:20260205T221155Z
UID:10010801-1808395200-1808400600@www.northparkchurch.org
SUMMARY:Men's Bible Study
DESCRIPTION:Every Thursday at 12:00 p.m. at The Well Coffeehouse\, 327 Nees Avenue\, Clovis. For more information at 559-940-4789 call Chris Doda.
URL:https://www.northparkchurch.org/event/new-mens-bible-study/2027-04-22/
CATEGORIES:Men's Ministry
ATTACH;FMTTYPE=image/jpeg:https://www.northparkchurch.org/wp-content/uploads/2025/04/Mens-Bible-Study.jpg
END:VEVENT
BEGIN:VEVENT
DTSTART;TZID=America/Los_Angeles:20270429T120000
DTEND;TZID=America/Los_Angeles:20270429T133000
DTSTAMP:20260421T174723
CREATED:20250410T210218Z
LAST-MODIFIED:20260205T221155Z
UID:10010802-1809000000-1809005400@www.northparkchurch.org
SUMMARY:Men's Bible Study
DESCRIPTION:Every Thursday at 12:00 p.m. at The Well Coffeehouse\, 327 Nees Avenue\, Clovis. For more information at 559-940-4789 call Chris Doda.
URL:https://www.northparkchurch.org/event/new-mens-bible-study/2027-04-29/
CATEGORIES:Men's Ministry
ATTACH;FMTTYPE=image/jpeg:https://www.northparkchurch.org/wp-content/uploads/2025/04/Mens-Bible-Study.jpg
END:VEVENT
BEGIN:VEVENT
DTSTART;TZID=America/Los_Angeles:20270506T120000
DTEND;TZID=America/Los_Angeles:20270506T133000
DTSTAMP:20260421T174723
CREATED:20250410T210218Z
LAST-MODIFIED:20260205T221155Z
UID:10010803-1809604800-1809610200@www.northparkchurch.org
SUMMARY:Men's Bible Study
DESCRIPTION:Every Thursday at 12:00 p.m. at The Well Coffeehouse\, 327 Nees Avenue\, Clovis. For more information at 559-940-4789 call Chris Doda.
URL:https://www.northparkchurch.org/event/new-mens-bible-study/2027-05-06/
CATEGORIES:Men's Ministry
ATTACH;FMTTYPE=image/jpeg:https://www.northparkchurch.org/wp-content/uploads/2025/04/Mens-Bible-Study.jpg
END:VEVENT
BEGIN:VEVENT
DTSTART;TZID=America/Los_Angeles:20270513T120000
DTEND;TZID=America/Los_Angeles:20270513T133000
DTSTAMP:20260421T174723
CREATED:20250410T210218Z
LAST-MODIFIED:20260205T221155Z
UID:10010804-1810209600-1810215000@www.northparkchurch.org
SUMMARY:Men's Bible Study
DESCRIPTION:Every Thursday at 12:00 p.m. at The Well Coffeehouse\, 327 Nees Avenue\, Clovis. For more information at 559-940-4789 call Chris Doda.
URL:https://www.northparkchurch.org/event/new-mens-bible-study/2027-05-13/
CATEGORIES:Men's Ministry
ATTACH;FMTTYPE=image/jpeg:https://www.northparkchurch.org/wp-content/uploads/2025/04/Mens-Bible-Study.jpg
END:VEVENT
BEGIN:VEVENT
DTSTART;TZID=America/Los_Angeles:20270520T120000
DTEND;TZID=America/Los_Angeles:20270520T133000
DTSTAMP:20260421T174723
CREATED:20250410T210218Z
LAST-MODIFIED:20260205T221155Z
UID:10010805-1810814400-1810819800@www.northparkchurch.org
SUMMARY:Men's Bible Study
DESCRIPTION:Every Thursday at 12:00 p.m. at The Well Coffeehouse\, 327 Nees Avenue\, Clovis. For more information at 559-940-4789 call Chris Doda.
URL:https://www.northparkchurch.org/event/new-mens-bible-study/2027-05-20/
CATEGORIES:Men's Ministry
ATTACH;FMTTYPE=image/jpeg:https://www.northparkchurch.org/wp-content/uploads/2025/04/Mens-Bible-Study.jpg
END:VEVENT
BEGIN:VEVENT
DTSTART;TZID=America/Los_Angeles:20270527T120000
DTEND;TZID=America/Los_Angeles:20270527T133000
DTSTAMP:20260421T174723
CREATED:20250410T210218Z
LAST-MODIFIED:20260205T221155Z
UID:10010806-1811419200-1811424600@www.northparkchurch.org
SUMMARY:Men's Bible Study
DESCRIPTION:Every Thursday at 12:00 p.m. at The Well Coffeehouse\, 327 Nees Avenue\, Clovis. For more information at 559-940-4789 call Chris Doda.
URL:https://www.northparkchurch.org/event/new-mens-bible-study/2027-05-27/
CATEGORIES:Men's Ministry
ATTACH;FMTTYPE=image/jpeg:https://www.northparkchurch.org/wp-content/uploads/2025/04/Mens-Bible-Study.jpg
END:VEVENT
BEGIN:VEVENT
DTSTART;TZID=America/Los_Angeles:20270603T120000
DTEND;TZID=America/Los_Angeles:20270603T133000
DTSTAMP:20260421T174723
CREATED:20250410T210218Z
LAST-MODIFIED:20260205T221155Z
UID:10010807-1812024000-1812029400@www.northparkchurch.org
SUMMARY:Men's Bible Study
DESCRIPTION:Every Thursday at 12:00 p.m. at The Well Coffeehouse\, 327 Nees Avenue\, Clovis. For more information at 559-940-4789 call Chris Doda.
URL:https://www.northparkchurch.org/event/new-mens-bible-study/2027-06-03/
CATEGORIES:Men's Ministry
ATTACH;FMTTYPE=image/jpeg:https://www.northparkchurch.org/wp-content/uploads/2025/04/Mens-Bible-Study.jpg
END:VEVENT
BEGIN:VEVENT
DTSTART;TZID=America/Los_Angeles:20270610T120000
DTEND;TZID=America/Los_Angeles:20270610T133000
DTSTAMP:20260421T174723
CREATED:20250410T210218Z
LAST-MODIFIED:20260205T221155Z
UID:10010808-1812628800-1812634200@www.northparkchurch.org
SUMMARY:Men's Bible Study
DESCRIPTION:Every Thursday at 12:00 p.m. at The Well Coffeehouse\, 327 Nees Avenue\, Clovis. For more information at 559-940-4789 call Chris Doda.
URL:https://www.northparkchurch.org/event/new-mens-bible-study/2027-06-10/
CATEGORIES:Men's Ministry
ATTACH;FMTTYPE=image/jpeg:https://www.northparkchurch.org/wp-content/uploads/2025/04/Mens-Bible-Study.jpg
END:VEVENT
BEGIN:VEVENT
DTSTART;TZID=America/Los_Angeles:20270617T120000
DTEND;TZID=America/Los_Angeles:20270617T133000
DTSTAMP:20260421T174723
CREATED:20250410T210218Z
LAST-MODIFIED:20260205T221155Z
UID:10010809-1813233600-1813239000@www.northparkchurch.org
SUMMARY:Men's Bible Study
DESCRIPTION:Every Thursday at 12:00 p.m. at The Well Coffeehouse\, 327 Nees Avenue\, Clovis. For more information at 559-940-4789 call Chris Doda.
URL:https://www.northparkchurch.org/event/new-mens-bible-study/2027-06-17/
CATEGORIES:Men's Ministry
ATTACH;FMTTYPE=image/jpeg:https://www.northparkchurch.org/wp-content/uploads/2025/04/Mens-Bible-Study.jpg
END:VEVENT
BEGIN:VEVENT
DTSTART;TZID=America/Los_Angeles:20270624T120000
DTEND;TZID=America/Los_Angeles:20270624T133000
DTSTAMP:20260421T174723
CREATED:20250410T210218Z
LAST-MODIFIED:20260205T221155Z
UID:10010810-1813838400-1813843800@www.northparkchurch.org
SUMMARY:Men's Bible Study
DESCRIPTION:Every Thursday at 12:00 p.m. at The Well Coffeehouse\, 327 Nees Avenue\, Clovis. For more information at 559-940-4789 call Chris Doda.
URL:https://www.northparkchurch.org/event/new-mens-bible-study/2027-06-24/
CATEGORIES:Men's Ministry
ATTACH;FMTTYPE=image/jpeg:https://www.northparkchurch.org/wp-content/uploads/2025/04/Mens-Bible-Study.jpg
END:VEVENT
BEGIN:VEVENT
DTSTART;TZID=America/Los_Angeles:20270701T120000
DTEND;TZID=America/Los_Angeles:20270701T133000
DTSTAMP:20260421T174723
CREATED:20250410T210218Z
LAST-MODIFIED:20260205T221155Z
UID:10010811-1814443200-1814448600@www.northparkchurch.org
SUMMARY:Men's Bible Study
DESCRIPTION:Every Thursday at 12:00 p.m. at The Well Coffeehouse\, 327 Nees Avenue\, Clovis. For more information at 559-940-4789 call Chris Doda.
URL:https://www.northparkchurch.org/event/new-mens-bible-study/2027-07-01/
CATEGORIES:Men's Ministry
ATTACH;FMTTYPE=image/jpeg:https://www.northparkchurch.org/wp-content/uploads/2025/04/Mens-Bible-Study.jpg
END:VEVENT
BEGIN:VEVENT
DTSTART;TZID=America/Los_Angeles:20270708T120000
DTEND;TZID=America/Los_Angeles:20270708T133000
DTSTAMP:20260421T174723
CREATED:20250410T210218Z
LAST-MODIFIED:20260205T221155Z
UID:10010812-1815048000-1815053400@www.northparkchurch.org
SUMMARY:Men's Bible Study
DESCRIPTION:Every Thursday at 12:00 p.m. at The Well Coffeehouse\, 327 Nees Avenue\, Clovis. For more information at 559-940-4789 call Chris Doda.
URL:https://www.northparkchurch.org/event/new-mens-bible-study/2027-07-08/
CATEGORIES:Men's Ministry
ATTACH;FMTTYPE=image/jpeg:https://www.northparkchurch.org/wp-content/uploads/2025/04/Mens-Bible-Study.jpg
END:VEVENT
BEGIN:VEVENT
DTSTART;TZID=America/Los_Angeles:20270715T120000
DTEND;TZID=America/Los_Angeles:20270715T133000
DTSTAMP:20260421T174723
CREATED:20250410T210218Z
LAST-MODIFIED:20260205T221155Z
UID:10010813-1815652800-1815658200@www.northparkchurch.org
SUMMARY:Men's Bible Study
DESCRIPTION:Every Thursday at 12:00 p.m. at The Well Coffeehouse\, 327 Nees Avenue\, Clovis. For more information at 559-940-4789 call Chris Doda.
URL:https://www.northparkchurch.org/event/new-mens-bible-study/2027-07-15/
CATEGORIES:Men's Ministry
ATTACH;FMTTYPE=image/jpeg:https://www.northparkchurch.org/wp-content/uploads/2025/04/Mens-Bible-Study.jpg
END:VEVENT
BEGIN:VEVENT
DTSTART;TZID=America/Los_Angeles:20270722T120000
DTEND;TZID=America/Los_Angeles:20270722T133000
DTSTAMP:20260421T174723
CREATED:20250410T210218Z
LAST-MODIFIED:20260205T221155Z
UID:10010814-1816257600-1816263000@www.northparkchurch.org
SUMMARY:Men's Bible Study
DESCRIPTION:Every Thursday at 12:00 p.m. at The Well Coffeehouse\, 327 Nees Avenue\, Clovis. For more information at 559-940-4789 call Chris Doda.
URL:https://www.northparkchurch.org/event/new-mens-bible-study/2027-07-22/
CATEGORIES:Men's Ministry
ATTACH;FMTTYPE=image/jpeg:https://www.northparkchurch.org/wp-content/uploads/2025/04/Mens-Bible-Study.jpg
END:VEVENT
BEGIN:VEVENT
DTSTART;TZID=America/Los_Angeles:20270729T120000
DTEND;TZID=America/Los_Angeles:20270729T133000
DTSTAMP:20260421T174723
CREATED:20250410T210218Z
LAST-MODIFIED:20260205T221155Z
UID:10010815-1816862400-1816867800@www.northparkchurch.org
SUMMARY:Men's Bible Study
DESCRIPTION:Every Thursday at 12:00 p.m. at The Well Coffeehouse\, 327 Nees Avenue\, Clovis. For more information at 559-940-4789 call Chris Doda.
URL:https://www.northparkchurch.org/event/new-mens-bible-study/2027-07-29/
CATEGORIES:Men's Ministry
ATTACH;FMTTYPE=image/jpeg:https://www.northparkchurch.org/wp-content/uploads/2025/04/Mens-Bible-Study.jpg
END:VEVENT
BEGIN:VEVENT
DTSTART;TZID=America/Los_Angeles:20270805T120000
DTEND;TZID=America/Los_Angeles:20270805T133000
DTSTAMP:20260421T174723
CREATED:20250410T210218Z
LAST-MODIFIED:20260205T221155Z
UID:10010816-1817467200-1817472600@www.northparkchurch.org
SUMMARY:Men's Bible Study
DESCRIPTION:Every Thursday at 12:00 p.m. at The Well Coffeehouse\, 327 Nees Avenue\, Clovis. For more information at 559-940-4789 call Chris Doda.
URL:https://www.northparkchurch.org/event/new-mens-bible-study/2027-08-05/
CATEGORIES:Men's Ministry
ATTACH;FMTTYPE=image/jpeg:https://www.northparkchurch.org/wp-content/uploads/2025/04/Mens-Bible-Study.jpg
END:VEVENT
BEGIN:VEVENT
DTSTART;TZID=America/Los_Angeles:20270812T120000
DTEND;TZID=America/Los_Angeles:20270812T133000
DTSTAMP:20260421T174723
CREATED:20250410T210218Z
LAST-MODIFIED:20260205T221155Z
UID:10010817-1818072000-1818077400@www.northparkchurch.org
SUMMARY:Men's Bible Study
DESCRIPTION:Every Thursday at 12:00 p.m. at The Well Coffeehouse\, 327 Nees Avenue\, Clovis. For more information at 559-940-4789 call Chris Doda.
URL:https://www.northparkchurch.org/event/new-mens-bible-study/2027-08-12/
CATEGORIES:Men's Ministry
ATTACH;FMTTYPE=image/jpeg:https://www.northparkchurch.org/wp-content/uploads/2025/04/Mens-Bible-Study.jpg
END:VEVENT
BEGIN:VEVENT
DTSTART;TZID=America/Los_Angeles:20270819T120000
DTEND;TZID=America/Los_Angeles:20270819T133000
DTSTAMP:20260421T174723
CREATED:20250410T210218Z
LAST-MODIFIED:20260205T221155Z
UID:10010818-1818676800-1818682200@www.northparkchurch.org
SUMMARY:Men's Bible Study
DESCRIPTION:Every Thursday at 12:00 p.m. at The Well Coffeehouse\, 327 Nees Avenue\, Clovis. For more information at 559-940-4789 call Chris Doda.
URL:https://www.northparkchurch.org/event/new-mens-bible-study/2027-08-19/
CATEGORIES:Men's Ministry
ATTACH;FMTTYPE=image/jpeg:https://www.northparkchurch.org/wp-content/uploads/2025/04/Mens-Bible-Study.jpg
END:VEVENT
BEGIN:VEVENT
DTSTART;TZID=America/Los_Angeles:20270826T120000
DTEND;TZID=America/Los_Angeles:20270826T133000
DTSTAMP:20260421T174723
CREATED:20250410T210218Z
LAST-MODIFIED:20260205T221155Z
UID:10010819-1819281600-1819287000@www.northparkchurch.org
SUMMARY:Men's Bible Study
DESCRIPTION:Every Thursday at 12:00 p.m. at The Well Coffeehouse\, 327 Nees Avenue\, Clovis. For more information at 559-940-4789 call Chris Doda.
URL:https://www.northparkchurch.org/event/new-mens-bible-study/2027-08-26/
CATEGORIES:Men's Ministry
ATTACH;FMTTYPE=image/jpeg:https://www.northparkchurch.org/wp-content/uploads/2025/04/Mens-Bible-Study.jpg
END:VEVENT
BEGIN:VEVENT
DTSTART;TZID=America/Los_Angeles:20270902T120000
DTEND;TZID=America/Los_Angeles:20270902T133000
DTSTAMP:20260421T174723
CREATED:20250410T210218Z
LAST-MODIFIED:20260205T221155Z
UID:10010820-1819886400-1819891800@www.northparkchurch.org
SUMMARY:Men's Bible Study
DESCRIPTION:Every Thursday at 12:00 p.m. at The Well Coffeehouse\, 327 Nees Avenue\, Clovis. For more information at 559-940-4789 call Chris Doda.
URL:https://www.northparkchurch.org/event/new-mens-bible-study/2027-09-02/
CATEGORIES:Men's Ministry
ATTACH;FMTTYPE=image/jpeg:https://www.northparkchurch.org/wp-content/uploads/2025/04/Mens-Bible-Study.jpg
END:VEVENT
BEGIN:VEVENT
DTSTART;TZID=America/Los_Angeles:20270909T120000
DTEND;TZID=America/Los_Angeles:20270909T133000
DTSTAMP:20260421T174723
CREATED:20250410T210218Z
LAST-MODIFIED:20260205T221155Z
UID:10010821-1820491200-1820496600@www.northparkchurch.org
SUMMARY:Men's Bible Study
DESCRIPTION:Every Thursday at 12:00 p.m. at The Well Coffeehouse\, 327 Nees Avenue\, Clovis. For more information at 559-940-4789 call Chris Doda.
URL:https://www.northparkchurch.org/event/new-mens-bible-study/2027-09-09/
CATEGORIES:Men's Ministry
ATTACH;FMTTYPE=image/jpeg:https://www.northparkchurch.org/wp-content/uploads/2025/04/Mens-Bible-Study.jpg
END:VEVENT
BEGIN:VEVENT
DTSTART;TZID=America/Los_Angeles:20270916T120000
DTEND;TZID=America/Los_Angeles:20270916T133000
DTSTAMP:20260421T174723
CREATED:20250410T210218Z
LAST-MODIFIED:20260205T221155Z
UID:10010822-1821096000-1821101400@www.northparkchurch.org
SUMMARY:Men's Bible Study
DESCRIPTION:Every Thursday at 12:00 p.m. at The Well Coffeehouse\, 327 Nees Avenue\, Clovis. For more information at 559-940-4789 call Chris Doda.
URL:https://www.northparkchurch.org/event/new-mens-bible-study/2027-09-16/
CATEGORIES:Men's Ministry
ATTACH;FMTTYPE=image/jpeg:https://www.northparkchurch.org/wp-content/uploads/2025/04/Mens-Bible-Study.jpg
END:VEVENT
END:VCALENDAR