BEGIN:VCALENDAR
VERSION:2.0
PRODID:-//Northpark - ECPv6.15.14//NONSGML v1.0//EN
CALSCALE:GREGORIAN
METHOD:PUBLISH
X-ORIGINAL-URL:https://www.northparkchurch.org
X-WR-CALDESC:Events for Northpark
REFRESH-INTERVAL;VALUE=DURATION:PT1H
X-Robots-Tag:noindex
X-PUBLISHED-TTL:PT1H
BEGIN:VTIMEZONE
TZID:America/Los_Angeles
BEGIN:DAYLIGHT
TZOFFSETFROM:-0800
TZOFFSETTO:-0700
TZNAME:PDT
DTSTART:20210314T100000
END:DAYLIGHT
BEGIN:STANDARD
TZOFFSETFROM:-0700
TZOFFSETTO:-0800
TZNAME:PST
DTSTART:20211107T090000
END:STANDARD
BEGIN:DAYLIGHT
TZOFFSETFROM:-0800
TZOFFSETTO:-0700
TZNAME:PDT
DTSTART:20220313T100000
END:DAYLIGHT
BEGIN:STANDARD
TZOFFSETFROM:-0700
TZOFFSETTO:-0800
TZNAME:PST
DTSTART:20221106T090000
END:STANDARD
BEGIN:DAYLIGHT
TZOFFSETFROM:-0800
TZOFFSETTO:-0700
TZNAME:PDT
DTSTART:20230312T100000
END:DAYLIGHT
BEGIN:STANDARD
TZOFFSETFROM:-0700
TZOFFSETTO:-0800
TZNAME:PST
DTSTART:20231105T090000
END:STANDARD
END:VTIMEZONE
BEGIN:VEVENT
DTSTART;TZID=America/Los_Angeles:20220406T150000
DTEND;TZID=America/Los_Angeles:20220406T160000
DTSTAMP:20260421T091856
CREATED:20210228T212352Z
LAST-MODIFIED:20230125T232738Z
UID:10008040-1649257200-1649260800@www.northparkchurch.org
SUMMARY:Small Group Online with Pastor Bob Fuller
DESCRIPTION:JOIN PASTOR BOB FULLER FOR A VIRTUAL SMALL GROUP!\nCONNECT with others | LEARN something new | GROW in your faith \nThis is a great way to connect with others\, while also growing spiritually as we dig into Sunday’s talk a little more.  Our format will include introductions\, some discussion regarding Sunday’s talk\, additional resources\, and prayer. \nYou are welcome to join anytime! \nThis small group will be hosted on ZOOM. \n\nREQUEST ACCESS\nYou must send an email to Pastor Bob Fuller to request access to the password protected meeting room. \nRequest Access \n\nUSING ZOOM\nZoom is easy to use\, and can be used on a Computer\, Laptop\, Chromebook\, Tablet\, or Smartphone. \nSimply create your free account by either going to the Zoom website (zoom.us) or downloading the app on your smart device and search for the “Zoom Cloud Meetings” app\, its logo is a white camera on a blue background. \nZoom Website  |  Download Zoom Mobile App\n(or search “Zoom Cloud Meetings” in your app store – white camera on a blue background logo) \nSecurity features will be enabled to ensure that only those who request access will be able to join.
URL:https://www.northparkchurch.org/event/small-group-online-with-pastor-bob-fuller/2022-04-06/
LOCATION:CA\, United States
CATEGORIES:Online,Small Group
ATTACH;FMTTYPE=image/jpeg:https://www.northparkchurch.org/wp-content/uploads/2021/02/Small-Groups-Online-500-x-500-px.jpg
ORGANIZER;CN="Pastor Bob Fuller":MAILTO:bfuller@northparkcc.org
GEO:36.778261;-119.4179324
END:VEVENT
BEGIN:VEVENT
DTSTART;TZID=America/Los_Angeles:20220406T180000
DTEND;TZID=America/Los_Angeles:20220406T200000
DTSTAMP:20260421T091856
CREATED:20220320T042202Z
LAST-MODIFIED:20220403T185711Z
UID:10008148-1649268000-1649275200@www.northparkchurch.org
SUMMARY:Parent Workshop
DESCRIPTION:Being a parent is tough… but we’ve got your back! \nParents of kids from birth through high school are invited to join us for these workshops where experts will share resources and insight. \nThese are free events\, but please REGISTER IN ADVANCE so we can plan appropriately. Registration form is below. \n\nWEDNESDAY\, APRIL 6\, 2020\n6:00 FREE DINNER | 6:30 P.M. WORKSHOP\nKaren D. Wood\nClinical Social Work / Therapist\, MSW\, LCSW\nClear Thinking Counseling Alliance\nBrain Training & Behavioral Counseling \nCandi Maur\nChildren’s Ministry Pastor\nNorthpark Community Church\, Fresno CA \nWhy do we respond the way we do? Why do kids respond the way they do? This session will help parents have more insight into living life with clear\, concise thinking in any situation and in every relationship. Also\, resources will be shared on how to guide your kids spiritually in an increasingly challenging environment. \nREGISTER NOW:\n\n\n\n  \n 
URL:https://www.northparkchurch.org/event/parent-workshop-2022-04-06/
LOCATION:Northpark Community Church\, 2297 E. Shepherd Ave.\, Fresno\, CA\, 93720\, United States
CATEGORIES:Children,Church Event,Men's Ministry,Preteen,Women's Ministry,Youth
ATTACH;FMTTYPE=image/jpeg:https://www.northparkchurch.org/wp-content/uploads/2022/03/1.jpg
ORGANIZER;CN="Pastor Candi Maur":MAILTO:Candi@NorthparkCC.org
GEO:36.8657759;-119.741738
X-APPLE-STRUCTURED-LOCATION;VALUE=URI;X-ADDRESS=Northpark Community Church 2297 E. Shepherd Ave. Fresno CA 93720 United States;X-APPLE-RADIUS=500;X-TITLE=2297 E. Shepherd Ave.:geo:-119.741738,36.8657759
END:VEVENT
BEGIN:VEVENT
DTSTART;TZID=America/Los_Angeles:20220407T180000
DTEND;TZID=America/Los_Angeles:20220407T213000
DTSTAMP:20260421T091856
CREATED:20220131T221521Z
LAST-MODIFIED:20220406T190259Z
UID:10008142-1649354400-1649367000@www.northparkchurch.org
SUMMARY:The Home Town Hoedown Tour: Tim & The Glory Boys
DESCRIPTION:We are excited to welcome Tim & The Glory Boys back to Northpark! \nThe Home Town Hoedown Tour\nA Barn Burnin’ Banjo Bash\nThursday\, April 7\, 2022\nDoors Open & BBQ – 6:00 pm | Concert 7:00 pm\n*FREE*\nNo Tickets Needed | Free BBQ Hot Dogs \n*Due to travel and equipment issues for the band\, this will be an INDOOR concert instead of outdoors as originally announced* \nCome anytime after 6:00 p.m. to enjoy FREE BBQ Hot Dogs and Chips in the courtyard before heading inside to the concert!\n(You are welcome to bring your lawn chair or blanket and enjoy a picnic outside before the show.)\n\nInvite a Friend! \n Download the Flyer  |  Facebook Event \n\nBeen missing Live music? Tim & The Glory Boys bring you a Foot Stompin’\, Hand Clappin’ Hoedown. Don’t miss it! \nThe HOME-TOWN HOEDOWN Tour is THE exclusive bluegrass/country party you have been waiting for! A spirited night of singin’\, laughin’\, and stompin’ yer boots. It’ll be the show you can’t stop talking about! \nTim & The Glory Boys are more than just a country bluegrass band! Rumor has it they’re also 2X CCMA Nominees and multiple JUNO award-winning artists—musical showmen if you will—that just recently signed with SONY Music. With a whole new batch of songs\, they are as eager as Canadian beavers to visit your neck o’ the woods. Don’t miss a rare night of live music and fun in your own backyard!
URL:https://www.northparkchurch.org/event/the-home-town-hoedown-tour-tim-the-glory-boys/
LOCATION:Northpark Community Church\, 2297 E. Shepherd Ave.\, Fresno\, CA\, 93720\, United States
CATEGORIES:Children,Church Event,Men's Ministry,Older Adults,Preteen,Women's Ministry,Young Adult,Youth
ATTACH;FMTTYPE=image/jpeg:https://www.northparkchurch.org/wp-content/uploads/2022/01/FRESNO-Home-Town-Hoedown-tour-slide.jpg
GEO:36.8657759;-119.741738
X-APPLE-STRUCTURED-LOCATION;VALUE=URI;X-ADDRESS=Northpark Community Church 2297 E. Shepherd Ave. Fresno CA 93720 United States;X-APPLE-RADIUS=500;X-TITLE=2297 E. Shepherd Ave.:geo:-119.741738,36.8657759
END:VEVENT
BEGIN:VEVENT
DTSTART;TZID=America/Los_Angeles:20220413T150000
DTEND;TZID=America/Los_Angeles:20220413T160000
DTSTAMP:20260421T091856
CREATED:20210228T212352Z
LAST-MODIFIED:20230125T232738Z
UID:10008041-1649862000-1649865600@www.northparkchurch.org
SUMMARY:Small Group Online with Pastor Bob Fuller
DESCRIPTION:JOIN PASTOR BOB FULLER FOR A VIRTUAL SMALL GROUP!\nCONNECT with others | LEARN something new | GROW in your faith \nThis is a great way to connect with others\, while also growing spiritually as we dig into Sunday’s talk a little more.  Our format will include introductions\, some discussion regarding Sunday’s talk\, additional resources\, and prayer. \nYou are welcome to join anytime! \nThis small group will be hosted on ZOOM. \n\nREQUEST ACCESS\nYou must send an email to Pastor Bob Fuller to request access to the password protected meeting room. \nRequest Access \n\nUSING ZOOM\nZoom is easy to use\, and can be used on a Computer\, Laptop\, Chromebook\, Tablet\, or Smartphone. \nSimply create your free account by either going to the Zoom website (zoom.us) or downloading the app on your smart device and search for the “Zoom Cloud Meetings” app\, its logo is a white camera on a blue background. \nZoom Website  |  Download Zoom Mobile App\n(or search “Zoom Cloud Meetings” in your app store – white camera on a blue background logo) \nSecurity features will be enabled to ensure that only those who request access will be able to join.
URL:https://www.northparkchurch.org/event/small-group-online-with-pastor-bob-fuller/2022-04-13/
LOCATION:CA\, United States
CATEGORIES:Online,Small Group
ATTACH;FMTTYPE=image/jpeg:https://www.northparkchurch.org/wp-content/uploads/2021/02/Small-Groups-Online-500-x-500-px.jpg
ORGANIZER;CN="Pastor Bob Fuller":MAILTO:bfuller@northparkcc.org
GEO:36.778261;-119.4179324
END:VEVENT
BEGIN:VEVENT
DTSTART;TZID=America/Los_Angeles:20220417T083000
DTEND;TZID=America/Los_Angeles:20220417T093000
DTSTAMP:20260421T091856
CREATED:20220127T225416Z
LAST-MODIFIED:20220414T163702Z
UID:10008127-1650184200-1650187800@www.northparkchurch.org
SUMMARY:Going Deeper With God
DESCRIPTION:NEW SUNDAY CLASS: GOING DEEPER WITH GOD\n\nFOR ADULTS\n**NO ADULT CLASS MEETING ON EASTER SUNDAY \n‘Back to the Future – A Look at Bible Prophecy’\nRoom 202\nThis class takes place at the same time as the Sunday morning 8:30 worship service\, but in a different room.\n \nRev Jim Rossi will teach as we seek to learn and “go deeper with God”. \nThe Bible is a prophetic book from beginning to end. This class is meant to be an introduction into the fascinating realm of the nature\, purpose and methods of Bible prophecy. \nWe will present a general picture of things to come\, as taught in the Bible. \n\nFOR KIDS\nDevotions With Pastor Candi\n2nd – 6th Grade: \nPastor Candi has a special opportunity for kids in 2nd – 6th grade that want to learn how grow in their journey with God. \nWe’ll learn things like\, how to read a devotional and understand what it’s saying. How do I pray to God and then listen to Him? We’ll explore how to find the answer to questions about God and more. Pastor Candi will teach kids how to DIG IN to get closer to God. \nBirth – 1st Grade: \nChildcare will be available
URL:https://www.northparkchurch.org/event/going-deeper-with-god-2022-04-17/
LOCATION:Northpark Community Church\, 2297 E. Shepherd Ave.\, Fresno\, CA\, 93720\, United States
CATEGORIES:Children,Church Event,Older Adults,Preteen,Sunday Morning
ATTACH;FMTTYPE=image/jpeg:https://www.northparkchurch.org/wp-content/uploads/2022/01/Deeper-with-God-e1767913314386.jpg
GEO:36.8657759;-119.741738
X-APPLE-STRUCTURED-LOCATION;VALUE=URI;X-ADDRESS=Northpark Community Church 2297 E. Shepherd Ave. Fresno CA 93720 United States;X-APPLE-RADIUS=500;X-TITLE=2297 E. Shepherd Ave.:geo:-119.741738,36.8657759
END:VEVENT
BEGIN:VEVENT
DTSTART;TZID=America/Los_Angeles:20220420T150000
DTEND;TZID=America/Los_Angeles:20220420T160000
DTSTAMP:20260421T091856
CREATED:20210228T212352Z
LAST-MODIFIED:20230125T232738Z
UID:10008042-1650466800-1650470400@www.northparkchurch.org
SUMMARY:Small Group Online with Pastor Bob Fuller
DESCRIPTION:JOIN PASTOR BOB FULLER FOR A VIRTUAL SMALL GROUP!\nCONNECT with others | LEARN something new | GROW in your faith \nThis is a great way to connect with others\, while also growing spiritually as we dig into Sunday’s talk a little more.  Our format will include introductions\, some discussion regarding Sunday’s talk\, additional resources\, and prayer. \nYou are welcome to join anytime! \nThis small group will be hosted on ZOOM. \n\nREQUEST ACCESS\nYou must send an email to Pastor Bob Fuller to request access to the password protected meeting room. \nRequest Access \n\nUSING ZOOM\nZoom is easy to use\, and can be used on a Computer\, Laptop\, Chromebook\, Tablet\, or Smartphone. \nSimply create your free account by either going to the Zoom website (zoom.us) or downloading the app on your smart device and search for the “Zoom Cloud Meetings” app\, its logo is a white camera on a blue background. \nZoom Website  |  Download Zoom Mobile App\n(or search “Zoom Cloud Meetings” in your app store – white camera on a blue background logo) \nSecurity features will be enabled to ensure that only those who request access will be able to join.
URL:https://www.northparkchurch.org/event/small-group-online-with-pastor-bob-fuller/2022-04-20/
LOCATION:CA\, United States
CATEGORIES:Online,Small Group
ATTACH;FMTTYPE=image/jpeg:https://www.northparkchurch.org/wp-content/uploads/2021/02/Small-Groups-Online-500-x-500-px.jpg
ORGANIZER;CN="Pastor Bob Fuller":MAILTO:bfuller@northparkcc.org
GEO:36.778261;-119.4179324
END:VEVENT
BEGIN:VEVENT
DTSTART;TZID=America/Los_Angeles:20220422T090000
DTEND;TZID=America/Los_Angeles:20220423T123000
DTSTAMP:20260421T091856
CREATED:20220131T235751Z
LAST-MODIFIED:20220309T200554Z
UID:10008143-1650618000-1650717000@www.northparkchurch.org
SUMMARY:Fresh Grounded Faith: Women's Conference
DESCRIPTION:April 22 – 23\, 2022\nFriday 7:00 – 9:30 pm\nSaturday 9:00 am – 12:30 pm \nHosted by: New Covenant Community Church and Many Area Churches \nVenue Address: 1744 E. Nees Ave.\, Fresno\, CA 93720 \n\n*We have a Northpark group of tickets of available at a discounted price – you won’t want to miss this fun and enriching time with your fellow Northpark ladies! \nTickets: $49 \nCall or text Janine Minassian @ 559-862-9393 to purchase yours! \n\nJoin featured Bible teacher Jennifer Rothschild and special guests Karen Abercrombie and Tammy Trent for the perfect girls weekend! \nWe’ll serve up a venti-sized portion of fresh\, grounded encouragement and biblical wisdom that will freshen up your faith and ground you more deeply in God’s love! \nGet ready to experience a time of refreshment\, learn practical truths from scripture\, and laugh out loud! \n  \n  \n  \n 
URL:https://www.northparkchurch.org/event/fresh-grounded-faith-womens-conference/2022-04-22/
LOCATION:Northpark Community Church\, 2297 E. Shepherd Ave.\, Fresno\, CA\, 93720\, United States
CATEGORIES:Women's Ministry
ORGANIZER;CN="Janine Minassian":MAILTO:janine@northparkcc.org
GEO:36.8657759;-119.741738
X-APPLE-STRUCTURED-LOCATION;VALUE=URI;X-ADDRESS=Northpark Community Church 2297 E. Shepherd Ave. Fresno CA 93720 United States;X-APPLE-RADIUS=500;X-TITLE=2297 E. Shepherd Ave.:geo:-119.741738,36.8657759
END:VEVENT
BEGIN:VEVENT
DTSTART;TZID=America/Los_Angeles:20220423T090000
DTEND;TZID=America/Los_Angeles:20220424T123000
DTSTAMP:20260421T091856
CREATED:20220131T235751Z
LAST-MODIFIED:20220309T200554Z
UID:10008144-1650704400-1650803400@www.northparkchurch.org
SUMMARY:Fresh Grounded Faith: Women's Conference
DESCRIPTION:April 22 – 23\, 2022\nFriday 7:00 – 9:30 pm\nSaturday 9:00 am – 12:30 pm \nHosted by: New Covenant Community Church and Many Area Churches \nVenue Address: 1744 E. Nees Ave.\, Fresno\, CA 93720 \n\n*We have a Northpark group of tickets of available at a discounted price – you won’t want to miss this fun and enriching time with your fellow Northpark ladies! \nTickets: $49 \nCall or text Janine Minassian @ 559-862-9393 to purchase yours! \n\nJoin featured Bible teacher Jennifer Rothschild and special guests Karen Abercrombie and Tammy Trent for the perfect girls weekend! \nWe’ll serve up a venti-sized portion of fresh\, grounded encouragement and biblical wisdom that will freshen up your faith and ground you more deeply in God’s love! \nGet ready to experience a time of refreshment\, learn practical truths from scripture\, and laugh out loud! \n  \n  \n  \n 
URL:https://www.northparkchurch.org/event/fresh-grounded-faith-womens-conference/2022-04-23/
LOCATION:Northpark Community Church\, 2297 E. Shepherd Ave.\, Fresno\, CA\, 93720\, United States
CATEGORIES:Women's Ministry
ORGANIZER;CN="Janine Minassian":MAILTO:janine@northparkcc.org
GEO:36.8657759;-119.741738
X-APPLE-STRUCTURED-LOCATION;VALUE=URI;X-ADDRESS=Northpark Community Church 2297 E. Shepherd Ave. Fresno CA 93720 United States;X-APPLE-RADIUS=500;X-TITLE=2297 E. Shepherd Ave.:geo:-119.741738,36.8657759
END:VEVENT
BEGIN:VEVENT
DTSTART;TZID=America/Los_Angeles:20220427T150000
DTEND;TZID=America/Los_Angeles:20220427T160000
DTSTAMP:20260421T091856
CREATED:20210228T212352Z
LAST-MODIFIED:20230125T232738Z
UID:10008043-1651071600-1651075200@www.northparkchurch.org
SUMMARY:Small Group Online with Pastor Bob Fuller
DESCRIPTION:JOIN PASTOR BOB FULLER FOR A VIRTUAL SMALL GROUP!\nCONNECT with others | LEARN something new | GROW in your faith \nThis is a great way to connect with others\, while also growing spiritually as we dig into Sunday’s talk a little more.  Our format will include introductions\, some discussion regarding Sunday’s talk\, additional resources\, and prayer. \nYou are welcome to join anytime! \nThis small group will be hosted on ZOOM. \n\nREQUEST ACCESS\nYou must send an email to Pastor Bob Fuller to request access to the password protected meeting room. \nRequest Access \n\nUSING ZOOM\nZoom is easy to use\, and can be used on a Computer\, Laptop\, Chromebook\, Tablet\, or Smartphone. \nSimply create your free account by either going to the Zoom website (zoom.us) or downloading the app on your smart device and search for the “Zoom Cloud Meetings” app\, its logo is a white camera on a blue background. \nZoom Website  |  Download Zoom Mobile App\n(or search “Zoom Cloud Meetings” in your app store – white camera on a blue background logo) \nSecurity features will be enabled to ensure that only those who request access will be able to join.
URL:https://www.northparkchurch.org/event/small-group-online-with-pastor-bob-fuller/2022-04-27/
LOCATION:CA\, United States
CATEGORIES:Online,Small Group
ATTACH;FMTTYPE=image/jpeg:https://www.northparkchurch.org/wp-content/uploads/2021/02/Small-Groups-Online-500-x-500-px.jpg
ORGANIZER;CN="Pastor Bob Fuller":MAILTO:bfuller@northparkcc.org
GEO:36.778261;-119.4179324
END:VEVENT
BEGIN:VEVENT
DTSTART;TZID=America/Los_Angeles:20220427T180000
DTEND;TZID=America/Los_Angeles:20220427T200000
DTSTAMP:20260421T091856
CREATED:20220121T235344Z
LAST-MODIFIED:20220414T070734Z
UID:10008115-1651082400-1651089600@www.northparkchurch.org
SUMMARY:ALPHA at Northpark
DESCRIPTION:HAVE YOU EVER WONDERED\, “WHERE IS GOD?”\nJoin us at Northpark on Wednesday nights as we have conversations about faith\, life and God. \nALPHA AT NORTHPARK COMMUNITY CHURCH\nFebruary 16 – March 23\, 2022\nand\nApril 27 -May 18\, 2022 \n6:00 Free Dinner\n6:30 Classes for all ages \nDinner provided  | Classes for kids and youth at the same time \nFIND OUT MORE or REGISTER NOW
URL:https://www.northparkchurch.org/event/alpha/2022-04-27/
LOCATION:Northpark Community Church\, 2297 E. Shepherd Ave.\, Fresno\, CA\, 93720\, United States
CATEGORIES:Church Event,Older Adults,Small Group,Wednesday Night,Young Adult,Youth
ATTACH;FMTTYPE=image/png:https://www.northparkchurch.org/wp-content/uploads/2022/02/alpha-logo-transparent-background-e1644104689716.png
GEO:36.8657759;-119.741738
X-APPLE-STRUCTURED-LOCATION;VALUE=URI;X-ADDRESS=Northpark Community Church 2297 E. Shepherd Ave. Fresno CA 93720 United States;X-APPLE-RADIUS=500;X-TITLE=2297 E. Shepherd Ave.:geo:-119.741738,36.8657759
END:VEVENT
BEGIN:VEVENT
DTSTART;TZID=America/Los_Angeles:20220430T083000
DTEND;TZID=America/Los_Angeles:20220430T143000
DTSTAMP:20260421T091856
CREATED:20220411T220610Z
LAST-MODIFIED:20220413T190433Z
UID:10008155-1651307400-1651329000@www.northparkchurch.org
SUMMARY:ALL IN Men's Conference
DESCRIPTION:Saturday\, April 30\, 2022\n8:30 am – 2:30 pm\nPeople’s Church\n7172 North Cedar Ave.\, Fresno CA 93720 \nAre you ready to go ALL IN? \nAre you ready to live a better life for the Lord\, for yourself\, and your family? Then it’s time to join us at the All In Conference. \nLearn more and get tickets at: https://mightymenmovement.org/all-in-conference
URL:https://www.northparkchurch.org/event/all-in-mens-conference/
LOCATION:People’s Church\, 7172 N Cedar Ave\, Fresno\, CA\, 93720\, United States
CATEGORIES:Men's Ministry
ATTACH;FMTTYPE=image/jpeg:https://www.northparkchurch.org/wp-content/uploads/2022/04/All-in-flyer-square.jpg
GEO:36.8409078;-119.7534208
X-APPLE-STRUCTURED-LOCATION;VALUE=URI;X-ADDRESS=People’s Church 7172 N Cedar Ave Fresno CA 93720 United States;X-APPLE-RADIUS=500;X-TITLE=7172 N Cedar Ave:geo:-119.7534208,36.8409078
END:VEVENT
END:VCALENDAR