BEGIN:VCALENDAR
VERSION:2.0
PRODID:-//Northpark - ECPv6.15.14//NONSGML v1.0//EN
CALSCALE:GREGORIAN
METHOD:PUBLISH
X-WR-CALNAME:Northpark
X-ORIGINAL-URL:https://www.northparkchurch.org
X-WR-CALDESC:Events for Northpark
REFRESH-INTERVAL;VALUE=DURATION:PT1H
X-Robots-Tag:noindex
X-PUBLISHED-TTL:PT1H
BEGIN:VTIMEZONE
TZID:America/Los_Angeles
BEGIN:DAYLIGHT
TZOFFSETFROM:-0800
TZOFFSETTO:-0700
TZNAME:PDT
DTSTART:20210314T100000
END:DAYLIGHT
BEGIN:STANDARD
TZOFFSETFROM:-0700
TZOFFSETTO:-0800
TZNAME:PST
DTSTART:20211107T090000
END:STANDARD
BEGIN:DAYLIGHT
TZOFFSETFROM:-0800
TZOFFSETTO:-0700
TZNAME:PDT
DTSTART:20220313T100000
END:DAYLIGHT
BEGIN:STANDARD
TZOFFSETFROM:-0700
TZOFFSETTO:-0800
TZNAME:PST
DTSTART:20221106T090000
END:STANDARD
BEGIN:DAYLIGHT
TZOFFSETFROM:-0800
TZOFFSETTO:-0700
TZNAME:PDT
DTSTART:20230312T100000
END:DAYLIGHT
BEGIN:STANDARD
TZOFFSETFROM:-0700
TZOFFSETTO:-0800
TZNAME:PST
DTSTART:20231105T090000
END:STANDARD
END:VTIMEZONE
BEGIN:VEVENT
DTSTART;TZID=America/Los_Angeles:20220301T183000
DTEND;TZID=America/Los_Angeles:20220301T200000
DTSTAMP:20260420T154344
CREATED:20220127T211609Z
LAST-MODIFIED:20220127T211609Z
UID:10008123-1646159400-1646164800@www.northparkchurch.org
SUMMARY:Women's Bible Study: Discerning the Voice of God
DESCRIPTION:Women’s Tuesday Evening Bible Study\nDiscerning the Voice of God\nTuesdays\, 6:30 – 8:00 p.m.\nNorthpark\, Room 101 \n  \nLadies\, we want YOU to join us for this 7 week study from best-selling author Priscilla Shirer. \nDiscover the root to clear and daily communication with God – humble obedience. Learn how surrender unlocks His many blessings intended for us\, centers us in His will\, and helps us discern His voice in everyday life. \nThis study is facilitated by Maryellen Willis. Workbooks are available for purchase\, join us the first night to get yours!
URL:https://www.northparkchurch.org/event/womens-bible-study-discerning-the-voice-of-god/2022-03-01/
LOCATION:Northpark Community Church\, 2297 E. Shepherd Ave.\, Fresno\, CA\, 93720\, United States
CATEGORIES:Women's Ministry
ATTACH;FMTTYPE=image/jpeg:https://www.northparkchurch.org/wp-content/uploads/2021/08/Womens-Bible-Study-Square.jpg
ORGANIZER;CN="Maryellen Willis":MAILTO:maryellen@nonnieshouseboutique.com
GEO:36.8657759;-119.741738
X-APPLE-STRUCTURED-LOCATION;VALUE=URI;X-ADDRESS=Northpark Community Church 2297 E. Shepherd Ave. Fresno CA 93720 United States;X-APPLE-RADIUS=500;X-TITLE=2297 E. Shepherd Ave.:geo:-119.741738,36.8657759
END:VEVENT
BEGIN:VEVENT
DTSTART;TZID=America/Los_Angeles:20220302T150000
DTEND;TZID=America/Los_Angeles:20220302T160000
DTSTAMP:20260420T154344
CREATED:20210228T212352Z
LAST-MODIFIED:20230125T232738Z
UID:10008035-1646233200-1646236800@www.northparkchurch.org
SUMMARY:Small Group Online with Pastor Bob Fuller
DESCRIPTION:JOIN PASTOR BOB FULLER FOR A VIRTUAL SMALL GROUP!\nCONNECT with others | LEARN something new | GROW in your faith \nThis is a great way to connect with others\, while also growing spiritually as we dig into Sunday’s talk a little more.  Our format will include introductions\, some discussion regarding Sunday’s talk\, additional resources\, and prayer. \nYou are welcome to join anytime! \nThis small group will be hosted on ZOOM. \n\nREQUEST ACCESS\nYou must send an email to Pastor Bob Fuller to request access to the password protected meeting room. \nRequest Access \n\nUSING ZOOM\nZoom is easy to use\, and can be used on a Computer\, Laptop\, Chromebook\, Tablet\, or Smartphone. \nSimply create your free account by either going to the Zoom website (zoom.us) or downloading the app on your smart device and search for the “Zoom Cloud Meetings” app\, its logo is a white camera on a blue background. \nZoom Website  |  Download Zoom Mobile App\n(or search “Zoom Cloud Meetings” in your app store – white camera on a blue background logo) \nSecurity features will be enabled to ensure that only those who request access will be able to join.
URL:https://www.northparkchurch.org/event/small-group-online-with-pastor-bob-fuller/2022-03-02/
LOCATION:CA\, United States
CATEGORIES:Online,Small Group
ATTACH;FMTTYPE=image/jpeg:https://www.northparkchurch.org/wp-content/uploads/2021/02/Small-Groups-Online-500-x-500-px.jpg
ORGANIZER;CN="Pastor Bob Fuller":MAILTO:bfuller@northparkcc.org
GEO:36.778261;-119.4179324
END:VEVENT
BEGIN:VEVENT
DTSTART;TZID=America/Los_Angeles:20220302T180000
DTEND;TZID=America/Los_Angeles:20220302T200000
DTSTAMP:20260420T154344
CREATED:20220121T235344Z
LAST-MODIFIED:20220414T070734Z
UID:10008111-1646244000-1646251200@www.northparkchurch.org
SUMMARY:ALPHA at Northpark
DESCRIPTION:HAVE YOU EVER WONDERED\, “WHERE IS GOD?”\nJoin us at Northpark on Wednesday nights as we have conversations about faith\, life and God. \nALPHA AT NORTHPARK COMMUNITY CHURCH\nFebruary 16 – March 23\, 2022\nand\nApril 27 -May 18\, 2022 \n6:00 Free Dinner\n6:30 Classes for all ages \nDinner provided  | Classes for kids and youth at the same time \nFIND OUT MORE or REGISTER NOW
URL:https://www.northparkchurch.org/event/alpha/2022-03-02/
LOCATION:Northpark Community Church\, 2297 E. Shepherd Ave.\, Fresno\, CA\, 93720\, United States
CATEGORIES:Church Event,Older Adults,Small Group,Wednesday Night,Young Adult,Youth
ATTACH;FMTTYPE=image/png:https://www.northparkchurch.org/wp-content/uploads/2022/02/alpha-logo-transparent-background-e1644104689716.png
GEO:36.8657759;-119.741738
X-APPLE-STRUCTURED-LOCATION;VALUE=URI;X-ADDRESS=Northpark Community Church 2297 E. Shepherd Ave. Fresno CA 93720 United States;X-APPLE-RADIUS=500;X-TITLE=2297 E. Shepherd Ave.:geo:-119.741738,36.8657759
END:VEVENT
BEGIN:VEVENT
DTSTART;TZID=America/Los_Angeles:20220308T183000
DTEND;TZID=America/Los_Angeles:20220308T200000
DTSTAMP:20260420T154344
CREATED:20220127T211609Z
LAST-MODIFIED:20220127T211609Z
UID:10008124-1646764200-1646769600@www.northparkchurch.org
SUMMARY:Women's Bible Study: Discerning the Voice of God
DESCRIPTION:Women’s Tuesday Evening Bible Study\nDiscerning the Voice of God\nTuesdays\, 6:30 – 8:00 p.m.\nNorthpark\, Room 101 \n  \nLadies\, we want YOU to join us for this 7 week study from best-selling author Priscilla Shirer. \nDiscover the root to clear and daily communication with God – humble obedience. Learn how surrender unlocks His many blessings intended for us\, centers us in His will\, and helps us discern His voice in everyday life. \nThis study is facilitated by Maryellen Willis. Workbooks are available for purchase\, join us the first night to get yours!
URL:https://www.northparkchurch.org/event/womens-bible-study-discerning-the-voice-of-god/2022-03-08/
LOCATION:Northpark Community Church\, 2297 E. Shepherd Ave.\, Fresno\, CA\, 93720\, United States
CATEGORIES:Women's Ministry
ATTACH;FMTTYPE=image/jpeg:https://www.northparkchurch.org/wp-content/uploads/2021/08/Womens-Bible-Study-Square.jpg
ORGANIZER;CN="Maryellen Willis":MAILTO:maryellen@nonnieshouseboutique.com
GEO:36.8657759;-119.741738
X-APPLE-STRUCTURED-LOCATION;VALUE=URI;X-ADDRESS=Northpark Community Church 2297 E. Shepherd Ave. Fresno CA 93720 United States;X-APPLE-RADIUS=500;X-TITLE=2297 E. Shepherd Ave.:geo:-119.741738,36.8657759
END:VEVENT
BEGIN:VEVENT
DTSTART;TZID=America/Los_Angeles:20220309T150000
DTEND;TZID=America/Los_Angeles:20220309T160000
DTSTAMP:20260420T154344
CREATED:20210228T212352Z
LAST-MODIFIED:20230125T232738Z
UID:10008036-1646838000-1646841600@www.northparkchurch.org
SUMMARY:Small Group Online with Pastor Bob Fuller
DESCRIPTION:JOIN PASTOR BOB FULLER FOR A VIRTUAL SMALL GROUP!\nCONNECT with others | LEARN something new | GROW in your faith \nThis is a great way to connect with others\, while also growing spiritually as we dig into Sunday’s talk a little more.  Our format will include introductions\, some discussion regarding Sunday’s talk\, additional resources\, and prayer. \nYou are welcome to join anytime! \nThis small group will be hosted on ZOOM. \n\nREQUEST ACCESS\nYou must send an email to Pastor Bob Fuller to request access to the password protected meeting room. \nRequest Access \n\nUSING ZOOM\nZoom is easy to use\, and can be used on a Computer\, Laptop\, Chromebook\, Tablet\, or Smartphone. \nSimply create your free account by either going to the Zoom website (zoom.us) or downloading the app on your smart device and search for the “Zoom Cloud Meetings” app\, its logo is a white camera on a blue background. \nZoom Website  |  Download Zoom Mobile App\n(or search “Zoom Cloud Meetings” in your app store – white camera on a blue background logo) \nSecurity features will be enabled to ensure that only those who request access will be able to join.
URL:https://www.northparkchurch.org/event/small-group-online-with-pastor-bob-fuller/2022-03-09/
LOCATION:CA\, United States
CATEGORIES:Online,Small Group
ATTACH;FMTTYPE=image/jpeg:https://www.northparkchurch.org/wp-content/uploads/2021/02/Small-Groups-Online-500-x-500-px.jpg
ORGANIZER;CN="Pastor Bob Fuller":MAILTO:bfuller@northparkcc.org
GEO:36.778261;-119.4179324
END:VEVENT
BEGIN:VEVENT
DTSTART;TZID=America/Los_Angeles:20220309T180000
DTEND;TZID=America/Los_Angeles:20220309T200000
DTSTAMP:20260420T154344
CREATED:20220121T235344Z
LAST-MODIFIED:20220414T070734Z
UID:10008112-1646848800-1646856000@www.northparkchurch.org
SUMMARY:ALPHA at Northpark
DESCRIPTION:HAVE YOU EVER WONDERED\, “WHERE IS GOD?”\nJoin us at Northpark on Wednesday nights as we have conversations about faith\, life and God. \nALPHA AT NORTHPARK COMMUNITY CHURCH\nFebruary 16 – March 23\, 2022\nand\nApril 27 -May 18\, 2022 \n6:00 Free Dinner\n6:30 Classes for all ages \nDinner provided  | Classes for kids and youth at the same time \nFIND OUT MORE or REGISTER NOW
URL:https://www.northparkchurch.org/event/alpha/2022-03-09/
LOCATION:Northpark Community Church\, 2297 E. Shepherd Ave.\, Fresno\, CA\, 93720\, United States
CATEGORIES:Church Event,Older Adults,Small Group,Wednesday Night,Young Adult,Youth
ATTACH;FMTTYPE=image/png:https://www.northparkchurch.org/wp-content/uploads/2022/02/alpha-logo-transparent-background-e1644104689716.png
GEO:36.8657759;-119.741738
X-APPLE-STRUCTURED-LOCATION;VALUE=URI;X-ADDRESS=Northpark Community Church 2297 E. Shepherd Ave. Fresno CA 93720 United States;X-APPLE-RADIUS=500;X-TITLE=2297 E. Shepherd Ave.:geo:-119.741738,36.8657759
END:VEVENT
BEGIN:VEVENT
DTSTART;TZID=America/Los_Angeles:20220313T180000
DTEND;TZID=America/Los_Angeles:20220313T193000
DTSTAMP:20260420T154344
CREATED:20220224T011654Z
LAST-MODIFIED:20220224T201418Z
UID:10008145-1647194400-1647199800@www.northparkchurch.org
SUMMARY:Annual Business Meeting & Board Election 2022
DESCRIPTION:Sunday\, March 13th\n6:00 p.m. at Northpark (in person only) \nDessert & Meeting – Bring a dessert to share! \n\nElection of two board members\nMinistry updates from each ministry leader\nFinancial updates\nUpdate on upcoming courtyard renovations\n\nREMINDER TO MEMBERS\, we must have a quorum in order to vote.\nIf it’s absolutely necessary for you to miss the meeting\, proxy forms are available. You need to complete a proxy form stating the reason for your absence and turn it in the Sunday prior to the meeting\, or deliver it to a Board Member at least two hours prior to the scheduled meeting start time. \nInformation including board candidate bios will be sent to all members by email and postal mail. \nEven though only members will be able to vote for board members\, all Northpark attendees are encouraged to attend and come hear about what is happening and coming up at Northpark. \n\nBOARD ELECTIONS\nAt this meeting\, the membership will elect TWO new members of the church’s Board of Trustees. The regular term for a Board Member is three years. A Board Member may be elected to serve two (2) consecutive three year terms. \n2022 BOARD CANDIDATES\nFor more information about each candidate\, please see the detailed information that was sent to members\, or pick up a printed copy on Sunday in the lobby. \n\nCraig Brueckner\nChris Doda\nJerry Howell\nJacob Stout\n\nCURRENT BOARD MEMBERS AND TERM EXPIRATIONS\nCarol Barney 2/2022\nNick Paramo 2/2022\nAnastasia Nelson 2/2023\nTito Obagi 2/2023\nLindsey Murakoshi 2/2023\nMelanie Hathaway 2/2024\nSean Folweiler 2/2024
URL:https://www.northparkchurch.org/event/annual-meeting-2022/
LOCATION:Northpark Community Church\, 2297 E. Shepherd Ave.\, Fresno\, CA\, 93720\, United States
CATEGORIES:Church Event
ATTACH;FMTTYPE=image/jpeg:https://www.northparkchurch.org/wp-content/uploads/2022/02/Northpark-Logo-Square.jpg
GEO:36.8657759;-119.741738
X-APPLE-STRUCTURED-LOCATION;VALUE=URI;X-ADDRESS=Northpark Community Church 2297 E. Shepherd Ave. Fresno CA 93720 United States;X-APPLE-RADIUS=500;X-TITLE=2297 E. Shepherd Ave.:geo:-119.741738,36.8657759
END:VEVENT
BEGIN:VEVENT
DTSTART;TZID=America/Los_Angeles:20220315T183000
DTEND;TZID=America/Los_Angeles:20220315T200000
DTSTAMP:20260420T154344
CREATED:20220127T211609Z
LAST-MODIFIED:20220127T211609Z
UID:10008125-1647369000-1647374400@www.northparkchurch.org
SUMMARY:Women's Bible Study: Discerning the Voice of God
DESCRIPTION:Women’s Tuesday Evening Bible Study\nDiscerning the Voice of God\nTuesdays\, 6:30 – 8:00 p.m.\nNorthpark\, Room 101 \n  \nLadies\, we want YOU to join us for this 7 week study from best-selling author Priscilla Shirer. \nDiscover the root to clear and daily communication with God – humble obedience. Learn how surrender unlocks His many blessings intended for us\, centers us in His will\, and helps us discern His voice in everyday life. \nThis study is facilitated by Maryellen Willis. Workbooks are available for purchase\, join us the first night to get yours!
URL:https://www.northparkchurch.org/event/womens-bible-study-discerning-the-voice-of-god/2022-03-15/
LOCATION:Northpark Community Church\, 2297 E. Shepherd Ave.\, Fresno\, CA\, 93720\, United States
CATEGORIES:Women's Ministry
ATTACH;FMTTYPE=image/jpeg:https://www.northparkchurch.org/wp-content/uploads/2021/08/Womens-Bible-Study-Square.jpg
ORGANIZER;CN="Maryellen Willis":MAILTO:maryellen@nonnieshouseboutique.com
GEO:36.8657759;-119.741738
X-APPLE-STRUCTURED-LOCATION;VALUE=URI;X-ADDRESS=Northpark Community Church 2297 E. Shepherd Ave. Fresno CA 93720 United States;X-APPLE-RADIUS=500;X-TITLE=2297 E. Shepherd Ave.:geo:-119.741738,36.8657759
END:VEVENT
BEGIN:VEVENT
DTSTART;TZID=America/Los_Angeles:20220316T150000
DTEND;TZID=America/Los_Angeles:20220316T160000
DTSTAMP:20260420T154344
CREATED:20210228T212352Z
LAST-MODIFIED:20230125T232738Z
UID:10008037-1647442800-1647446400@www.northparkchurch.org
SUMMARY:Small Group Online with Pastor Bob Fuller
DESCRIPTION:JOIN PASTOR BOB FULLER FOR A VIRTUAL SMALL GROUP!\nCONNECT with others | LEARN something new | GROW in your faith \nThis is a great way to connect with others\, while also growing spiritually as we dig into Sunday’s talk a little more.  Our format will include introductions\, some discussion regarding Sunday’s talk\, additional resources\, and prayer. \nYou are welcome to join anytime! \nThis small group will be hosted on ZOOM. \n\nREQUEST ACCESS\nYou must send an email to Pastor Bob Fuller to request access to the password protected meeting room. \nRequest Access \n\nUSING ZOOM\nZoom is easy to use\, and can be used on a Computer\, Laptop\, Chromebook\, Tablet\, or Smartphone. \nSimply create your free account by either going to the Zoom website (zoom.us) or downloading the app on your smart device and search for the “Zoom Cloud Meetings” app\, its logo is a white camera on a blue background. \nZoom Website  |  Download Zoom Mobile App\n(or search “Zoom Cloud Meetings” in your app store – white camera on a blue background logo) \nSecurity features will be enabled to ensure that only those who request access will be able to join.
URL:https://www.northparkchurch.org/event/small-group-online-with-pastor-bob-fuller/2022-03-16/
LOCATION:CA\, United States
CATEGORIES:Online,Small Group
ATTACH;FMTTYPE=image/jpeg:https://www.northparkchurch.org/wp-content/uploads/2021/02/Small-Groups-Online-500-x-500-px.jpg
ORGANIZER;CN="Pastor Bob Fuller":MAILTO:bfuller@northparkcc.org
GEO:36.778261;-119.4179324
END:VEVENT
BEGIN:VEVENT
DTSTART;TZID=America/Los_Angeles:20220316T180000
DTEND;TZID=America/Los_Angeles:20220316T200000
DTSTAMP:20260420T154344
CREATED:20220121T235344Z
LAST-MODIFIED:20220414T070734Z
UID:10008113-1647453600-1647460800@www.northparkchurch.org
SUMMARY:ALPHA at Northpark
DESCRIPTION:HAVE YOU EVER WONDERED\, “WHERE IS GOD?”\nJoin us at Northpark on Wednesday nights as we have conversations about faith\, life and God. \nALPHA AT NORTHPARK COMMUNITY CHURCH\nFebruary 16 – March 23\, 2022\nand\nApril 27 -May 18\, 2022 \n6:00 Free Dinner\n6:30 Classes for all ages \nDinner provided  | Classes for kids and youth at the same time \nFIND OUT MORE or REGISTER NOW
URL:https://www.northparkchurch.org/event/alpha/2022-03-16/
LOCATION:Northpark Community Church\, 2297 E. Shepherd Ave.\, Fresno\, CA\, 93720\, United States
CATEGORIES:Church Event,Older Adults,Small Group,Wednesday Night,Young Adult,Youth
ATTACH;FMTTYPE=image/png:https://www.northparkchurch.org/wp-content/uploads/2022/02/alpha-logo-transparent-background-e1644104689716.png
GEO:36.8657759;-119.741738
X-APPLE-STRUCTURED-LOCATION;VALUE=URI;X-ADDRESS=Northpark Community Church 2297 E. Shepherd Ave. Fresno CA 93720 United States;X-APPLE-RADIUS=500;X-TITLE=2297 E. Shepherd Ave.:geo:-119.741738,36.8657759
END:VEVENT
BEGIN:VEVENT
DTSTART;TZID=America/Los_Angeles:20220318T181500
DTEND;TZID=America/Los_Angeles:20220318T200000
DTSTAMP:20260420T154344
CREATED:20220303T224821Z
LAST-MODIFIED:20220303T224821Z
UID:10008146-1647627300-1647633600@www.northparkchurch.org
SUMMARY:Ladies FUN Night: Bunco
DESCRIPTION:Friday\, March 18\, 2022\n6:15-8:00 pm\nat Northpark\, Room 202 \nCost $10 per person \nLadies\, join us for a night of Bunco – this fun and easy game will be sure to provide us lots of  fun and laughs! Don’t know how to play? That’s ok\, we’re going to teach you! \nSnacks and prizes provided. Invite a friend! \nLimited space\, please sign up in advance. \nTo sign up\, call or text Kim Tatham: 559-900-5035
URL:https://www.northparkchurch.org/event/ladies-fun-night-bunco/
LOCATION:Northpark Community Church\, 2297 E. Shepherd Ave.\, Fresno\, CA\, 93720\, United States
CATEGORIES:Women's Ministry
ATTACH;FMTTYPE=image/jpeg:https://www.northparkchurch.org/wp-content/uploads/2022/03/Bunco-Game-Night.jpg
GEO:36.8657759;-119.741738
X-APPLE-STRUCTURED-LOCATION;VALUE=URI;X-ADDRESS=Northpark Community Church 2297 E. Shepherd Ave. Fresno CA 93720 United States;X-APPLE-RADIUS=500;X-TITLE=2297 E. Shepherd Ave.:geo:-119.741738,36.8657759
END:VEVENT
BEGIN:VEVENT
DTSTART;TZID=America/Los_Angeles:20220323T150000
DTEND;TZID=America/Los_Angeles:20220323T160000
DTSTAMP:20260420T154344
CREATED:20210228T212352Z
LAST-MODIFIED:20230125T232738Z
UID:10008038-1648047600-1648051200@www.northparkchurch.org
SUMMARY:Small Group Online with Pastor Bob Fuller
DESCRIPTION:JOIN PASTOR BOB FULLER FOR A VIRTUAL SMALL GROUP!\nCONNECT with others | LEARN something new | GROW in your faith \nThis is a great way to connect with others\, while also growing spiritually as we dig into Sunday’s talk a little more.  Our format will include introductions\, some discussion regarding Sunday’s talk\, additional resources\, and prayer. \nYou are welcome to join anytime! \nThis small group will be hosted on ZOOM. \n\nREQUEST ACCESS\nYou must send an email to Pastor Bob Fuller to request access to the password protected meeting room. \nRequest Access \n\nUSING ZOOM\nZoom is easy to use\, and can be used on a Computer\, Laptop\, Chromebook\, Tablet\, or Smartphone. \nSimply create your free account by either going to the Zoom website (zoom.us) or downloading the app on your smart device and search for the “Zoom Cloud Meetings” app\, its logo is a white camera on a blue background. \nZoom Website  |  Download Zoom Mobile App\n(or search “Zoom Cloud Meetings” in your app store – white camera on a blue background logo) \nSecurity features will be enabled to ensure that only those who request access will be able to join.
URL:https://www.northparkchurch.org/event/small-group-online-with-pastor-bob-fuller/2022-03-23/
LOCATION:CA\, United States
CATEGORIES:Online,Small Group
ATTACH;FMTTYPE=image/jpeg:https://www.northparkchurch.org/wp-content/uploads/2021/02/Small-Groups-Online-500-x-500-px.jpg
ORGANIZER;CN="Pastor Bob Fuller":MAILTO:bfuller@northparkcc.org
GEO:36.778261;-119.4179324
END:VEVENT
BEGIN:VEVENT
DTSTART;TZID=America/Los_Angeles:20220323T180000
DTEND;TZID=America/Los_Angeles:20220323T200000
DTSTAMP:20260420T154344
CREATED:20220121T235344Z
LAST-MODIFIED:20220414T070734Z
UID:10008114-1648058400-1648065600@www.northparkchurch.org
SUMMARY:ALPHA at Northpark
DESCRIPTION:HAVE YOU EVER WONDERED\, “WHERE IS GOD?”\nJoin us at Northpark on Wednesday nights as we have conversations about faith\, life and God. \nALPHA AT NORTHPARK COMMUNITY CHURCH\nFebruary 16 – March 23\, 2022\nand\nApril 27 -May 18\, 2022 \n6:00 Free Dinner\n6:30 Classes for all ages \nDinner provided  | Classes for kids and youth at the same time \nFIND OUT MORE or REGISTER NOW
URL:https://www.northparkchurch.org/event/alpha/2022-03-23/
LOCATION:Northpark Community Church\, 2297 E. Shepherd Ave.\, Fresno\, CA\, 93720\, United States
CATEGORIES:Church Event,Older Adults,Small Group,Wednesday Night,Young Adult,Youth
ATTACH;FMTTYPE=image/png:https://www.northparkchurch.org/wp-content/uploads/2022/02/alpha-logo-transparent-background-e1644104689716.png
GEO:36.8657759;-119.741738
X-APPLE-STRUCTURED-LOCATION;VALUE=URI;X-ADDRESS=Northpark Community Church 2297 E. Shepherd Ave. Fresno CA 93720 United States;X-APPLE-RADIUS=500;X-TITLE=2297 E. Shepherd Ave.:geo:-119.741738,36.8657759
END:VEVENT
BEGIN:VEVENT
DTSTART;TZID=America/Los_Angeles:20220330T150000
DTEND;TZID=America/Los_Angeles:20220330T160000
DTSTAMP:20260420T154344
CREATED:20210228T212352Z
LAST-MODIFIED:20230125T232738Z
UID:10008039-1648652400-1648656000@www.northparkchurch.org
SUMMARY:Small Group Online with Pastor Bob Fuller
DESCRIPTION:JOIN PASTOR BOB FULLER FOR A VIRTUAL SMALL GROUP!\nCONNECT with others | LEARN something new | GROW in your faith \nThis is a great way to connect with others\, while also growing spiritually as we dig into Sunday’s talk a little more.  Our format will include introductions\, some discussion regarding Sunday’s talk\, additional resources\, and prayer. \nYou are welcome to join anytime! \nThis small group will be hosted on ZOOM. \n\nREQUEST ACCESS\nYou must send an email to Pastor Bob Fuller to request access to the password protected meeting room. \nRequest Access \n\nUSING ZOOM\nZoom is easy to use\, and can be used on a Computer\, Laptop\, Chromebook\, Tablet\, or Smartphone. \nSimply create your free account by either going to the Zoom website (zoom.us) or downloading the app on your smart device and search for the “Zoom Cloud Meetings” app\, its logo is a white camera on a blue background. \nZoom Website  |  Download Zoom Mobile App\n(or search “Zoom Cloud Meetings” in your app store – white camera on a blue background logo) \nSecurity features will be enabled to ensure that only those who request access will be able to join.
URL:https://www.northparkchurch.org/event/small-group-online-with-pastor-bob-fuller/2022-03-30/
LOCATION:CA\, United States
CATEGORIES:Online,Small Group
ATTACH;FMTTYPE=image/jpeg:https://www.northparkchurch.org/wp-content/uploads/2021/02/Small-Groups-Online-500-x-500-px.jpg
ORGANIZER;CN="Pastor Bob Fuller":MAILTO:bfuller@northparkcc.org
GEO:36.778261;-119.4179324
END:VEVENT
BEGIN:VEVENT
DTSTART;TZID=America/Los_Angeles:20220330T180000
DTEND;TZID=America/Los_Angeles:20220330T200000
DTSTAMP:20260420T154344
CREATED:20220320T042202Z
LAST-MODIFIED:20220912T181401Z
UID:10008147-1648663200-1648670400@www.northparkchurch.org
SUMMARY:Parent Workshop
DESCRIPTION:Being a parent is tough… but we’ve got your back! \nParents of kids from birth through high school are invited to join us for these workshops where experts will share resources and insight. \nThese are free events\, but please REGISTER IN ADVANCE so we can plan appropriately. Registration form is below. \n\nWEDNESDAY\, MARCH 30\, 2022\n6:00 FREE DINNER | 6:30 P.M. WORKSHOP\nDr. Ryan Eisele\, Clovis Unified School District\nPrincipal\, Clovis East High School & Reyburn Intermediate \nJosh Turpin\, Clovis Unified School District\nGuidance Instructional Specialist\, Maple Creek Elementary \nExperts in the field of education will be here to discuss and answer questions about the social and emotional well-being of students and what they have experienced over the past several years. Our speakers will share tips for academic success in today’s environment\, give insights to parents about how to partner with their kids/teens in regards to learning\, and help parents navigate the challenges they may be facing. \nREGISTER NOW:\n\n\nNext Week:\nWEDNESDAY\, APRIL 6\, 2020\n6:00 FREE DINNER | 6:30 P.M. WORKSHOP\nKaren D. Wood\nClinical Social Work / Therapist\, MSW\, LCSW\nClear Thinking Counseling Alliance\nBrain Training & Behavioral Counseling \nCandi Maur\nChildren’s Ministry Pastor\nNorthpark Community Church\, Fresno CA \nWhy do we respond the way we do? Why do kids respond the way they do? This session will help parents have more insight into living life with clear\, concise thinking in any situation and in every relationship. Also\, resources will be shared on how to guide your kids spiritually in an increasingly challenging environment. \n 
URL:https://www.northparkchurch.org/event/parent-workshop/
LOCATION:Northpark Community Church\, 2297 E. Shepherd Ave.\, Fresno\, CA\, 93720\, United States
CATEGORIES:Children,Church Event,Men's Ministry,Preteen,Women's Ministry,Youth
ATTACH;FMTTYPE=image/jpeg:https://www.northparkchurch.org/wp-content/uploads/2022/03/1.jpg
ORGANIZER;CN="Pastor Candi Maur":MAILTO:Candi@NorthparkCC.org
GEO:36.8657759;-119.741738
X-APPLE-STRUCTURED-LOCATION;VALUE=URI;X-ADDRESS=Northpark Community Church 2297 E. Shepherd Ave. Fresno CA 93720 United States;X-APPLE-RADIUS=500;X-TITLE=2297 E. Shepherd Ave.:geo:-119.741738,36.8657759
END:VEVENT
END:VCALENDAR