BEGIN:VCALENDAR
VERSION:2.0
PRODID:-//Northpark - ECPv6.15.14//NONSGML v1.0//EN
CALSCALE:GREGORIAN
METHOD:PUBLISH
X-WR-CALNAME:Northpark
X-ORIGINAL-URL:https://www.northparkchurch.org
X-WR-CALDESC:Events for Northpark
REFRESH-INTERVAL;VALUE=DURATION:PT1H
X-Robots-Tag:noindex
X-PUBLISHED-TTL:PT1H
BEGIN:VTIMEZONE
TZID:America/Los_Angeles
BEGIN:DAYLIGHT
TZOFFSETFROM:-0800
TZOFFSETTO:-0700
TZNAME:PDT
DTSTART:20230312T100000
END:DAYLIGHT
BEGIN:STANDARD
TZOFFSETFROM:-0700
TZOFFSETTO:-0800
TZNAME:PST
DTSTART:20231105T090000
END:STANDARD
BEGIN:DAYLIGHT
TZOFFSETFROM:-0800
TZOFFSETTO:-0700
TZNAME:PDT
DTSTART:20240310T100000
END:DAYLIGHT
BEGIN:STANDARD
TZOFFSETFROM:-0700
TZOFFSETTO:-0800
TZNAME:PST
DTSTART:20241103T090000
END:STANDARD
BEGIN:DAYLIGHT
TZOFFSETFROM:-0800
TZOFFSETTO:-0700
TZNAME:PDT
DTSTART:20250309T100000
END:DAYLIGHT
BEGIN:STANDARD
TZOFFSETFROM:-0700
TZOFFSETTO:-0800
TZNAME:PST
DTSTART:20251102T090000
END:STANDARD
END:VTIMEZONE
BEGIN:VEVENT
DTSTART;TZID=America/Los_Angeles:20241002T180000
DTEND;TZID=America/Los_Angeles:20241002T200000
DTSTAMP:20260425T211033
CREATED:20240727T083832Z
LAST-MODIFIED:20240727T083832Z
UID:10010275-1727892000-1727899200@www.northparkchurch.org
SUMMARY:Wednesday Night for All Ages
DESCRIPTION:WEDNESDAY NIGHTS FOR THE WHOLE FAMILY\nSeptember 4 – October  2 (5 weeks) \nFree Dinner 6:00 | Classes 6:30pm\n \n*You are welcome to join in at any time during these sessions \nBring the whole family for a fantastic dinner\, connection with others\, and great teaching! \nREGISTER ONLINE NOW
URL:https://www.northparkchurch.org/event/wednesday-night-for-all-ages-3/2024-10-02/
LOCATION:Northpark Community Church\, 2297 E. Shepherd Ave.\, Fresno\, CA\, 93720\, United States
CATEGORIES:Children,Church Event,Wednesday Night,Youth
ATTACH;FMTTYPE=image/jpeg:https://www.northparkchurch.org/wp-content/uploads/2022/08/Wednesday-Night-500-×-500-px.jpg
GEO:36.8657759;-119.741738
X-APPLE-STRUCTURED-LOCATION;VALUE=URI;X-ADDRESS=Northpark Community Church 2297 E. Shepherd Ave. Fresno CA 93720 United States;X-APPLE-RADIUS=500;X-TITLE=2297 E. Shepherd Ave.:geo:-119.741738,36.8657759
END:VEVENT
BEGIN:VEVENT
DTSTART;TZID=America/Los_Angeles:20241006T111500
DTEND;TZID=America/Los_Angeles:20241006T133000
DTSTAMP:20260425T211033
CREATED:20240905T213023Z
LAST-MODIFIED:20241103T064603Z
UID:10010432-1728213300-1728221400@www.northparkchurch.org
SUMMARY:Teen Bible Quiz
DESCRIPTION:TEEN BIBLE QUIZ\nSundays\, 11:15 a.m.  | Room 101\n \nFor teenagers itching to study God’s Word\, we invite you to join for this great opportunity to dig deep into the Bible. \nThere will be additional opportunities (optional) to compete in off site competitions. \nFacilitated by Tara and Jasmine Sirvent
URL:https://www.northparkchurch.org/event/teen-bible-quiz-3/2024-10-06/
LOCATION:Northpark Community Church\, 2297 E. Shepherd Ave.\, Fresno\, CA\, 93720\, United States
CATEGORIES:Youth
ATTACH;FMTTYPE=image/jpeg:https://www.northparkchurch.org/wp-content/uploads/2023/09/Teen-Bible-Quiz-1.jpg
ORGANIZER;CN="Pastor Justin Goble":MAILTO:Justin@Northparkcc.org
GEO:36.8657759;-119.741738
X-APPLE-STRUCTURED-LOCATION;VALUE=URI;X-ADDRESS=Northpark Community Church 2297 E. Shepherd Ave. Fresno CA 93720 United States;X-APPLE-RADIUS=500;X-TITLE=2297 E. Shepherd Ave.:geo:-119.741738,36.8657759
END:VEVENT
BEGIN:VEVENT
DTSTART;TZID=America/Los_Angeles:20241013T111500
DTEND;TZID=America/Los_Angeles:20241013T133000
DTSTAMP:20260425T211033
CREATED:20240905T213023Z
LAST-MODIFIED:20241103T064603Z
UID:10010433-1728818100-1728826200@www.northparkchurch.org
SUMMARY:Teen Bible Quiz
DESCRIPTION:TEEN BIBLE QUIZ\nSundays\, 11:15 a.m.  | Room 101\n \nFor teenagers itching to study God’s Word\, we invite you to join for this great opportunity to dig deep into the Bible. \nThere will be additional opportunities (optional) to compete in off site competitions. \nFacilitated by Tara and Jasmine Sirvent
URL:https://www.northparkchurch.org/event/teen-bible-quiz-3/2024-10-13/
LOCATION:Northpark Community Church\, 2297 E. Shepherd Ave.\, Fresno\, CA\, 93720\, United States
CATEGORIES:Youth
ATTACH;FMTTYPE=image/jpeg:https://www.northparkchurch.org/wp-content/uploads/2023/09/Teen-Bible-Quiz-1.jpg
ORGANIZER;CN="Pastor Justin Goble":MAILTO:Justin@Northparkcc.org
GEO:36.8657759;-119.741738
X-APPLE-STRUCTURED-LOCATION;VALUE=URI;X-ADDRESS=Northpark Community Church 2297 E. Shepherd Ave. Fresno CA 93720 United States;X-APPLE-RADIUS=500;X-TITLE=2297 E. Shepherd Ave.:geo:-119.741738,36.8657759
END:VEVENT
BEGIN:VEVENT
DTSTART;TZID=America/Los_Angeles:20241020T111500
DTEND;TZID=America/Los_Angeles:20241020T133000
DTSTAMP:20260425T211033
CREATED:20240905T213023Z
LAST-MODIFIED:20241103T064603Z
UID:10010434-1729422900-1729431000@www.northparkchurch.org
SUMMARY:Teen Bible Quiz
DESCRIPTION:TEEN BIBLE QUIZ\nSundays\, 11:15 a.m.  | Room 101\n \nFor teenagers itching to study God’s Word\, we invite you to join for this great opportunity to dig deep into the Bible. \nThere will be additional opportunities (optional) to compete in off site competitions. \nFacilitated by Tara and Jasmine Sirvent
URL:https://www.northparkchurch.org/event/teen-bible-quiz-3/2024-10-20/
LOCATION:Northpark Community Church\, 2297 E. Shepherd Ave.\, Fresno\, CA\, 93720\, United States
CATEGORIES:Youth
ATTACH;FMTTYPE=image/jpeg:https://www.northparkchurch.org/wp-content/uploads/2023/09/Teen-Bible-Quiz-1.jpg
ORGANIZER;CN="Pastor Justin Goble":MAILTO:Justin@Northparkcc.org
GEO:36.8657759;-119.741738
X-APPLE-STRUCTURED-LOCATION;VALUE=URI;X-ADDRESS=Northpark Community Church 2297 E. Shepherd Ave. Fresno CA 93720 United States;X-APPLE-RADIUS=500;X-TITLE=2297 E. Shepherd Ave.:geo:-119.741738,36.8657759
END:VEVENT
BEGIN:VEVENT
DTSTART;TZID=America/Los_Angeles:20241027T111500
DTEND;TZID=America/Los_Angeles:20241027T133000
DTSTAMP:20260425T211033
CREATED:20240905T213023Z
LAST-MODIFIED:20241103T064603Z
UID:10010435-1730027700-1730035800@www.northparkchurch.org
SUMMARY:Teen Bible Quiz
DESCRIPTION:TEEN BIBLE QUIZ\nSundays\, 11:15 a.m.  | Room 101\n \nFor teenagers itching to study God’s Word\, we invite you to join for this great opportunity to dig deep into the Bible. \nThere will be additional opportunities (optional) to compete in off site competitions. \nFacilitated by Tara and Jasmine Sirvent
URL:https://www.northparkchurch.org/event/teen-bible-quiz-3/2024-10-27/
LOCATION:Northpark Community Church\, 2297 E. Shepherd Ave.\, Fresno\, CA\, 93720\, United States
CATEGORIES:Youth
ATTACH;FMTTYPE=image/jpeg:https://www.northparkchurch.org/wp-content/uploads/2023/09/Teen-Bible-Quiz-1.jpg
ORGANIZER;CN="Pastor Justin Goble":MAILTO:Justin@Northparkcc.org
GEO:36.8657759;-119.741738
X-APPLE-STRUCTURED-LOCATION;VALUE=URI;X-ADDRESS=Northpark Community Church 2297 E. Shepherd Ave. Fresno CA 93720 United States;X-APPLE-RADIUS=500;X-TITLE=2297 E. Shepherd Ave.:geo:-119.741738,36.8657759
END:VEVENT
BEGIN:VEVENT
DTSTART;TZID=America/Los_Angeles:20241030T180000
DTEND;TZID=America/Los_Angeles:20241030T200000
DTSTAMP:20260425T211033
CREATED:20241018T185226Z
LAST-MODIFIED:20241018T190033Z
UID:10010470-1730311200-1730318400@www.northparkchurch.org
SUMMARY:Youth Scavenger Hunt
DESCRIPTION:Wednesday\, October 30\, 2024\n6:00 – 8:00 p.m.\nat River Park Shopping Center\n(Meet at the entrance path by the movie theater and palm trees) \nJr High and High School students – join us for a fun evening at River Park for a photo scavenger hunt! \n\nWear a costume for extra points! (Please avoid anything that shows too much skin\, or overly gory or violent)\nYou can bring money for snacks… we will buy snacks for the winners!\n\nThe mall photo scavenger hunt is a big game where all involved are split into teams\, each trying to find all the items on a list and take a picture with the item for points. The team with the most points at the end wins! \nLast year was an absolute blast so can’t wait for this year’s event! \n 
URL:https://www.northparkchurch.org/event/youth-scavenger-hunt-2/
CATEGORIES:Youth
ATTACH;FMTTYPE=image/jpeg:https://www.northparkchurch.org/wp-content/uploads/2022/09/youth-square.jpg
ORGANIZER;CN="Pastor Justin Goble":MAILTO:Justin@Northparkcc.org
END:VEVENT
END:VCALENDAR