BEGIN:VCALENDAR
VERSION:2.0
PRODID:-//Northpark - ECPv6.15.14//NONSGML v1.0//EN
CALSCALE:GREGORIAN
METHOD:PUBLISH
X-WR-CALNAME:Northpark
X-ORIGINAL-URL:https://www.northparkchurch.org
X-WR-CALDESC:Events for Northpark
REFRESH-INTERVAL;VALUE=DURATION:PT1H
X-Robots-Tag:noindex
X-PUBLISHED-TTL:PT1H
BEGIN:VTIMEZONE
TZID:America/Los_Angeles
BEGIN:DAYLIGHT
TZOFFSETFROM:-0800
TZOFFSETTO:-0700
TZNAME:PDT
DTSTART:20210314T100000
END:DAYLIGHT
BEGIN:STANDARD
TZOFFSETFROM:-0700
TZOFFSETTO:-0800
TZNAME:PST
DTSTART:20211107T090000
END:STANDARD
BEGIN:DAYLIGHT
TZOFFSETFROM:-0800
TZOFFSETTO:-0700
TZNAME:PDT
DTSTART:20220313T100000
END:DAYLIGHT
BEGIN:STANDARD
TZOFFSETFROM:-0700
TZOFFSETTO:-0800
TZNAME:PST
DTSTART:20221106T090000
END:STANDARD
BEGIN:DAYLIGHT
TZOFFSETFROM:-0800
TZOFFSETTO:-0700
TZNAME:PDT
DTSTART:20230312T100000
END:DAYLIGHT
BEGIN:STANDARD
TZOFFSETFROM:-0700
TZOFFSETTO:-0800
TZNAME:PST
DTSTART:20231105T090000
END:STANDARD
END:VTIMEZONE
BEGIN:VEVENT
DTSTART;TZID=America/Los_Angeles:20220223T180000
DTEND;TZID=America/Los_Angeles:20220223T200000
DTSTAMP:20260421T002403
CREATED:20220121T235344Z
LAST-MODIFIED:20220414T070734Z
UID:10008110-1645639200-1645646400@www.northparkchurch.org
SUMMARY:ALPHA at Northpark
DESCRIPTION:HAVE YOU EVER WONDERED\, “WHERE IS GOD?”\nJoin us at Northpark on Wednesday nights as we have conversations about faith\, life and God. \nALPHA AT NORTHPARK COMMUNITY CHURCH\nFebruary 16 – March 23\, 2022\nand\nApril 27 -May 18\, 2022 \n6:00 Free Dinner\n6:30 Classes for all ages \nDinner provided  | Classes for kids and youth at the same time \nFIND OUT MORE or REGISTER NOW
URL:https://www.northparkchurch.org/event/alpha/2022-02-23/
LOCATION:Northpark Community Church\, 2297 E. Shepherd Ave.\, Fresno\, CA\, 93720\, United States
CATEGORIES:Church Event,Older Adults,Small Group,Wednesday Night,Young Adult,Youth
ATTACH;FMTTYPE=image/png:https://www.northparkchurch.org/wp-content/uploads/2022/02/alpha-logo-transparent-background-e1644104689716.png
GEO:36.8657759;-119.741738
X-APPLE-STRUCTURED-LOCATION;VALUE=URI;X-ADDRESS=Northpark Community Church 2297 E. Shepherd Ave. Fresno CA 93720 United States;X-APPLE-RADIUS=500;X-TITLE=2297 E. Shepherd Ave.:geo:-119.741738,36.8657759
END:VEVENT
BEGIN:VEVENT
DTSTART;TZID=America/Los_Angeles:20220216T180000
DTEND;TZID=America/Los_Angeles:20220216T200000
DTSTAMP:20260421T002403
CREATED:20220121T235344Z
LAST-MODIFIED:20220414T070734Z
UID:10008109-1645034400-1645041600@www.northparkchurch.org
SUMMARY:ALPHA at Northpark
DESCRIPTION:HAVE YOU EVER WONDERED\, “WHERE IS GOD?”\nJoin us at Northpark on Wednesday nights as we have conversations about faith\, life and God. \nALPHA AT NORTHPARK COMMUNITY CHURCH\nFebruary 16 – March 23\, 2022\nand\nApril 27 -May 18\, 2022 \n6:00 Free Dinner\n6:30 Classes for all ages \nDinner provided  | Classes for kids and youth at the same time \nFIND OUT MORE or REGISTER NOW
URL:https://www.northparkchurch.org/event/alpha/2022-02-16/
LOCATION:Northpark Community Church\, 2297 E. Shepherd Ave.\, Fresno\, CA\, 93720\, United States
CATEGORIES:Church Event,Older Adults,Small Group,Wednesday Night,Young Adult,Youth
ATTACH;FMTTYPE=image/png:https://www.northparkchurch.org/wp-content/uploads/2022/02/alpha-logo-transparent-background-e1644104689716.png
GEO:36.8657759;-119.741738
X-APPLE-STRUCTURED-LOCATION;VALUE=URI;X-ADDRESS=Northpark Community Church 2297 E. Shepherd Ave. Fresno CA 93720 United States;X-APPLE-RADIUS=500;X-TITLE=2297 E. Shepherd Ave.:geo:-119.741738,36.8657759
END:VEVENT
END:VCALENDAR