BEGIN:VCALENDAR
VERSION:2.0
PRODID:-//Northpark - ECPv6.15.14//NONSGML v1.0//EN
CALSCALE:GREGORIAN
METHOD:PUBLISH
X-WR-CALNAME:Northpark
X-ORIGINAL-URL:https://www.northparkchurch.org
X-WR-CALDESC:Events for Northpark
REFRESH-INTERVAL;VALUE=DURATION:PT1H
X-Robots-Tag:noindex
X-PUBLISHED-TTL:PT1H
BEGIN:VTIMEZONE
TZID:America/Los_Angeles
BEGIN:DAYLIGHT
TZOFFSETFROM:-0800
TZOFFSETTO:-0700
TZNAME:PDT
DTSTART:20210314T100000
END:DAYLIGHT
BEGIN:STANDARD
TZOFFSETFROM:-0700
TZOFFSETTO:-0800
TZNAME:PST
DTSTART:20211107T090000
END:STANDARD
BEGIN:DAYLIGHT
TZOFFSETFROM:-0800
TZOFFSETTO:-0700
TZNAME:PDT
DTSTART:20220313T100000
END:DAYLIGHT
BEGIN:STANDARD
TZOFFSETFROM:-0700
TZOFFSETTO:-0800
TZNAME:PST
DTSTART:20221106T090000
END:STANDARD
BEGIN:DAYLIGHT
TZOFFSETFROM:-0800
TZOFFSETTO:-0700
TZNAME:PDT
DTSTART:20230312T100000
END:DAYLIGHT
BEGIN:STANDARD
TZOFFSETFROM:-0700
TZOFFSETTO:-0800
TZNAME:PST
DTSTART:20231105T090000
END:STANDARD
BEGIN:DAYLIGHT
TZOFFSETFROM:-0800
TZOFFSETTO:-0700
TZNAME:PDT
DTSTART:20240310T100000
END:DAYLIGHT
BEGIN:STANDARD
TZOFFSETFROM:-0700
TZOFFSETTO:-0800
TZNAME:PST
DTSTART:20241103T090000
END:STANDARD
BEGIN:DAYLIGHT
TZOFFSETFROM:-0800
TZOFFSETTO:-0700
TZNAME:PDT
DTSTART:20250309T100000
END:DAYLIGHT
BEGIN:STANDARD
TZOFFSETFROM:-0700
TZOFFSETTO:-0800
TZNAME:PST
DTSTART:20251102T090000
END:STANDARD
END:VTIMEZONE
BEGIN:VEVENT
DTSTART;VALUE=DATE:20240812
DTEND;VALUE=DATE:20240813
DTSTAMP:20260423T152944
CREATED:20231005T023229Z
LAST-MODIFIED:20231005T023229Z
UID:10009728-1723420800-1723507199@www.northparkchurch.org
SUMMARY:Fresno/Clovis Prays - Day of Prayer
DESCRIPTION:Fresno / Clovis Prays\nThe 12th day of each month\n\nFresno Prays is a prayer movement covering Fresno and Clovis California in 24/7 prayer. \nAs part of the ‘America Prays’ movement\, churches all over Fresno and Clovis have committed to a specific day of the month to cover our city in prayer. \nNorthpark Community Church has committed to praying on the 12th of every month\, with individuals taking 30 minute time slots.  \nWill you join us in prayer? Will you stand in the gap for your community? You can pray from wherever you are! \nContact Pastor Bob Fuller to sign up for a prayer time! \nWatch monthly videos with community leaders: Fresno Prays YouTube Channel \nFor more information about America Prays\, visit americaprays.org
URL:https://www.northparkchurch.org/event/fresno-clovis-prays-day-of-prayer/2024-08-12/
LOCATION:Northpark Community Church\, 2297 E. Shepherd Ave.\, Fresno\, CA\, 93720\, United States
CATEGORIES:Church Event,Prayer
ATTACH;FMTTYPE=image/jpeg:https://www.northparkchurch.org/wp-content/uploads/2023/10/FRESNO-PRAYS-square.jpg
ORGANIZER;CN="Pastor Bob Fuller":MAILTO:bfuller@northparkcc.org
GEO:36.8657759;-119.741738
X-APPLE-STRUCTURED-LOCATION;VALUE=URI;X-ADDRESS=Northpark Community Church 2297 E. Shepherd Ave. Fresno CA 93720 United States;X-APPLE-RADIUS=500;X-TITLE=2297 E. Shepherd Ave.:geo:-119.741738,36.8657759
END:VEVENT
BEGIN:VEVENT
DTSTART;VALUE=DATE:20240712
DTEND;VALUE=DATE:20240713
DTSTAMP:20260423T152944
CREATED:20231005T023229Z
LAST-MODIFIED:20231005T023229Z
UID:10009727-1720742400-1720828799@www.northparkchurch.org
SUMMARY:Fresno/Clovis Prays - Day of Prayer
DESCRIPTION:Fresno / Clovis Prays\nThe 12th day of each month\n\nFresno Prays is a prayer movement covering Fresno and Clovis California in 24/7 prayer. \nAs part of the ‘America Prays’ movement\, churches all over Fresno and Clovis have committed to a specific day of the month to cover our city in prayer. \nNorthpark Community Church has committed to praying on the 12th of every month\, with individuals taking 30 minute time slots.  \nWill you join us in prayer? Will you stand in the gap for your community? You can pray from wherever you are! \nContact Pastor Bob Fuller to sign up for a prayer time! \nWatch monthly videos with community leaders: Fresno Prays YouTube Channel \nFor more information about America Prays\, visit americaprays.org
URL:https://www.northparkchurch.org/event/fresno-clovis-prays-day-of-prayer/2024-07-12/
LOCATION:Northpark Community Church\, 2297 E. Shepherd Ave.\, Fresno\, CA\, 93720\, United States
CATEGORIES:Church Event,Prayer
ATTACH;FMTTYPE=image/jpeg:https://www.northparkchurch.org/wp-content/uploads/2023/10/FRESNO-PRAYS-square.jpg
ORGANIZER;CN="Pastor Bob Fuller":MAILTO:bfuller@northparkcc.org
GEO:36.8657759;-119.741738
X-APPLE-STRUCTURED-LOCATION;VALUE=URI;X-ADDRESS=Northpark Community Church 2297 E. Shepherd Ave. Fresno CA 93720 United States;X-APPLE-RADIUS=500;X-TITLE=2297 E. Shepherd Ave.:geo:-119.741738,36.8657759
END:VEVENT
BEGIN:VEVENT
DTSTART;VALUE=DATE:20240612
DTEND;VALUE=DATE:20240613
DTSTAMP:20260423T152944
CREATED:20231005T023229Z
LAST-MODIFIED:20231005T023229Z
UID:10009726-1718150400-1718236799@www.northparkchurch.org
SUMMARY:Fresno/Clovis Prays - Day of Prayer
DESCRIPTION:Fresno / Clovis Prays\nThe 12th day of each month\n\nFresno Prays is a prayer movement covering Fresno and Clovis California in 24/7 prayer. \nAs part of the ‘America Prays’ movement\, churches all over Fresno and Clovis have committed to a specific day of the month to cover our city in prayer. \nNorthpark Community Church has committed to praying on the 12th of every month\, with individuals taking 30 minute time slots.  \nWill you join us in prayer? Will you stand in the gap for your community? You can pray from wherever you are! \nContact Pastor Bob Fuller to sign up for a prayer time! \nWatch monthly videos with community leaders: Fresno Prays YouTube Channel \nFor more information about America Prays\, visit americaprays.org
URL:https://www.northparkchurch.org/event/fresno-clovis-prays-day-of-prayer/2024-06-12/
LOCATION:Northpark Community Church\, 2297 E. Shepherd Ave.\, Fresno\, CA\, 93720\, United States
CATEGORIES:Church Event,Prayer
ATTACH;FMTTYPE=image/jpeg:https://www.northparkchurch.org/wp-content/uploads/2023/10/FRESNO-PRAYS-square.jpg
ORGANIZER;CN="Pastor Bob Fuller":MAILTO:bfuller@northparkcc.org
GEO:36.8657759;-119.741738
X-APPLE-STRUCTURED-LOCATION;VALUE=URI;X-ADDRESS=Northpark Community Church 2297 E. Shepherd Ave. Fresno CA 93720 United States;X-APPLE-RADIUS=500;X-TITLE=2297 E. Shepherd Ave.:geo:-119.741738,36.8657759
END:VEVENT
BEGIN:VEVENT
DTSTART;VALUE=DATE:20240512
DTEND;VALUE=DATE:20240513
DTSTAMP:20260423T152944
CREATED:20231005T023229Z
LAST-MODIFIED:20231005T023229Z
UID:10009725-1715472000-1715558399@www.northparkchurch.org
SUMMARY:Fresno/Clovis Prays - Day of Prayer
DESCRIPTION:Fresno / Clovis Prays\nThe 12th day of each month\n\nFresno Prays is a prayer movement covering Fresno and Clovis California in 24/7 prayer. \nAs part of the ‘America Prays’ movement\, churches all over Fresno and Clovis have committed to a specific day of the month to cover our city in prayer. \nNorthpark Community Church has committed to praying on the 12th of every month\, with individuals taking 30 minute time slots.  \nWill you join us in prayer? Will you stand in the gap for your community? You can pray from wherever you are! \nContact Pastor Bob Fuller to sign up for a prayer time! \nWatch monthly videos with community leaders: Fresno Prays YouTube Channel \nFor more information about America Prays\, visit americaprays.org
URL:https://www.northparkchurch.org/event/fresno-clovis-prays-day-of-prayer/2024-05-12/
LOCATION:Northpark Community Church\, 2297 E. Shepherd Ave.\, Fresno\, CA\, 93720\, United States
CATEGORIES:Church Event,Prayer
ATTACH;FMTTYPE=image/jpeg:https://www.northparkchurch.org/wp-content/uploads/2023/10/FRESNO-PRAYS-square.jpg
ORGANIZER;CN="Pastor Bob Fuller":MAILTO:bfuller@northparkcc.org
GEO:36.8657759;-119.741738
X-APPLE-STRUCTURED-LOCATION;VALUE=URI;X-ADDRESS=Northpark Community Church 2297 E. Shepherd Ave. Fresno CA 93720 United States;X-APPLE-RADIUS=500;X-TITLE=2297 E. Shepherd Ave.:geo:-119.741738,36.8657759
END:VEVENT
BEGIN:VEVENT
DTSTART;TZID=America/Los_Angeles:20240421T180000
DTEND;TZID=America/Los_Angeles:20240421T190000
DTSTAMP:20260423T152944
CREATED:20240329T000858Z
LAST-MODIFIED:20240329T000924Z
UID:10009957-1713722400-1713726000@www.northparkchurch.org
SUMMARY:Prayer & Worship Night at Legacy Church
DESCRIPTION:Sunday\, April 21\, 2024\n6:00 p.m.\nat Legacy Church\n2171 Villa Ave\, Clovis\, CA 93612 \nFor our monthly GLOW (God Loves our Worship) Night\, we’ll join with other local churches for a night of worship together. \nIn continuation of the 21 Days of Prayer and Fasting\, the Fresno Clovis Pastors clusters invite you to join in a citywide night of prayer and worship. \n \n 
URL:https://www.northparkchurch.org/event/prayer-worship-night-at-legacy-church/
LOCATION:The Legacy Christian Church\, 2171 Villa Ave.\, Clovis\, CA\, 93612
CATEGORIES:Church Event,Prayer
ATTACH;FMTTYPE=image/jpeg:https://www.northparkchurch.org/wp-content/uploads/2024/03/Prayer-Worship-April-2024-Square.jpg
GEO:36.8070905;-119.713316
X-APPLE-STRUCTURED-LOCATION;VALUE=URI;X-ADDRESS=The Legacy Christian Church 2171 Villa Ave. Clovis CA 93612;X-APPLE-RADIUS=500;X-TITLE=2171 Villa Ave.:geo:-119.713316,36.8070905
END:VEVENT
BEGIN:VEVENT
DTSTART;VALUE=DATE:20240412
DTEND;VALUE=DATE:20240413
DTSTAMP:20260423T152944
CREATED:20231005T023229Z
LAST-MODIFIED:20231005T023229Z
UID:10009724-1712880000-1712966399@www.northparkchurch.org
SUMMARY:Fresno/Clovis Prays - Day of Prayer
DESCRIPTION:Fresno / Clovis Prays\nThe 12th day of each month\n\nFresno Prays is a prayer movement covering Fresno and Clovis California in 24/7 prayer. \nAs part of the ‘America Prays’ movement\, churches all over Fresno and Clovis have committed to a specific day of the month to cover our city in prayer. \nNorthpark Community Church has committed to praying on the 12th of every month\, with individuals taking 30 minute time slots.  \nWill you join us in prayer? Will you stand in the gap for your community? You can pray from wherever you are! \nContact Pastor Bob Fuller to sign up for a prayer time! \nWatch monthly videos with community leaders: Fresno Prays YouTube Channel \nFor more information about America Prays\, visit americaprays.org
URL:https://www.northparkchurch.org/event/fresno-clovis-prays-day-of-prayer/2024-04-12/
LOCATION:Northpark Community Church\, 2297 E. Shepherd Ave.\, Fresno\, CA\, 93720\, United States
CATEGORIES:Church Event,Prayer
ATTACH;FMTTYPE=image/jpeg:https://www.northparkchurch.org/wp-content/uploads/2023/10/FRESNO-PRAYS-square.jpg
ORGANIZER;CN="Pastor Bob Fuller":MAILTO:bfuller@northparkcc.org
GEO:36.8657759;-119.741738
X-APPLE-STRUCTURED-LOCATION;VALUE=URI;X-ADDRESS=Northpark Community Church 2297 E. Shepherd Ave. Fresno CA 93720 United States;X-APPLE-RADIUS=500;X-TITLE=2297 E. Shepherd Ave.:geo:-119.741738,36.8657759
END:VEVENT
BEGIN:VEVENT
DTSTART;VALUE=DATE:20240312
DTEND;VALUE=DATE:20240313
DTSTAMP:20260423T152944
CREATED:20231005T023229Z
LAST-MODIFIED:20231005T023229Z
UID:10009723-1710201600-1710287999@www.northparkchurch.org
SUMMARY:Fresno/Clovis Prays - Day of Prayer
DESCRIPTION:Fresno / Clovis Prays\nThe 12th day of each month\n\nFresno Prays is a prayer movement covering Fresno and Clovis California in 24/7 prayer. \nAs part of the ‘America Prays’ movement\, churches all over Fresno and Clovis have committed to a specific day of the month to cover our city in prayer. \nNorthpark Community Church has committed to praying on the 12th of every month\, with individuals taking 30 minute time slots.  \nWill you join us in prayer? Will you stand in the gap for your community? You can pray from wherever you are! \nContact Pastor Bob Fuller to sign up for a prayer time! \nWatch monthly videos with community leaders: Fresno Prays YouTube Channel \nFor more information about America Prays\, visit americaprays.org
URL:https://www.northparkchurch.org/event/fresno-clovis-prays-day-of-prayer/2024-03-12/
LOCATION:Northpark Community Church\, 2297 E. Shepherd Ave.\, Fresno\, CA\, 93720\, United States
CATEGORIES:Church Event,Prayer
ATTACH;FMTTYPE=image/jpeg:https://www.northparkchurch.org/wp-content/uploads/2023/10/FRESNO-PRAYS-square.jpg
ORGANIZER;CN="Pastor Bob Fuller":MAILTO:bfuller@northparkcc.org
GEO:36.8657759;-119.741738
X-APPLE-STRUCTURED-LOCATION;VALUE=URI;X-ADDRESS=Northpark Community Church 2297 E. Shepherd Ave. Fresno CA 93720 United States;X-APPLE-RADIUS=500;X-TITLE=2297 E. Shepherd Ave.:geo:-119.741738,36.8657759
END:VEVENT
BEGIN:VEVENT
DTSTART;VALUE=DATE:20240212
DTEND;VALUE=DATE:20240213
DTSTAMP:20260423T152944
CREATED:20231005T023229Z
LAST-MODIFIED:20231005T023229Z
UID:10009722-1707696000-1707782399@www.northparkchurch.org
SUMMARY:Fresno/Clovis Prays - Day of Prayer
DESCRIPTION:Fresno / Clovis Prays\nThe 12th day of each month\n\nFresno Prays is a prayer movement covering Fresno and Clovis California in 24/7 prayer. \nAs part of the ‘America Prays’ movement\, churches all over Fresno and Clovis have committed to a specific day of the month to cover our city in prayer. \nNorthpark Community Church has committed to praying on the 12th of every month\, with individuals taking 30 minute time slots.  \nWill you join us in prayer? Will you stand in the gap for your community? You can pray from wherever you are! \nContact Pastor Bob Fuller to sign up for a prayer time! \nWatch monthly videos with community leaders: Fresno Prays YouTube Channel \nFor more information about America Prays\, visit americaprays.org
URL:https://www.northparkchurch.org/event/fresno-clovis-prays-day-of-prayer/2024-02-12/
LOCATION:Northpark Community Church\, 2297 E. Shepherd Ave.\, Fresno\, CA\, 93720\, United States
CATEGORIES:Church Event,Prayer
ATTACH;FMTTYPE=image/jpeg:https://www.northparkchurch.org/wp-content/uploads/2023/10/FRESNO-PRAYS-square.jpg
ORGANIZER;CN="Pastor Bob Fuller":MAILTO:bfuller@northparkcc.org
GEO:36.8657759;-119.741738
X-APPLE-STRUCTURED-LOCATION;VALUE=URI;X-ADDRESS=Northpark Community Church 2297 E. Shepherd Ave. Fresno CA 93720 United States;X-APPLE-RADIUS=500;X-TITLE=2297 E. Shepherd Ave.:geo:-119.741738,36.8657759
END:VEVENT
BEGIN:VEVENT
DTSTART;VALUE=DATE:20240112
DTEND;VALUE=DATE:20240113
DTSTAMP:20260423T152944
CREATED:20231005T023229Z
LAST-MODIFIED:20231005T023229Z
UID:10009721-1705017600-1705103999@www.northparkchurch.org
SUMMARY:Fresno/Clovis Prays - Day of Prayer
DESCRIPTION:Fresno / Clovis Prays\nThe 12th day of each month\n\nFresno Prays is a prayer movement covering Fresno and Clovis California in 24/7 prayer. \nAs part of the ‘America Prays’ movement\, churches all over Fresno and Clovis have committed to a specific day of the month to cover our city in prayer. \nNorthpark Community Church has committed to praying on the 12th of every month\, with individuals taking 30 minute time slots.  \nWill you join us in prayer? Will you stand in the gap for your community? You can pray from wherever you are! \nContact Pastor Bob Fuller to sign up for a prayer time! \nWatch monthly videos with community leaders: Fresno Prays YouTube Channel \nFor more information about America Prays\, visit americaprays.org
URL:https://www.northparkchurch.org/event/fresno-clovis-prays-day-of-prayer/2024-01-12/
LOCATION:Northpark Community Church\, 2297 E. Shepherd Ave.\, Fresno\, CA\, 93720\, United States
CATEGORIES:Church Event,Prayer
ATTACH;FMTTYPE=image/jpeg:https://www.northparkchurch.org/wp-content/uploads/2023/10/FRESNO-PRAYS-square.jpg
ORGANIZER;CN="Pastor Bob Fuller":MAILTO:bfuller@northparkcc.org
GEO:36.8657759;-119.741738
X-APPLE-STRUCTURED-LOCATION;VALUE=URI;X-ADDRESS=Northpark Community Church 2297 E. Shepherd Ave. Fresno CA 93720 United States;X-APPLE-RADIUS=500;X-TITLE=2297 E. Shepherd Ave.:geo:-119.741738,36.8657759
END:VEVENT
BEGIN:VEVENT
DTSTART;VALUE=DATE:20231212
DTEND;VALUE=DATE:20231213
DTSTAMP:20260423T152944
CREATED:20231005T023229Z
LAST-MODIFIED:20231005T023229Z
UID:10009720-1702339200-1702425599@www.northparkchurch.org
SUMMARY:Fresno/Clovis Prays - Day of Prayer
DESCRIPTION:Fresno / Clovis Prays\nThe 12th day of each month\n\nFresno Prays is a prayer movement covering Fresno and Clovis California in 24/7 prayer. \nAs part of the ‘America Prays’ movement\, churches all over Fresno and Clovis have committed to a specific day of the month to cover our city in prayer. \nNorthpark Community Church has committed to praying on the 12th of every month\, with individuals taking 30 minute time slots.  \nWill you join us in prayer? Will you stand in the gap for your community? You can pray from wherever you are! \nContact Pastor Bob Fuller to sign up for a prayer time! \nWatch monthly videos with community leaders: Fresno Prays YouTube Channel \nFor more information about America Prays\, visit americaprays.org
URL:https://www.northparkchurch.org/event/fresno-clovis-prays-day-of-prayer/2023-12-12/
LOCATION:Northpark Community Church\, 2297 E. Shepherd Ave.\, Fresno\, CA\, 93720\, United States
CATEGORIES:Church Event,Prayer
ATTACH;FMTTYPE=image/jpeg:https://www.northparkchurch.org/wp-content/uploads/2023/10/FRESNO-PRAYS-square.jpg
ORGANIZER;CN="Pastor Bob Fuller":MAILTO:bfuller@northparkcc.org
GEO:36.8657759;-119.741738
X-APPLE-STRUCTURED-LOCATION;VALUE=URI;X-ADDRESS=Northpark Community Church 2297 E. Shepherd Ave. Fresno CA 93720 United States;X-APPLE-RADIUS=500;X-TITLE=2297 E. Shepherd Ave.:geo:-119.741738,36.8657759
END:VEVENT
BEGIN:VEVENT
DTSTART;VALUE=DATE:20231112
DTEND;VALUE=DATE:20231113
DTSTAMP:20260423T152944
CREATED:20231005T023229Z
LAST-MODIFIED:20231005T023229Z
UID:10009719-1699747200-1699833599@www.northparkchurch.org
SUMMARY:Fresno/Clovis Prays - Day of Prayer
DESCRIPTION:Fresno / Clovis Prays\nThe 12th day of each month\n\nFresno Prays is a prayer movement covering Fresno and Clovis California in 24/7 prayer. \nAs part of the ‘America Prays’ movement\, churches all over Fresno and Clovis have committed to a specific day of the month to cover our city in prayer. \nNorthpark Community Church has committed to praying on the 12th of every month\, with individuals taking 30 minute time slots.  \nWill you join us in prayer? Will you stand in the gap for your community? You can pray from wherever you are! \nContact Pastor Bob Fuller to sign up for a prayer time! \nWatch monthly videos with community leaders: Fresno Prays YouTube Channel \nFor more information about America Prays\, visit americaprays.org
URL:https://www.northparkchurch.org/event/fresno-clovis-prays-day-of-prayer/2023-11-12/
LOCATION:Northpark Community Church\, 2297 E. Shepherd Ave.\, Fresno\, CA\, 93720\, United States
CATEGORIES:Church Event,Prayer
ATTACH;FMTTYPE=image/jpeg:https://www.northparkchurch.org/wp-content/uploads/2023/10/FRESNO-PRAYS-square.jpg
ORGANIZER;CN="Pastor Bob Fuller":MAILTO:bfuller@northparkcc.org
GEO:36.8657759;-119.741738
X-APPLE-STRUCTURED-LOCATION;VALUE=URI;X-ADDRESS=Northpark Community Church 2297 E. Shepherd Ave. Fresno CA 93720 United States;X-APPLE-RADIUS=500;X-TITLE=2297 E. Shepherd Ave.:geo:-119.741738,36.8657759
END:VEVENT
BEGIN:VEVENT
DTSTART;VALUE=DATE:20231012
DTEND;VALUE=DATE:20231013
DTSTAMP:20260423T152944
CREATED:20231005T023229Z
LAST-MODIFIED:20231005T023229Z
UID:10009718-1697068800-1697155199@www.northparkchurch.org
SUMMARY:Fresno/Clovis Prays - Day of Prayer
DESCRIPTION:Fresno / Clovis Prays\nThe 12th day of each month\n\nFresno Prays is a prayer movement covering Fresno and Clovis California in 24/7 prayer. \nAs part of the ‘America Prays’ movement\, churches all over Fresno and Clovis have committed to a specific day of the month to cover our city in prayer. \nNorthpark Community Church has committed to praying on the 12th of every month\, with individuals taking 30 minute time slots.  \nWill you join us in prayer? Will you stand in the gap for your community? You can pray from wherever you are! \nContact Pastor Bob Fuller to sign up for a prayer time! \nWatch monthly videos with community leaders: Fresno Prays YouTube Channel \nFor more information about America Prays\, visit americaprays.org
URL:https://www.northparkchurch.org/event/fresno-clovis-prays-day-of-prayer/2023-10-12/
LOCATION:Northpark Community Church\, 2297 E. Shepherd Ave.\, Fresno\, CA\, 93720\, United States
CATEGORIES:Church Event,Prayer
ATTACH;FMTTYPE=image/jpeg:https://www.northparkchurch.org/wp-content/uploads/2023/10/FRESNO-PRAYS-square.jpg
ORGANIZER;CN="Pastor Bob Fuller":MAILTO:bfuller@northparkcc.org
GEO:36.8657759;-119.741738
X-APPLE-STRUCTURED-LOCATION;VALUE=URI;X-ADDRESS=Northpark Community Church 2297 E. Shepherd Ave. Fresno CA 93720 United States;X-APPLE-RADIUS=500;X-TITLE=2297 E. Shepherd Ave.:geo:-119.741738,36.8657759
END:VEVENT
BEGIN:VEVENT
DTSTART;VALUE=DATE:20230504
DTEND;VALUE=DATE:20230505
DTSTAMP:20260423T152944
CREATED:20230427T201246Z
LAST-MODIFIED:20230427T212424Z
UID:10008923-1683158400-1683244799@www.northparkchurch.org
SUMMARY:National Day of Prayer Events
DESCRIPTION:A Christian Observance of the National Day of Prayer\nThursday\, May 4\, 2023 – Fresno/Clovis Events \n\n7 AM – Downtown Prayer Walk\nFresno City Hall\, 2600 Fresno St.\, Fresno\, CA 93721 \nPrayer Walk starts at Fresno City Hall with worship and prayer and ends at the Fresno County Courthouse.\nThe mayor and other officials will join us. We will pray for our local and county government leaders.\nEvent Contact: Kathy McIlhargey 559-765-618 \n \n\nNOON – New Covenant Community Church Prayer Service\nIn Person: 1744 E Nees Ave\, Fresno\nOnline: http//newcov.com \nWe will gather to worship and pray over our local government leaders\, civic leaders and spheres: family\, education\, business\, churches\, etc.\nEvent Contact: Marilyn Wilburn\, 559-916-0604 \n\nNOON – Clovis City Hall Prayer Gathering\n1033 Fifth Street\, Clovis\, CA 93612 \nWe will be meeting on the lawn in front of Clovis City Hall at noon. Bring your lawn chair.\nEvent Contact: Esther Leonard\, eleonard@mountainview.org \n\n7 PM – City Wide National Day of Prayer – Prayer Concert\nMountain View Church\, 3600 N Fowler Ave. Fresno\, CA 93727 \nWe will be gathering as city churches to worship King Jesus and pray for our city\, our state\, and our nations.\nEvent Contact: Esther Leonard\, eleonard@mountainview.org
URL:https://www.northparkchurch.org/event/national-day-of-prayer-events/
LOCATION:CA\, United States
CATEGORIES:Prayer
ATTACH;FMTTYPE=image/jpeg:https://www.northparkchurch.org/wp-content/uploads/2023/04/NDOP-2023-Square.jpg
GEO:36.778261;-119.4179324
END:VEVENT
BEGIN:VEVENT
DTSTART;TZID=America/Los_Angeles:20230311T180000
DTEND;TZID=America/Los_Angeles:20230311T193000
DTSTAMP:20260423T152944
CREATED:20230310T003101Z
LAST-MODIFIED:20230310T003411Z
UID:10008882-1678557600-1678563000@www.northparkchurch.org
SUMMARY:City Prayer Walk and Worship Gathering
DESCRIPTION:Saturday\, March 11\nThe Fresno/Clovis Pastor Clusters are inviting you to join in a Day of Prayer & Worship for our community. We are continuing the spirit of prayer from the 21 Days of Prayer and Fasting from this January. \nAt 9am all over the Fresno/Clovis/Mountain area we will be prayer walking our own Neighborhoods. Imagine a canopy of prayer over our Valley! \nAt 6pm we will gather for an All City Worship Gathering at Family Christian Assembly. \n\n9:00 a.m. Prayer Walk\nIndividually in your own neighborhood – download and print the prayer walking info and QR code to share where you prayed! \n \n\n6:00 p.m. Evening Worship Gathering\nat Family Christian Assembly\n535 N Cedar Ave.\, Fresno\, CA 93702 \nHosted by Fresno Clovis Pastors Clusters
URL:https://www.northparkchurch.org/event/city-prayer-walk-and-worship-gathering/2023-03-11/
LOCATION:Family Christian Assembly\, 535 N. Cedar Ave\, Fresno\, CA\, 93702
CATEGORIES:Fasting,Prayer
ATTACH;FMTTYPE=image/jpeg:https://www.northparkchurch.org/wp-content/uploads/2023/03/CityWorship_Version9_FullSize-e1678407944371.jpg
GEO:36.7511222;-119.754774
X-APPLE-STRUCTURED-LOCATION;VALUE=URI;X-ADDRESS=Family Christian Assembly 535 N. Cedar Ave Fresno CA 93702;X-APPLE-RADIUS=500;X-TITLE=535 N. Cedar Ave:geo:-119.754774,36.7511222
END:VEVENT
BEGIN:VEVENT
DTSTART;TZID=America/Los_Angeles:20230311T090000
DTEND;TZID=America/Los_Angeles:20230311T100000
DTSTAMP:20260423T152944
CREATED:20230310T003512Z
LAST-MODIFIED:20230310T003512Z
UID:10008883-1678525200-1678528800@www.northparkchurch.org
SUMMARY:City Prayer Walk
DESCRIPTION:Saturday\, March 11\nThe Fresno/Clovis Pastor Clusters are inviting you to join in a Day of Prayer & Worship for our community. We are continuing the spirit of prayer from the 21 Days of Prayer and Fasting from this January. \nAt 9am all over the Fresno/Clovis/Mountain area we will be prayer walking our own Neighborhoods. Imagine a canopy of prayer over our Valley! \nAt 6pm we will gather for an All City Worship Gathering at Family Christian Assembly. \n\n9:00 a.m. Prayer Walk\nIndividually in your own neighborhood – download and print the prayer walking info and QR code to share where you prayed! \n \n\n6:00 p.m. Evening Worship Gathering\nat Family Christian Assembly\n535 N Cedar Ave.\, Fresno\, CA 93702 \nHosted by Fresno Clovis Pastors Clusters
URL:https://www.northparkchurch.org/event/city-prayer-walk-and-worship-gathering-2/
LOCATION:CA
CATEGORIES:Fasting,Prayer
ATTACH;FMTTYPE=image/jpeg:https://www.northparkchurch.org/wp-content/uploads/2023/03/CityWorship_Version9_FullSize-e1678407944371.jpg
END:VEVENT
BEGIN:VEVENT
DTSTART;TZID=America/Los_Angeles:20220505T170000
DTEND;TZID=America/Los_Angeles:20220505T183000
DTSTAMP:20260423T152944
CREATED:20220428T212026Z
LAST-MODIFIED:20220428T212026Z
UID:10008171-1651770000-1651775400@www.northparkchurch.org
SUMMARY:National Day of Prayer: National Broadcast
DESCRIPTION:2022 National Day of Prayer Broadcast\nMay 5th at 5 p.m. Pacific Time (8 p.m. ET) – The National Day of Prayer Broadcast will reach into millions of homes in America to unite hearts in prayer to “Exalt the Lord Who Has Established Us” \nBROADCAST GUESTS \n\nDr. Ed Young\nAnne Graham-Lotz\nAllen Jackson\nNick Hall\nBishop Kenneth Ulmer\nPaul Han\n\nThe Broadcast will also include Chris Tomlin\, Ronnie Floyd\, Joni Eareckson Tada\, Lecrae\, Mike Kai\, Matthew West\, and many others! \nhttps://www.nationaldayofprayer.org/
URL:https://www.northparkchurch.org/event/national-day-of-prayer-national-broadcast/
LOCATION:CA
CATEGORIES:Prayer
ATTACH;FMTTYPE=image/png:https://www.northparkchurch.org/wp-content/uploads/2022/04/NDOP_2022_HI-RES-e1651180812943.png
END:VEVENT
BEGIN:VEVENT
DTSTART;VALUE=DATE:20220505
DTEND;VALUE=DATE:20220506
DTSTAMP:20260423T152944
CREATED:20220428T211348Z
LAST-MODIFIED:20220428T211348Z
UID:10008170-1651708800-1651795199@www.northparkchurch.org
SUMMARY:National Day of Prayer: Local Events
DESCRIPTION:7:00 AM | Downtown Prayer Walk\nStart at Fresno City Hall\, 2600 Fresno Street\, Fresno CA 93721\nParking meters require coin or credit/debit card\nEvent Contact: Kathy McIlhargey 559-765-6184 \n\nNoon | New Covenant Community Church\nIn Person and Virtual\n1744 E Nees Ave\, Fresno\, CA 93720\nwww.NewCov.com\nEvent Contact: Marilyn Wilburn 559-916-0604 or Julie Wright 559-355-9801 \n*Pastor Bob Willis will be part of the event at New Covenant Church \n\nNoon | Clovis City Hall\nClovis City Hall Front Lawn\, 1033 Fifth Street\, Clovis CA 93612\nEvent Contact: Andy White 559-440-6750 \n\n12:15 PM | Fresno State\nPlease join the Faculty Staff Christian Fellowship outside in front of the Allen Yuen Lew Memorial Grove at 12:15 p.m. It is located just east of the Thomas Administration Building.\nWe will be praying for our campus\, families\, community\, state\, country and world.\nWe will be praying for a half hour during lunch time.\nEvent Contact: Kathryn A Dunbar kdunbar@csufresno.edu
URL:https://www.northparkchurch.org/event/national-day-of-prayer-local-events/
LOCATION:CA
CATEGORIES:Prayer
ATTACH;FMTTYPE=image/jpeg:https://www.northparkchurch.org/wp-content/uploads/2022/04/NDOP-2022-Fresno-Clovis.jpg
END:VEVENT
END:VCALENDAR