BEGIN:VCALENDAR
VERSION:2.0
PRODID:-//Northpark - ECPv6.15.14//NONSGML v1.0//EN
CALSCALE:GREGORIAN
METHOD:PUBLISH
X-ORIGINAL-URL:https://www.northparkchurch.org
X-WR-CALDESC:Events for Northpark
REFRESH-INTERVAL;VALUE=DURATION:PT1H
X-Robots-Tag:noindex
X-PUBLISHED-TTL:PT1H
BEGIN:VTIMEZONE
TZID:America/Los_Angeles
BEGIN:DAYLIGHT
TZOFFSETFROM:-0800
TZOFFSETTO:-0700
TZNAME:PDT
DTSTART:20230312T100000
END:DAYLIGHT
BEGIN:STANDARD
TZOFFSETFROM:-0700
TZOFFSETTO:-0800
TZNAME:PST
DTSTART:20231105T090000
END:STANDARD
BEGIN:DAYLIGHT
TZOFFSETFROM:-0800
TZOFFSETTO:-0700
TZNAME:PDT
DTSTART:20240310T100000
END:DAYLIGHT
BEGIN:STANDARD
TZOFFSETFROM:-0700
TZOFFSETTO:-0800
TZNAME:PST
DTSTART:20241103T090000
END:STANDARD
BEGIN:DAYLIGHT
TZOFFSETFROM:-0800
TZOFFSETTO:-0700
TZNAME:PDT
DTSTART:20250309T100000
END:DAYLIGHT
BEGIN:STANDARD
TZOFFSETFROM:-0700
TZOFFSETTO:-0800
TZNAME:PST
DTSTART:20251102T090000
END:STANDARD
END:VTIMEZONE
BEGIN:VEVENT
DTSTART;TZID=America/Los_Angeles:20240601T100000
DTEND;TZID=America/Los_Angeles:20240601T140000
DTSTAMP:20260419T082700
CREATED:20230127T001531Z
LAST-MODIFIED:20240209T083902Z
UID:10008855-1717236000-1717250400@www.northparkchurch.org
SUMMARY:Car Show: Parkin' at Northpark
DESCRIPTION:2nd Annual Parkin’ at Northpark Car Show\nSaturday\, June 1\, 2024\n10am – 2pm\nNorthpark Community Church\n2297 E Shepherd Ave.\, Fresno\, CA 93720\n(On Shepherd between Chestnut and Maple) \nWe hope you’ll plan on joining us for this family friendly event with great cars\, food trucks and vendors. \nProceeds benefit local ministries and world missions including: \nAngels of Grace Foster Family Agency\, The Light-House Recovery Center\, Central Valley Justice Coalition\, Pregnancy Care Center & Fellowship of Christian Athletes \nGET MORE INFORMATION HERE \n\n  \nGET INVOLVED\nBe a sponsor\, a vendor\, or register a car
URL:https://www.northparkchurch.org/event/car-show-parkin-at-northpark/
LOCATION:Northpark Community Church\, 2297 E. Shepherd Ave.\, Fresno\, CA\, 93720\, United States
CATEGORIES:Church Event,Men's Ministry,Women's Ministry
ATTACH;FMTTYPE=image/jpeg:https://www.northparkchurch.org/wp-content/uploads/2023/01/Car-Show-2024-Square.jpg
ORGANIZER;CN="Janine Minassian":MAILTO:janine@northparkcc.org
GEO:36.8657759;-119.741738
X-APPLE-STRUCTURED-LOCATION;VALUE=URI;X-ADDRESS=Northpark Community Church 2297 E. Shepherd Ave. Fresno CA 93720 United States;X-APPLE-RADIUS=500;X-TITLE=2297 E. Shepherd Ave.:geo:-119.741738,36.8657759
END:VEVENT
BEGIN:VEVENT
DTSTART;TZID=America/Los_Angeles:20240622T120000
DTEND;TZID=America/Los_Angeles:20240622T133000
DTSTAMP:20260419T082700
CREATED:20250410T210218Z
LAST-MODIFIED:20260205T221155Z
UID:10011503-1719057600-1719063000@www.northparkchurch.org
SUMMARY:Men's Bible Study
DESCRIPTION:Every Thursday at 12:00 p.m. at The Well Coffeehouse\, 327 Nees Avenue\, Clovis. For more information at 559-940-4789 call Chris Doda.
URL:https://www.northparkchurch.org/event/new-mens-bible-study/2024-06-22/
LOCATION:CA
CATEGORIES:Men's Ministry
ATTACH;FMTTYPE=image/jpeg:https://www.northparkchurch.org/wp-content/uploads/2025/04/Mens-Bible-Study.jpg
END:VEVENT
BEGIN:VEVENT
DTSTART;TZID=America/Los_Angeles:20240627T120000
DTEND;TZID=America/Los_Angeles:20240627T133000
DTSTAMP:20260419T082700
CREATED:20250410T210218Z
LAST-MODIFIED:20260205T221155Z
UID:10011504-1719489600-1719495000@www.northparkchurch.org
SUMMARY:Men's Bible Study
DESCRIPTION:Every Thursday at 12:00 p.m. at The Well Coffeehouse\, 327 Nees Avenue\, Clovis. For more information at 559-940-4789 call Chris Doda.
URL:https://www.northparkchurch.org/event/new-mens-bible-study/2024-06-27/
LOCATION:CA
CATEGORIES:Men's Ministry
ATTACH;FMTTYPE=image/jpeg:https://www.northparkchurch.org/wp-content/uploads/2025/04/Mens-Bible-Study.jpg
END:VEVENT
BEGIN:VEVENT
DTSTART;TZID=America/Los_Angeles:20240704T120000
DTEND;TZID=America/Los_Angeles:20240704T133000
DTSTAMP:20260419T082700
CREATED:20250410T210218Z
LAST-MODIFIED:20260205T221155Z
UID:10011505-1720094400-1720099800@www.northparkchurch.org
SUMMARY:Men's Bible Study
DESCRIPTION:Every Thursday at 12:00 p.m. at The Well Coffeehouse\, 327 Nees Avenue\, Clovis. For more information at 559-940-4789 call Chris Doda.
URL:https://www.northparkchurch.org/event/new-mens-bible-study/2024-07-04/
LOCATION:CA
CATEGORIES:Men's Ministry
ATTACH;FMTTYPE=image/jpeg:https://www.northparkchurch.org/wp-content/uploads/2025/04/Mens-Bible-Study.jpg
END:VEVENT
BEGIN:VEVENT
DTSTART;TZID=America/Los_Angeles:20240711T120000
DTEND;TZID=America/Los_Angeles:20240711T133000
DTSTAMP:20260419T082700
CREATED:20250410T210218Z
LAST-MODIFIED:20260205T221155Z
UID:10011506-1720699200-1720704600@www.northparkchurch.org
SUMMARY:Men's Bible Study
DESCRIPTION:Every Thursday at 12:00 p.m. at The Well Coffeehouse\, 327 Nees Avenue\, Clovis. For more information at 559-940-4789 call Chris Doda.
URL:https://www.northparkchurch.org/event/new-mens-bible-study/2024-07-11/
LOCATION:CA
CATEGORIES:Men's Ministry
ATTACH;FMTTYPE=image/jpeg:https://www.northparkchurch.org/wp-content/uploads/2025/04/Mens-Bible-Study.jpg
END:VEVENT
BEGIN:VEVENT
DTSTART;TZID=America/Los_Angeles:20240718T120000
DTEND;TZID=America/Los_Angeles:20240718T133000
DTSTAMP:20260419T082700
CREATED:20250410T210218Z
LAST-MODIFIED:20260205T221155Z
UID:10011507-1721304000-1721309400@www.northparkchurch.org
SUMMARY:Men's Bible Study
DESCRIPTION:Every Thursday at 12:00 p.m. at The Well Coffeehouse\, 327 Nees Avenue\, Clovis. For more information at 559-940-4789 call Chris Doda.
URL:https://www.northparkchurch.org/event/new-mens-bible-study/2024-07-18/
LOCATION:CA
CATEGORIES:Men's Ministry
ATTACH;FMTTYPE=image/jpeg:https://www.northparkchurch.org/wp-content/uploads/2025/04/Mens-Bible-Study.jpg
END:VEVENT
BEGIN:VEVENT
DTSTART;TZID=America/Los_Angeles:20240725T120000
DTEND;TZID=America/Los_Angeles:20240725T133000
DTSTAMP:20260419T082700
CREATED:20250410T210218Z
LAST-MODIFIED:20260205T221155Z
UID:10011508-1721908800-1721914200@www.northparkchurch.org
SUMMARY:Men's Bible Study
DESCRIPTION:Every Thursday at 12:00 p.m. at The Well Coffeehouse\, 327 Nees Avenue\, Clovis. For more information at 559-940-4789 call Chris Doda.
URL:https://www.northparkchurch.org/event/new-mens-bible-study/2024-07-25/
LOCATION:CA
CATEGORIES:Men's Ministry
ATTACH;FMTTYPE=image/jpeg:https://www.northparkchurch.org/wp-content/uploads/2025/04/Mens-Bible-Study.jpg
END:VEVENT
BEGIN:VEVENT
DTSTART;TZID=America/Los_Angeles:20240801T120000
DTEND;TZID=America/Los_Angeles:20240801T133000
DTSTAMP:20260419T082700
CREATED:20250410T210218Z
LAST-MODIFIED:20260205T221155Z
UID:10011509-1722513600-1722519000@www.northparkchurch.org
SUMMARY:Men's Bible Study
DESCRIPTION:Every Thursday at 12:00 p.m. at The Well Coffeehouse\, 327 Nees Avenue\, Clovis. For more information at 559-940-4789 call Chris Doda.
URL:https://www.northparkchurch.org/event/new-mens-bible-study/2024-08-01/
LOCATION:CA
CATEGORIES:Men's Ministry
ATTACH;FMTTYPE=image/jpeg:https://www.northparkchurch.org/wp-content/uploads/2025/04/Mens-Bible-Study.jpg
END:VEVENT
BEGIN:VEVENT
DTSTART;TZID=America/Los_Angeles:20240808T120000
DTEND;TZID=America/Los_Angeles:20240808T133000
DTSTAMP:20260419T082700
CREATED:20250410T210218Z
LAST-MODIFIED:20260205T221155Z
UID:10011510-1723118400-1723123800@www.northparkchurch.org
SUMMARY:Men's Bible Study
DESCRIPTION:Every Thursday at 12:00 p.m. at The Well Coffeehouse\, 327 Nees Avenue\, Clovis. For more information at 559-940-4789 call Chris Doda.
URL:https://www.northparkchurch.org/event/new-mens-bible-study/2024-08-08/
LOCATION:CA
CATEGORIES:Men's Ministry
ATTACH;FMTTYPE=image/jpeg:https://www.northparkchurch.org/wp-content/uploads/2025/04/Mens-Bible-Study.jpg
END:VEVENT
BEGIN:VEVENT
DTSTART;TZID=America/Los_Angeles:20240815T120000
DTEND;TZID=America/Los_Angeles:20240815T133000
DTSTAMP:20260419T082700
CREATED:20250410T210218Z
LAST-MODIFIED:20260205T221155Z
UID:10011511-1723723200-1723728600@www.northparkchurch.org
SUMMARY:Men's Bible Study
DESCRIPTION:Every Thursday at 12:00 p.m. at The Well Coffeehouse\, 327 Nees Avenue\, Clovis. For more information at 559-940-4789 call Chris Doda.
URL:https://www.northparkchurch.org/event/new-mens-bible-study/2024-08-15/
LOCATION:CA
CATEGORIES:Men's Ministry
ATTACH;FMTTYPE=image/jpeg:https://www.northparkchurch.org/wp-content/uploads/2025/04/Mens-Bible-Study.jpg
END:VEVENT
BEGIN:VEVENT
DTSTART;TZID=America/Los_Angeles:20240822T120000
DTEND;TZID=America/Los_Angeles:20240822T133000
DTSTAMP:20260419T082700
CREATED:20250410T210218Z
LAST-MODIFIED:20260205T221155Z
UID:10011512-1724328000-1724333400@www.northparkchurch.org
SUMMARY:Men's Bible Study
DESCRIPTION:Every Thursday at 12:00 p.m. at The Well Coffeehouse\, 327 Nees Avenue\, Clovis. For more information at 559-940-4789 call Chris Doda.
URL:https://www.northparkchurch.org/event/new-mens-bible-study/2024-08-22/
LOCATION:CA
CATEGORIES:Men's Ministry
ATTACH;FMTTYPE=image/jpeg:https://www.northparkchurch.org/wp-content/uploads/2025/04/Mens-Bible-Study.jpg
END:VEVENT
BEGIN:VEVENT
DTSTART;TZID=America/Los_Angeles:20240828T180000
DTEND;TZID=America/Los_Angeles:20240828T200000
DTSTAMP:20260419T082700
CREATED:20240724T221231Z
LAST-MODIFIED:20240727T080302Z
UID:10010270-1724868000-1724875200@www.northparkchurch.org
SUMMARY:Fall Kickoff
DESCRIPTION:FALL KICK–OFF DINNER & FUN \nWednesday\, August 28\, 6:00 – 8:00 at Northpark \nThe whole family is invited for an evening at Northpark with free dinner and a fun time of getting to know others! \nThere will be separate activities for kids and youth. \nLet us know you are coming! \nREGISTER NOW:
URL:https://www.northparkchurch.org/event/fall-kickoff/
LOCATION:Northpark Community Church\, 2297 E. Shepherd Ave.\, Fresno\, CA\, 93720\, United States
CATEGORIES:Children,Church Event,Men's Ministry,Preteen,Wednesday Night,Women's Ministry,Young Adult,Youth
ATTACH;FMTTYPE=image/jpeg:https://www.northparkchurch.org/wp-content/uploads/2024/07/Fall-Kick-Off-Square.jpg
GEO:36.8657759;-119.741738
X-APPLE-STRUCTURED-LOCATION;VALUE=URI;X-ADDRESS=Northpark Community Church 2297 E. Shepherd Ave. Fresno CA 93720 United States;X-APPLE-RADIUS=500;X-TITLE=2297 E. Shepherd Ave.:geo:-119.741738,36.8657759
END:VEVENT
BEGIN:VEVENT
DTSTART;TZID=America/Los_Angeles:20240829T120000
DTEND;TZID=America/Los_Angeles:20240829T133000
DTSTAMP:20260419T082700
CREATED:20250410T210218Z
LAST-MODIFIED:20260205T221155Z
UID:10011513-1724932800-1724938200@www.northparkchurch.org
SUMMARY:Men's Bible Study
DESCRIPTION:Every Thursday at 12:00 p.m. at The Well Coffeehouse\, 327 Nees Avenue\, Clovis. For more information at 559-940-4789 call Chris Doda.
URL:https://www.northparkchurch.org/event/new-mens-bible-study/2024-08-29/
LOCATION:CA
CATEGORIES:Men's Ministry
ATTACH;FMTTYPE=image/jpeg:https://www.northparkchurch.org/wp-content/uploads/2025/04/Mens-Bible-Study.jpg
END:VEVENT
BEGIN:VEVENT
DTSTART;TZID=America/Los_Angeles:20240905T120000
DTEND;TZID=America/Los_Angeles:20240905T133000
DTSTAMP:20260419T082700
CREATED:20250410T210218Z
LAST-MODIFIED:20260205T221155Z
UID:10011514-1725537600-1725543000@www.northparkchurch.org
SUMMARY:Men's Bible Study
DESCRIPTION:Every Thursday at 12:00 p.m. at The Well Coffeehouse\, 327 Nees Avenue\, Clovis. For more information at 559-940-4789 call Chris Doda.
URL:https://www.northparkchurch.org/event/new-mens-bible-study/2024-09-05/
LOCATION:CA
CATEGORIES:Men's Ministry
ATTACH;FMTTYPE=image/jpeg:https://www.northparkchurch.org/wp-content/uploads/2025/04/Mens-Bible-Study.jpg
END:VEVENT
BEGIN:VEVENT
DTSTART;TZID=America/Los_Angeles:20240912T120000
DTEND;TZID=America/Los_Angeles:20240912T133000
DTSTAMP:20260419T082700
CREATED:20250410T210218Z
LAST-MODIFIED:20260205T221155Z
UID:10011515-1726142400-1726147800@www.northparkchurch.org
SUMMARY:Men's Bible Study
DESCRIPTION:Every Thursday at 12:00 p.m. at The Well Coffeehouse\, 327 Nees Avenue\, Clovis. For more information at 559-940-4789 call Chris Doda.
URL:https://www.northparkchurch.org/event/new-mens-bible-study/2024-09-12/
LOCATION:CA
CATEGORIES:Men's Ministry
ATTACH;FMTTYPE=image/jpeg:https://www.northparkchurch.org/wp-content/uploads/2025/04/Mens-Bible-Study.jpg
END:VEVENT
BEGIN:VEVENT
DTSTART;TZID=America/Los_Angeles:20240919T120000
DTEND;TZID=America/Los_Angeles:20240919T133000
DTSTAMP:20260419T082700
CREATED:20250410T210218Z
LAST-MODIFIED:20260205T221155Z
UID:10011516-1726747200-1726752600@www.northparkchurch.org
SUMMARY:Men's Bible Study
DESCRIPTION:Every Thursday at 12:00 p.m. at The Well Coffeehouse\, 327 Nees Avenue\, Clovis. For more information at 559-940-4789 call Chris Doda.
URL:https://www.northparkchurch.org/event/new-mens-bible-study/2024-09-19/
LOCATION:CA
CATEGORIES:Men's Ministry
ATTACH;FMTTYPE=image/jpeg:https://www.northparkchurch.org/wp-content/uploads/2025/04/Mens-Bible-Study.jpg
END:VEVENT
BEGIN:VEVENT
DTSTART;TZID=America/Los_Angeles:20240926T120000
DTEND;TZID=America/Los_Angeles:20240926T133000
DTSTAMP:20260419T082700
CREATED:20250410T210218Z
LAST-MODIFIED:20260205T221155Z
UID:10011517-1727352000-1727357400@www.northparkchurch.org
SUMMARY:Men's Bible Study
DESCRIPTION:Every Thursday at 12:00 p.m. at The Well Coffeehouse\, 327 Nees Avenue\, Clovis. For more information at 559-940-4789 call Chris Doda.
URL:https://www.northparkchurch.org/event/new-mens-bible-study/2024-09-26/
LOCATION:CA
CATEGORIES:Men's Ministry
ATTACH;FMTTYPE=image/jpeg:https://www.northparkchurch.org/wp-content/uploads/2025/04/Mens-Bible-Study.jpg
END:VEVENT
BEGIN:VEVENT
DTSTART;TZID=America/Los_Angeles:20241003T120000
DTEND;TZID=America/Los_Angeles:20241003T133000
DTSTAMP:20260419T082700
CREATED:20250410T210218Z
LAST-MODIFIED:20260205T221155Z
UID:10011518-1727956800-1727962200@www.northparkchurch.org
SUMMARY:Men's Bible Study
DESCRIPTION:Every Thursday at 12:00 p.m. at The Well Coffeehouse\, 327 Nees Avenue\, Clovis. For more information at 559-940-4789 call Chris Doda.
URL:https://www.northparkchurch.org/event/new-mens-bible-study/2024-10-03/
LOCATION:CA
CATEGORIES:Men's Ministry
ATTACH;FMTTYPE=image/jpeg:https://www.northparkchurch.org/wp-content/uploads/2025/04/Mens-Bible-Study.jpg
END:VEVENT
BEGIN:VEVENT
DTSTART;TZID=America/Los_Angeles:20241010T120000
DTEND;TZID=America/Los_Angeles:20241010T133000
DTSTAMP:20260419T082700
CREATED:20250410T210218Z
LAST-MODIFIED:20260205T221155Z
UID:10011519-1728561600-1728567000@www.northparkchurch.org
SUMMARY:Men's Bible Study
DESCRIPTION:Every Thursday at 12:00 p.m. at The Well Coffeehouse\, 327 Nees Avenue\, Clovis. For more information at 559-940-4789 call Chris Doda.
URL:https://www.northparkchurch.org/event/new-mens-bible-study/2024-10-10/
LOCATION:CA
CATEGORIES:Men's Ministry
ATTACH;FMTTYPE=image/jpeg:https://www.northparkchurch.org/wp-content/uploads/2025/04/Mens-Bible-Study.jpg
END:VEVENT
BEGIN:VEVENT
DTSTART;TZID=America/Los_Angeles:20241017T120000
DTEND;TZID=America/Los_Angeles:20241017T133000
DTSTAMP:20260419T082700
CREATED:20250410T210218Z
LAST-MODIFIED:20260205T221155Z
UID:10011520-1729166400-1729171800@www.northparkchurch.org
SUMMARY:Men's Bible Study
DESCRIPTION:Every Thursday at 12:00 p.m. at The Well Coffeehouse\, 327 Nees Avenue\, Clovis. For more information at 559-940-4789 call Chris Doda.
URL:https://www.northparkchurch.org/event/new-mens-bible-study/2024-10-17/
LOCATION:CA
CATEGORIES:Men's Ministry
ATTACH;FMTTYPE=image/jpeg:https://www.northparkchurch.org/wp-content/uploads/2025/04/Mens-Bible-Study.jpg
END:VEVENT
BEGIN:VEVENT
DTSTART;TZID=America/Los_Angeles:20241024T120000
DTEND;TZID=America/Los_Angeles:20241024T133000
DTSTAMP:20260419T082700
CREATED:20250410T210218Z
LAST-MODIFIED:20260205T221155Z
UID:10011521-1729771200-1729776600@www.northparkchurch.org
SUMMARY:Men's Bible Study
DESCRIPTION:Every Thursday at 12:00 p.m. at The Well Coffeehouse\, 327 Nees Avenue\, Clovis. For more information at 559-940-4789 call Chris Doda.
URL:https://www.northparkchurch.org/event/new-mens-bible-study/2024-10-24/
LOCATION:CA
CATEGORIES:Men's Ministry
ATTACH;FMTTYPE=image/jpeg:https://www.northparkchurch.org/wp-content/uploads/2025/04/Mens-Bible-Study.jpg
END:VEVENT
BEGIN:VEVENT
DTSTART;TZID=America/Los_Angeles:20241031T120000
DTEND;TZID=America/Los_Angeles:20241031T133000
DTSTAMP:20260419T082700
CREATED:20250410T210218Z
LAST-MODIFIED:20260205T221155Z
UID:10011522-1730376000-1730381400@www.northparkchurch.org
SUMMARY:Men's Bible Study
DESCRIPTION:Every Thursday at 12:00 p.m. at The Well Coffeehouse\, 327 Nees Avenue\, Clovis. For more information at 559-940-4789 call Chris Doda.
URL:https://www.northparkchurch.org/event/new-mens-bible-study/2024-10-31/
LOCATION:CA
CATEGORIES:Men's Ministry
ATTACH;FMTTYPE=image/jpeg:https://www.northparkchurch.org/wp-content/uploads/2025/04/Mens-Bible-Study.jpg
END:VEVENT
BEGIN:VEVENT
DTSTART;TZID=America/Los_Angeles:20241107T120000
DTEND;TZID=America/Los_Angeles:20241107T133000
DTSTAMP:20260419T082700
CREATED:20250410T210218Z
LAST-MODIFIED:20260205T221155Z
UID:10011523-1730980800-1730986200@www.northparkchurch.org
SUMMARY:Men's Bible Study
DESCRIPTION:Every Thursday at 12:00 p.m. at The Well Coffeehouse\, 327 Nees Avenue\, Clovis. For more information at 559-940-4789 call Chris Doda.
URL:https://www.northparkchurch.org/event/new-mens-bible-study/2024-11-07/
LOCATION:CA
CATEGORIES:Men's Ministry
ATTACH;FMTTYPE=image/jpeg:https://www.northparkchurch.org/wp-content/uploads/2025/04/Mens-Bible-Study.jpg
END:VEVENT
BEGIN:VEVENT
DTSTART;TZID=America/Los_Angeles:20241114T120000
DTEND;TZID=America/Los_Angeles:20241114T133000
DTSTAMP:20260419T082700
CREATED:20250410T210218Z
LAST-MODIFIED:20260205T221155Z
UID:10011524-1731585600-1731591000@www.northparkchurch.org
SUMMARY:Men's Bible Study
DESCRIPTION:Every Thursday at 12:00 p.m. at The Well Coffeehouse\, 327 Nees Avenue\, Clovis. For more information at 559-940-4789 call Chris Doda.
URL:https://www.northparkchurch.org/event/new-mens-bible-study/2024-11-14/
LOCATION:CA
CATEGORIES:Men's Ministry
ATTACH;FMTTYPE=image/jpeg:https://www.northparkchurch.org/wp-content/uploads/2025/04/Mens-Bible-Study.jpg
END:VEVENT
BEGIN:VEVENT
DTSTART;TZID=America/Los_Angeles:20241121T120000
DTEND;TZID=America/Los_Angeles:20241121T133000
DTSTAMP:20260419T082700
CREATED:20250410T210218Z
LAST-MODIFIED:20260205T221155Z
UID:10011525-1732190400-1732195800@www.northparkchurch.org
SUMMARY:Men's Bible Study
DESCRIPTION:Every Thursday at 12:00 p.m. at The Well Coffeehouse\, 327 Nees Avenue\, Clovis. For more information at 559-940-4789 call Chris Doda.
URL:https://www.northparkchurch.org/event/new-mens-bible-study/2024-11-21/
LOCATION:CA
CATEGORIES:Men's Ministry
ATTACH;FMTTYPE=image/jpeg:https://www.northparkchurch.org/wp-content/uploads/2025/04/Mens-Bible-Study.jpg
END:VEVENT
BEGIN:VEVENT
DTSTART;TZID=America/Los_Angeles:20241128T120000
DTEND;TZID=America/Los_Angeles:20241128T133000
DTSTAMP:20260419T082700
CREATED:20250410T210218Z
LAST-MODIFIED:20260205T221155Z
UID:10011526-1732795200-1732800600@www.northparkchurch.org
SUMMARY:Men's Bible Study
DESCRIPTION:Every Thursday at 12:00 p.m. at The Well Coffeehouse\, 327 Nees Avenue\, Clovis. For more information at 559-940-4789 call Chris Doda.
URL:https://www.northparkchurch.org/event/new-mens-bible-study/2024-11-28/
LOCATION:CA
CATEGORIES:Men's Ministry
ATTACH;FMTTYPE=image/jpeg:https://www.northparkchurch.org/wp-content/uploads/2025/04/Mens-Bible-Study.jpg
END:VEVENT
BEGIN:VEVENT
DTSTART;TZID=America/Los_Angeles:20241205T120000
DTEND;TZID=America/Los_Angeles:20241205T133000
DTSTAMP:20260419T082700
CREATED:20250410T210218Z
LAST-MODIFIED:20260205T221155Z
UID:10011527-1733400000-1733405400@www.northparkchurch.org
SUMMARY:Men's Bible Study
DESCRIPTION:Every Thursday at 12:00 p.m. at The Well Coffeehouse\, 327 Nees Avenue\, Clovis. For more information at 559-940-4789 call Chris Doda.
URL:https://www.northparkchurch.org/event/new-mens-bible-study/2024-12-05/
LOCATION:CA
CATEGORIES:Men's Ministry
ATTACH;FMTTYPE=image/jpeg:https://www.northparkchurch.org/wp-content/uploads/2025/04/Mens-Bible-Study.jpg
END:VEVENT
BEGIN:VEVENT
DTSTART;TZID=America/Los_Angeles:20241212T120000
DTEND;TZID=America/Los_Angeles:20241212T133000
DTSTAMP:20260419T082700
CREATED:20250410T210218Z
LAST-MODIFIED:20260205T221155Z
UID:10011528-1734004800-1734010200@www.northparkchurch.org
SUMMARY:Men's Bible Study
DESCRIPTION:Every Thursday at 12:00 p.m. at The Well Coffeehouse\, 327 Nees Avenue\, Clovis. For more information at 559-940-4789 call Chris Doda.
URL:https://www.northparkchurch.org/event/new-mens-bible-study/2024-12-12/
LOCATION:CA
CATEGORIES:Men's Ministry
ATTACH;FMTTYPE=image/jpeg:https://www.northparkchurch.org/wp-content/uploads/2025/04/Mens-Bible-Study.jpg
END:VEVENT
BEGIN:VEVENT
DTSTART;TZID=America/Los_Angeles:20241219T120000
DTEND;TZID=America/Los_Angeles:20241219T133000
DTSTAMP:20260419T082700
CREATED:20250410T210218Z
LAST-MODIFIED:20260205T221155Z
UID:10011529-1734609600-1734615000@www.northparkchurch.org
SUMMARY:Men's Bible Study
DESCRIPTION:Every Thursday at 12:00 p.m. at The Well Coffeehouse\, 327 Nees Avenue\, Clovis. For more information at 559-940-4789 call Chris Doda.
URL:https://www.northparkchurch.org/event/new-mens-bible-study/2024-12-19/
LOCATION:CA
CATEGORIES:Men's Ministry
ATTACH;FMTTYPE=image/jpeg:https://www.northparkchurch.org/wp-content/uploads/2025/04/Mens-Bible-Study.jpg
END:VEVENT
BEGIN:VEVENT
DTSTART;TZID=America/Los_Angeles:20241226T120000
DTEND;TZID=America/Los_Angeles:20241226T133000
DTSTAMP:20260419T082700
CREATED:20250410T210218Z
LAST-MODIFIED:20260205T221155Z
UID:10011530-1735214400-1735219800@www.northparkchurch.org
SUMMARY:Men's Bible Study
DESCRIPTION:Every Thursday at 12:00 p.m. at The Well Coffeehouse\, 327 Nees Avenue\, Clovis. For more information at 559-940-4789 call Chris Doda.
URL:https://www.northparkchurch.org/event/new-mens-bible-study/2024-12-26/
LOCATION:CA
CATEGORIES:Men's Ministry
ATTACH;FMTTYPE=image/jpeg:https://www.northparkchurch.org/wp-content/uploads/2025/04/Mens-Bible-Study.jpg
END:VEVENT
END:VCALENDAR