BEGIN:VCALENDAR
VERSION:2.0
PRODID:-//Northpark - ECPv6.15.14//NONSGML v1.0//EN
CALSCALE:GREGORIAN
METHOD:PUBLISH
X-WR-CALNAME:Northpark
X-ORIGINAL-URL:https://www.northparkchurch.org
X-WR-CALDESC:Events for Northpark
REFRESH-INTERVAL;VALUE=DURATION:PT1H
X-Robots-Tag:noindex
X-PUBLISHED-TTL:PT1H
BEGIN:VTIMEZONE
TZID:America/Los_Angeles
BEGIN:DAYLIGHT
TZOFFSETFROM:-0800
TZOFFSETTO:-0700
TZNAME:PDT
DTSTART:20250309T100000
END:DAYLIGHT
BEGIN:STANDARD
TZOFFSETFROM:-0700
TZOFFSETTO:-0800
TZNAME:PST
DTSTART:20251102T090000
END:STANDARD
BEGIN:DAYLIGHT
TZOFFSETFROM:-0800
TZOFFSETTO:-0700
TZNAME:PDT
DTSTART:20260308T100000
END:DAYLIGHT
BEGIN:STANDARD
TZOFFSETFROM:-0700
TZOFFSETTO:-0800
TZNAME:PST
DTSTART:20261101T090000
END:STANDARD
BEGIN:DAYLIGHT
TZOFFSETFROM:-0800
TZOFFSETTO:-0700
TZNAME:PDT
DTSTART:20270314T100000
END:DAYLIGHT
BEGIN:STANDARD
TZOFFSETFROM:-0700
TZOFFSETTO:-0800
TZNAME:PST
DTSTART:20271107T090000
END:STANDARD
END:VTIMEZONE
BEGIN:VEVENT
DTSTART;TZID=America/Los_Angeles:20260113T190000
DTEND;TZID=America/Los_Angeles:20260113T200000
DTSTAMP:20260425T054801
CREATED:20231220T222356Z
LAST-MODIFIED:20251215T225747Z
UID:10009864-1768330800-1768334400@www.northparkchurch.org
SUMMARY:Nightly Prayer & Fasting Service - Westside Church of God
DESCRIPTION:Nightly Prayer & Fasting Service\nTuesday\, January 13 – 7:00 p.m.\nHosted By Westside Church of God\nIn Person: 1422 W California Ave\, Fresno\, CA 93706 \nOnline: www.wscog.org \n\nEvery night during the 21 days of Prayer and Fasting there will be a service hosted by a different church allowing us to experience the depth and diversity of congregations across our community while acknowledging that we are One Church. \nThese services will be available online or in person\, will incorporate prayer and worship\, and are a great opportunity for the Church of Fresno/Clovis to gather together in unity. \nWe invite you to join us for 1\, or 2\, or all 21 as we pray for our community and believe God together for powerful results throughout 2025 and beyond. You will be encouraged\, and you will be an encouragement to others as well! \n\nMore Resources\n\nSign up for daily email encouragement from Pastor Bob Willis guiding you during prayer and fasting\nFAQ’s\, Books and Videos about Prayer & Fasting\n\nGet more resources here: NorthparkChurch.org/fasting \n\nOther Nightly Services\nSee the full list of nightly prayer and fasting services: northparkchurch.org/series/nightly-prayer-fasting-service/ \n 
URL:https://www.northparkchurch.org/event/nightly-prayer-fasting-service-22-2/
LOCATION:Westside Church of God\, 1422 W California Ave.\, Fresno\, CA\, 93706\, United States
CATEGORIES:Fasting
ATTACH;FMTTYPE=image/jpeg:https://www.northparkchurch.org/wp-content/uploads/2021/12/NIGHTLY-PRAYER-FASTING-SERVICE-500-x-500-px-e1767913392586.jpg
GEO:36.7216443;-119.8283126
X-APPLE-STRUCTURED-LOCATION;VALUE=URI;X-ADDRESS=Westside Church of God 1422 W California Ave. Fresno CA 93706 United States;X-APPLE-RADIUS=500;X-TITLE=1422 W California Ave.:geo:-119.8283126,36.7216443
END:VEVENT
END:VCALENDAR