BEGIN:VCALENDAR
VERSION:2.0
PRODID:-//Northpark - ECPv6.15.14//NONSGML v1.0//EN
CALSCALE:GREGORIAN
METHOD:PUBLISH
X-WR-CALNAME:Northpark
X-ORIGINAL-URL:https://www.northparkchurch.org
X-WR-CALDESC:Events for Northpark
REFRESH-INTERVAL;VALUE=DURATION:PT1H
X-Robots-Tag:noindex
X-PUBLISHED-TTL:PT1H
BEGIN:VTIMEZONE
TZID:America/Los_Angeles
BEGIN:DAYLIGHT
TZOFFSETFROM:-0800
TZOFFSETTO:-0700
TZNAME:PDT
DTSTART:20230312T100000
END:DAYLIGHT
BEGIN:STANDARD
TZOFFSETFROM:-0700
TZOFFSETTO:-0800
TZNAME:PST
DTSTART:20231105T090000
END:STANDARD
BEGIN:DAYLIGHT
TZOFFSETFROM:-0800
TZOFFSETTO:-0700
TZNAME:PDT
DTSTART:20240310T100000
END:DAYLIGHT
BEGIN:STANDARD
TZOFFSETFROM:-0700
TZOFFSETTO:-0800
TZNAME:PST
DTSTART:20241103T090000
END:STANDARD
BEGIN:DAYLIGHT
TZOFFSETFROM:-0800
TZOFFSETTO:-0700
TZNAME:PDT
DTSTART:20250309T100000
END:DAYLIGHT
BEGIN:STANDARD
TZOFFSETFROM:-0700
TZOFFSETTO:-0800
TZNAME:PST
DTSTART:20251102T090000
END:STANDARD
END:VTIMEZONE
BEGIN:VEVENT
DTSTART;TZID=America/Los_Angeles:20240801T180000
DTEND;TZID=America/Los_Angeles:20240801T190000
DTSTAMP:20260421T182143
CREATED:20231220T212939Z
LAST-MODIFIED:20241217T225718Z
UID:10010246-1722535200-1722538800@www.northparkchurch.org
SUMMARY:Women's Beginner Yoga
DESCRIPTION:Thursdays | 6:00 – 7:15 p.m.\nNorthpark Community Church\, Room 203 \nAll ages and skill levels are welcome! \nThis class is facilitated by certified yoga instructor\, Cheryl Tristan. \nAs we cope with the stressors of life\, including anxiety and isolation\, yoga is a great way to draw closer to God and practice self-care through movement\, breathing and balance.  Modifications can be made as needed so that you can find movement and gain mobility. \nBring a yoga mat\, water and any yoga props you want (blocks etc.) Loaner items will be available if needed. \nSpace is limited\, sign up in advance. \nClick the link below or contact Cheryl at 559-907-5303. \nRegister Online Now
URL:https://www.northparkchurch.org/event/womens-beginner-yoga-6/2024-08-01/
LOCATION:Northpark Community Church\, 2297 E. Shepherd Ave.\, Fresno\, CA\, 93720\, United States
CATEGORIES:Church Event,Women's Ministry
ATTACH;FMTTYPE=image/jpeg:https://www.northparkchurch.org/wp-content/uploads/2022/05/yoga-square-e1653233022519.jpg
GEO:36.8657759;-119.741738
X-APPLE-STRUCTURED-LOCATION;VALUE=URI;X-ADDRESS=Northpark Community Church 2297 E. Shepherd Ave. Fresno CA 93720 United States;X-APPLE-RADIUS=500;X-TITLE=2297 E. Shepherd Ave.:geo:-119.741738,36.8657759
END:VEVENT
BEGIN:VEVENT
DTSTART;TZID=America/Los_Angeles:20240804T081500
DTEND;TZID=America/Los_Angeles:20240804T091500
DTSTAMP:20260421T182143
CREATED:20240522T181502Z
LAST-MODIFIED:20240522T181554Z
UID:10009972-1722759300-1722762900@www.northparkchurch.org
SUMMARY:Going Deeper With God
DESCRIPTION:SUNDAY CLASS FOR ADULTS: GOING DEEPER WITH GOD\n8:15 a.m. at Northpark | Room 201 \n\nFOR ADULTS\nCurrent Topic: Experiencing God in the Psalms\nThe Book of Psalms is one of the greatest gifts in the Old Testament covering the range of human emotion and experience. A common feature in the psalms is prayer\, and a reaching out to God from every imaginable life experience. This class will explore the deep insights of many of the psalms with the purpose of experiencing God through personal praise and worship. \nRev Jim Rossi will teach as we seek to learn and “go deeper with God”. \n\n 
URL:https://www.northparkchurch.org/event/going-deeper-with-god-3-2-2/2024-08-04/
LOCATION:Northpark Community Church\, 2297 E. Shepherd Ave.\, Fresno\, CA\, 93720\, United States
CATEGORIES:Church Event,Sunday Morning
ATTACH;FMTTYPE=image/jpeg:https://www.northparkchurch.org/wp-content/uploads/2022/01/Deeper-with-God-e1767913314386.jpg
GEO:36.8657759;-119.741738
X-APPLE-STRUCTURED-LOCATION;VALUE=URI;X-ADDRESS=Northpark Community Church 2297 E. Shepherd Ave. Fresno CA 93720 United States;X-APPLE-RADIUS=500;X-TITLE=2297 E. Shepherd Ave.:geo:-119.741738,36.8657759
END:VEVENT
BEGIN:VEVENT
DTSTART;TZID=America/Los_Angeles:20240808T180000
DTEND;TZID=America/Los_Angeles:20240808T190000
DTSTAMP:20260421T182143
CREATED:20231220T212939Z
LAST-MODIFIED:20241217T225718Z
UID:10010247-1723140000-1723143600@www.northparkchurch.org
SUMMARY:Women's Beginner Yoga
DESCRIPTION:Thursdays | 6:00 – 7:15 p.m.\nNorthpark Community Church\, Room 203 \nAll ages and skill levels are welcome! \nThis class is facilitated by certified yoga instructor\, Cheryl Tristan. \nAs we cope with the stressors of life\, including anxiety and isolation\, yoga is a great way to draw closer to God and practice self-care through movement\, breathing and balance.  Modifications can be made as needed so that you can find movement and gain mobility. \nBring a yoga mat\, water and any yoga props you want (blocks etc.) Loaner items will be available if needed. \nSpace is limited\, sign up in advance. \nClick the link below or contact Cheryl at 559-907-5303. \nRegister Online Now
URL:https://www.northparkchurch.org/event/womens-beginner-yoga-6/2024-08-08/
LOCATION:Northpark Community Church\, 2297 E. Shepherd Ave.\, Fresno\, CA\, 93720\, United States
CATEGORIES:Church Event,Women's Ministry
ATTACH;FMTTYPE=image/jpeg:https://www.northparkchurch.org/wp-content/uploads/2022/05/yoga-square-e1653233022519.jpg
GEO:36.8657759;-119.741738
X-APPLE-STRUCTURED-LOCATION;VALUE=URI;X-ADDRESS=Northpark Community Church 2297 E. Shepherd Ave. Fresno CA 93720 United States;X-APPLE-RADIUS=500;X-TITLE=2297 E. Shepherd Ave.:geo:-119.741738,36.8657759
END:VEVENT
BEGIN:VEVENT
DTSTART;TZID=America/Los_Angeles:20240811T081500
DTEND;TZID=America/Los_Angeles:20240811T091500
DTSTAMP:20260421T182143
CREATED:20240522T181502Z
LAST-MODIFIED:20240522T181554Z
UID:10009973-1723364100-1723367700@www.northparkchurch.org
SUMMARY:Going Deeper With God
DESCRIPTION:SUNDAY CLASS FOR ADULTS: GOING DEEPER WITH GOD\n8:15 a.m. at Northpark | Room 201 \n\nFOR ADULTS\nCurrent Topic: Experiencing God in the Psalms\nThe Book of Psalms is one of the greatest gifts in the Old Testament covering the range of human emotion and experience. A common feature in the psalms is prayer\, and a reaching out to God from every imaginable life experience. This class will explore the deep insights of many of the psalms with the purpose of experiencing God through personal praise and worship. \nRev Jim Rossi will teach as we seek to learn and “go deeper with God”. \n\n 
URL:https://www.northparkchurch.org/event/going-deeper-with-god-3-2-2/2024-08-11/
LOCATION:Northpark Community Church\, 2297 E. Shepherd Ave.\, Fresno\, CA\, 93720\, United States
CATEGORIES:Church Event,Sunday Morning
ATTACH;FMTTYPE=image/jpeg:https://www.northparkchurch.org/wp-content/uploads/2022/01/Deeper-with-God-e1767913314386.jpg
GEO:36.8657759;-119.741738
X-APPLE-STRUCTURED-LOCATION;VALUE=URI;X-ADDRESS=Northpark Community Church 2297 E. Shepherd Ave. Fresno CA 93720 United States;X-APPLE-RADIUS=500;X-TITLE=2297 E. Shepherd Ave.:geo:-119.741738,36.8657759
END:VEVENT
BEGIN:VEVENT
DTSTART;VALUE=DATE:20240812
DTEND;VALUE=DATE:20240813
DTSTAMP:20260421T182143
CREATED:20231005T023229Z
LAST-MODIFIED:20231005T023229Z
UID:10009728-1723420800-1723507199@www.northparkchurch.org
SUMMARY:Fresno/Clovis Prays - Day of Prayer
DESCRIPTION:Fresno / Clovis Prays\nThe 12th day of each month\n\nFresno Prays is a prayer movement covering Fresno and Clovis California in 24/7 prayer. \nAs part of the ‘America Prays’ movement\, churches all over Fresno and Clovis have committed to a specific day of the month to cover our city in prayer. \nNorthpark Community Church has committed to praying on the 12th of every month\, with individuals taking 30 minute time slots.  \nWill you join us in prayer? Will you stand in the gap for your community? You can pray from wherever you are! \nContact Pastor Bob Fuller to sign up for a prayer time! \nWatch monthly videos with community leaders: Fresno Prays YouTube Channel \nFor more information about America Prays\, visit americaprays.org
URL:https://www.northparkchurch.org/event/fresno-clovis-prays-day-of-prayer/2024-08-12/
LOCATION:Northpark Community Church\, 2297 E. Shepherd Ave.\, Fresno\, CA\, 93720\, United States
CATEGORIES:Church Event,Prayer
ATTACH;FMTTYPE=image/jpeg:https://www.northparkchurch.org/wp-content/uploads/2023/10/FRESNO-PRAYS-square.jpg
ORGANIZER;CN="Pastor Bob Fuller":MAILTO:bfuller@northparkcc.org
GEO:36.8657759;-119.741738
X-APPLE-STRUCTURED-LOCATION;VALUE=URI;X-ADDRESS=Northpark Community Church 2297 E. Shepherd Ave. Fresno CA 93720 United States;X-APPLE-RADIUS=500;X-TITLE=2297 E. Shepherd Ave.:geo:-119.741738,36.8657759
END:VEVENT
BEGIN:VEVENT
DTSTART;TZID=America/Los_Angeles:20240815T180000
DTEND;TZID=America/Los_Angeles:20240815T190000
DTSTAMP:20260421T182143
CREATED:20231220T212939Z
LAST-MODIFIED:20241217T225718Z
UID:10010248-1723744800-1723748400@www.northparkchurch.org
SUMMARY:Women's Beginner Yoga
DESCRIPTION:Thursdays | 6:00 – 7:15 p.m.\nNorthpark Community Church\, Room 203 \nAll ages and skill levels are welcome! \nThis class is facilitated by certified yoga instructor\, Cheryl Tristan. \nAs we cope with the stressors of life\, including anxiety and isolation\, yoga is a great way to draw closer to God and practice self-care through movement\, breathing and balance.  Modifications can be made as needed so that you can find movement and gain mobility. \nBring a yoga mat\, water and any yoga props you want (blocks etc.) Loaner items will be available if needed. \nSpace is limited\, sign up in advance. \nClick the link below or contact Cheryl at 559-907-5303. \nRegister Online Now
URL:https://www.northparkchurch.org/event/womens-beginner-yoga-6/2024-08-15/
LOCATION:Northpark Community Church\, 2297 E. Shepherd Ave.\, Fresno\, CA\, 93720\, United States
CATEGORIES:Church Event,Women's Ministry
ATTACH;FMTTYPE=image/jpeg:https://www.northparkchurch.org/wp-content/uploads/2022/05/yoga-square-e1653233022519.jpg
GEO:36.8657759;-119.741738
X-APPLE-STRUCTURED-LOCATION;VALUE=URI;X-ADDRESS=Northpark Community Church 2297 E. Shepherd Ave. Fresno CA 93720 United States;X-APPLE-RADIUS=500;X-TITLE=2297 E. Shepherd Ave.:geo:-119.741738,36.8657759
END:VEVENT
BEGIN:VEVENT
DTSTART;TZID=America/Los_Angeles:20240818T081500
DTEND;TZID=America/Los_Angeles:20240818T091500
DTSTAMP:20260421T182143
CREATED:20240522T181502Z
LAST-MODIFIED:20240522T181554Z
UID:10009974-1723968900-1723972500@www.northparkchurch.org
SUMMARY:Going Deeper With God
DESCRIPTION:SUNDAY CLASS FOR ADULTS: GOING DEEPER WITH GOD\n8:15 a.m. at Northpark | Room 201 \n\nFOR ADULTS\nCurrent Topic: Experiencing God in the Psalms\nThe Book of Psalms is one of the greatest gifts in the Old Testament covering the range of human emotion and experience. A common feature in the psalms is prayer\, and a reaching out to God from every imaginable life experience. This class will explore the deep insights of many of the psalms with the purpose of experiencing God through personal praise and worship. \nRev Jim Rossi will teach as we seek to learn and “go deeper with God”. \n\n 
URL:https://www.northparkchurch.org/event/going-deeper-with-god-3-2-2/2024-08-18/
LOCATION:Northpark Community Church\, 2297 E. Shepherd Ave.\, Fresno\, CA\, 93720\, United States
CATEGORIES:Church Event,Sunday Morning
ATTACH;FMTTYPE=image/jpeg:https://www.northparkchurch.org/wp-content/uploads/2022/01/Deeper-with-God-e1767913314386.jpg
GEO:36.8657759;-119.741738
X-APPLE-STRUCTURED-LOCATION;VALUE=URI;X-ADDRESS=Northpark Community Church 2297 E. Shepherd Ave. Fresno CA 93720 United States;X-APPLE-RADIUS=500;X-TITLE=2297 E. Shepherd Ave.:geo:-119.741738,36.8657759
END:VEVENT
BEGIN:VEVENT
DTSTART;TZID=America/Los_Angeles:20240818T093000
DTEND;TZID=America/Los_Angeles:20240818T103000
DTSTAMP:20260421T182143
CREATED:20240809T061641Z
LAST-MODIFIED:20240809T061641Z
UID:10010276-1723973400-1723977000@www.northparkchurch.org
SUMMARY:Special Service: Back to School Prayer & Breakfast Burritos
DESCRIPTION:Back to School Prayer Service\nFollowed by Breakfast Burritos\nSunday\, August 18\, 2024\n9:30 a.m. at Northpark \nWe hope YOU will be a part of this special Sunday morning service\, as we cover our schools\, students\, teachers\, administrators and parents in prayer! \nThis service will be a different format than usual\, with a variety of people leading us in prayer for different areas of education\, along with opportunities to worship through song. \nYouth will be a part of the main service. Kids classes will be available as usual\, with our kids joining in for special prayer over them at the end of service. \nAfter the service\, enjoy free breakfast burritos in the patio area\, prepared by our Men’s Ministry team!
URL:https://www.northparkchurch.org/event/school-prayer-2/
LOCATION:Northpark Community Church\, 2297 E. Shepherd Ave.\, Fresno\, CA\, 93720\, United States
CATEGORIES:Children,Church Event,Youth
ATTACH;FMTTYPE=image/jpeg:https://www.northparkchurch.org/wp-content/uploads/2024/08/2024-prayer-service.jpg
GEO:36.8657759;-119.741738
X-APPLE-STRUCTURED-LOCATION;VALUE=URI;X-ADDRESS=Northpark Community Church 2297 E. Shepherd Ave. Fresno CA 93720 United States;X-APPLE-RADIUS=500;X-TITLE=2297 E. Shepherd Ave.:geo:-119.741738,36.8657759
END:VEVENT
BEGIN:VEVENT
DTSTART;TZID=America/Los_Angeles:20240822T180000
DTEND;TZID=America/Los_Angeles:20240822T190000
DTSTAMP:20260421T182143
CREATED:20231220T212939Z
LAST-MODIFIED:20241217T225718Z
UID:10010249-1724349600-1724353200@www.northparkchurch.org
SUMMARY:Women's Beginner Yoga
DESCRIPTION:Thursdays | 6:00 – 7:15 p.m.\nNorthpark Community Church\, Room 203 \nAll ages and skill levels are welcome! \nThis class is facilitated by certified yoga instructor\, Cheryl Tristan. \nAs we cope with the stressors of life\, including anxiety and isolation\, yoga is a great way to draw closer to God and practice self-care through movement\, breathing and balance.  Modifications can be made as needed so that you can find movement and gain mobility. \nBring a yoga mat\, water and any yoga props you want (blocks etc.) Loaner items will be available if needed. \nSpace is limited\, sign up in advance. \nClick the link below or contact Cheryl at 559-907-5303. \nRegister Online Now
URL:https://www.northparkchurch.org/event/womens-beginner-yoga-6/2024-08-22/
LOCATION:Northpark Community Church\, 2297 E. Shepherd Ave.\, Fresno\, CA\, 93720\, United States
CATEGORIES:Church Event,Women's Ministry
ATTACH;FMTTYPE=image/jpeg:https://www.northparkchurch.org/wp-content/uploads/2022/05/yoga-square-e1653233022519.jpg
GEO:36.8657759;-119.741738
X-APPLE-STRUCTURED-LOCATION;VALUE=URI;X-ADDRESS=Northpark Community Church 2297 E. Shepherd Ave. Fresno CA 93720 United States;X-APPLE-RADIUS=500;X-TITLE=2297 E. Shepherd Ave.:geo:-119.741738,36.8657759
END:VEVENT
BEGIN:VEVENT
DTSTART;TZID=America/Los_Angeles:20240825T081500
DTEND;TZID=America/Los_Angeles:20240825T091500
DTSTAMP:20260421T182143
CREATED:20240522T181502Z
LAST-MODIFIED:20240522T181554Z
UID:10009975-1724573700-1724577300@www.northparkchurch.org
SUMMARY:Going Deeper With God
DESCRIPTION:SUNDAY CLASS FOR ADULTS: GOING DEEPER WITH GOD\n8:15 a.m. at Northpark | Room 201 \n\nFOR ADULTS\nCurrent Topic: Experiencing God in the Psalms\nThe Book of Psalms is one of the greatest gifts in the Old Testament covering the range of human emotion and experience. A common feature in the psalms is prayer\, and a reaching out to God from every imaginable life experience. This class will explore the deep insights of many of the psalms with the purpose of experiencing God through personal praise and worship. \nRev Jim Rossi will teach as we seek to learn and “go deeper with God”. \n\n 
URL:https://www.northparkchurch.org/event/going-deeper-with-god-3-2-2/2024-08-25/
LOCATION:Northpark Community Church\, 2297 E. Shepherd Ave.\, Fresno\, CA\, 93720\, United States
CATEGORIES:Church Event,Sunday Morning
ATTACH;FMTTYPE=image/jpeg:https://www.northparkchurch.org/wp-content/uploads/2022/01/Deeper-with-God-e1767913314386.jpg
GEO:36.8657759;-119.741738
X-APPLE-STRUCTURED-LOCATION;VALUE=URI;X-ADDRESS=Northpark Community Church 2297 E. Shepherd Ave. Fresno CA 93720 United States;X-APPLE-RADIUS=500;X-TITLE=2297 E. Shepherd Ave.:geo:-119.741738,36.8657759
END:VEVENT
BEGIN:VEVENT
DTSTART;TZID=America/Los_Angeles:20240828T180000
DTEND;TZID=America/Los_Angeles:20240828T200000
DTSTAMP:20260421T182143
CREATED:20240724T221231Z
LAST-MODIFIED:20240727T080302Z
UID:10010270-1724868000-1724875200@www.northparkchurch.org
SUMMARY:Fall Kickoff
DESCRIPTION:FALL KICK–OFF DINNER & FUN \nWednesday\, August 28\, 6:00 – 8:00 at Northpark \nThe whole family is invited for an evening at Northpark with free dinner and a fun time of getting to know others! \nThere will be separate activities for kids and youth. \nLet us know you are coming! \nREGISTER NOW:
URL:https://www.northparkchurch.org/event/fall-kickoff/
LOCATION:Northpark Community Church\, 2297 E. Shepherd Ave.\, Fresno\, CA\, 93720\, United States
CATEGORIES:Children,Church Event,Men's Ministry,Preteen,Wednesday Night,Women's Ministry,Young Adult,Youth
ATTACH;FMTTYPE=image/jpeg:https://www.northparkchurch.org/wp-content/uploads/2024/07/Fall-Kick-Off-Square.jpg
GEO:36.8657759;-119.741738
X-APPLE-STRUCTURED-LOCATION;VALUE=URI;X-ADDRESS=Northpark Community Church 2297 E. Shepherd Ave. Fresno CA 93720 United States;X-APPLE-RADIUS=500;X-TITLE=2297 E. Shepherd Ave.:geo:-119.741738,36.8657759
END:VEVENT
BEGIN:VEVENT
DTSTART;TZID=America/Los_Angeles:20240829T180000
DTEND;TZID=America/Los_Angeles:20240829T190000
DTSTAMP:20260421T182143
CREATED:20231220T212939Z
LAST-MODIFIED:20241217T225718Z
UID:10010250-1724954400-1724958000@www.northparkchurch.org
SUMMARY:Women's Beginner Yoga
DESCRIPTION:Thursdays | 6:00 – 7:15 p.m.\nNorthpark Community Church\, Room 203 \nAll ages and skill levels are welcome! \nThis class is facilitated by certified yoga instructor\, Cheryl Tristan. \nAs we cope with the stressors of life\, including anxiety and isolation\, yoga is a great way to draw closer to God and practice self-care through movement\, breathing and balance.  Modifications can be made as needed so that you can find movement and gain mobility. \nBring a yoga mat\, water and any yoga props you want (blocks etc.) Loaner items will be available if needed. \nSpace is limited\, sign up in advance. \nClick the link below or contact Cheryl at 559-907-5303. \nRegister Online Now
URL:https://www.northparkchurch.org/event/womens-beginner-yoga-6/2024-08-29/
LOCATION:Northpark Community Church\, 2297 E. Shepherd Ave.\, Fresno\, CA\, 93720\, United States
CATEGORIES:Church Event,Women's Ministry
ATTACH;FMTTYPE=image/jpeg:https://www.northparkchurch.org/wp-content/uploads/2022/05/yoga-square-e1653233022519.jpg
GEO:36.8657759;-119.741738
X-APPLE-STRUCTURED-LOCATION;VALUE=URI;X-ADDRESS=Northpark Community Church 2297 E. Shepherd Ave. Fresno CA 93720 United States;X-APPLE-RADIUS=500;X-TITLE=2297 E. Shepherd Ave.:geo:-119.741738,36.8657759
END:VEVENT
END:VCALENDAR