BEGIN:VCALENDAR
VERSION:2.0
PRODID:-//Northpark - ECPv6.15.14//NONSGML v1.0//EN
CALSCALE:GREGORIAN
METHOD:PUBLISH
X-WR-CALNAME:Northpark
X-ORIGINAL-URL:https://www.northparkchurch.org
X-WR-CALDESC:Events for Northpark
REFRESH-INTERVAL;VALUE=DURATION:PT1H
X-Robots-Tag:noindex
X-PUBLISHED-TTL:PT1H
BEGIN:VTIMEZONE
TZID:America/Los_Angeles
BEGIN:DAYLIGHT
TZOFFSETFROM:-0800
TZOFFSETTO:-0700
TZNAME:PDT
DTSTART:20230312T100000
END:DAYLIGHT
BEGIN:STANDARD
TZOFFSETFROM:-0700
TZOFFSETTO:-0800
TZNAME:PST
DTSTART:20231105T090000
END:STANDARD
BEGIN:DAYLIGHT
TZOFFSETFROM:-0800
TZOFFSETTO:-0700
TZNAME:PDT
DTSTART:20240310T100000
END:DAYLIGHT
BEGIN:STANDARD
TZOFFSETFROM:-0700
TZOFFSETTO:-0800
TZNAME:PST
DTSTART:20241103T090000
END:STANDARD
BEGIN:DAYLIGHT
TZOFFSETFROM:-0800
TZOFFSETTO:-0700
TZNAME:PDT
DTSTART:20250309T100000
END:DAYLIGHT
BEGIN:STANDARD
TZOFFSETFROM:-0700
TZOFFSETTO:-0800
TZNAME:PST
DTSTART:20251102T090000
END:STANDARD
END:VTIMEZONE
BEGIN:VEVENT
DTSTART;TZID=America/Los_Angeles:20241207T160000
DTEND;TZID=America/Los_Angeles:20241207T200000
DTSTAMP:20260425T173208
CREATED:20241103T083836Z
LAST-MODIFIED:20241105T221729Z
UID:10010471-1733587200-1733601600@www.northparkchurch.org
SUMMARY:Kids Christmas Party & Movie Night
DESCRIPTION:KIDS CHRISTMAS PARTY / PARENTS NIGHT OUT\nSaturday\, December 7 at Northpark\n4:00 – 8:00 p.m. \n\nMovie: Inside Out 2\nVisit from Santa and Gifts for all Kids\nPizza\, Popcorn\, Snacks & Drinks\nKids bring sleeping bag\, pillow and wear pajamas!\n\nREGISTER ONLINE NOW \nThis is a FREE event for all children age 0 – 6th Grade. Parents\, enjoy some time for yourself while we provide a FUN Christmas celebration for your kids with the movie ‘Inside Out 2’\, visit with Santa\, gifts\, pizza and popcorn! \nKids will be separated by age groups: 0-2 years old / 3 years – 1st Grade / 2nd -6th Grade \nREGISTRATION IS REQUIRED – LIMITED SPACE\, sign up online by Nov 24 \n\nREGISTER ONLINE NOW
URL:https://www.northparkchurch.org/event/kids-christmas-party-movie-night/
LOCATION:Northpark Community Church\, 2297 E. Shepherd Ave.\, Fresno\, CA\, 93720\, United States
CATEGORIES:Children,Christmas
ATTACH;FMTTYPE=image/jpeg:https://www.northparkchurch.org/wp-content/uploads/2024/11/Kids-Christmas-Party-Poster-2024.jpg
GEO:36.8657759;-119.741738
X-APPLE-STRUCTURED-LOCATION;VALUE=URI;X-ADDRESS=Northpark Community Church 2297 E. Shepherd Ave. Fresno CA 93720 United States;X-APPLE-RADIUS=500;X-TITLE=2297 E. Shepherd Ave.:geo:-119.741738,36.8657759
END:VEVENT
BEGIN:VEVENT
DTSTART;TZID=America/Los_Angeles:20241229T100000
DTEND;TZID=America/Los_Angeles:20241229T110000
DTSTAMP:20260425T173208
CREATED:20241209T230038Z
LAST-MODIFIED:20241224T193619Z
UID:10010489-1735466400-1735470000@www.northparkchurch.org
SUMMARY:ONE SERVICE at 10 AM
DESCRIPTION:Sunday\, December 29\, 2024\nOne Service at 10:00 a.m. \nWe will conclude our Christmas season with this special family friendly service that will include our kids and youth. \nPastor Candi will share a ‘Kids Moment’ with all the kids in the service! \nWe will also be honoring our facilities manager\, Dennis Belfiore on his last Sunday before retiring. \nChildcare will be available for ages 0-4\nAge 0-1 in the Nursery\nAge 1-4 in Room 102 \n*8:30 a.m. adult & kids classes will NOT meet\n*No Teen Bible Quiz this Sunday
URL:https://www.northparkchurch.org/event/one-service-at-10-am/
LOCATION:Northpark Community Church\, 2297 E. Shepherd Ave.\, Fresno\, CA\, 93720\, United States
CATEGORIES:Children,Christmas,Church Event,Sunday Morning
ATTACH;FMTTYPE=image/jpeg:https://www.northparkchurch.org/wp-content/uploads/2024/12/one-service-dec-29-square.jpg
GEO:36.8657759;-119.741738
X-APPLE-STRUCTURED-LOCATION;VALUE=URI;X-ADDRESS=Northpark Community Church 2297 E. Shepherd Ave. Fresno CA 93720 United States;X-APPLE-RADIUS=500;X-TITLE=2297 E. Shepherd Ave.:geo:-119.741738,36.8657759
END:VEVENT
END:VCALENDAR