BEGIN:VCALENDAR
VERSION:2.0
PRODID:-//Northpark - ECPv6.15.14//NONSGML v1.0//EN
CALSCALE:GREGORIAN
METHOD:PUBLISH
X-WR-CALNAME:Northpark
X-ORIGINAL-URL:https://www.northparkchurch.org
X-WR-CALDESC:Events for Northpark
REFRESH-INTERVAL;VALUE=DURATION:PT1H
X-Robots-Tag:noindex
X-PUBLISHED-TTL:PT1H
BEGIN:VTIMEZONE
TZID:America/Los_Angeles
BEGIN:DAYLIGHT
TZOFFSETFROM:-0800
TZOFFSETTO:-0700
TZNAME:PDT
DTSTART:20230312T100000
END:DAYLIGHT
BEGIN:STANDARD
TZOFFSETFROM:-0700
TZOFFSETTO:-0800
TZNAME:PST
DTSTART:20231105T090000
END:STANDARD
BEGIN:DAYLIGHT
TZOFFSETFROM:-0800
TZOFFSETTO:-0700
TZNAME:PDT
DTSTART:20240310T100000
END:DAYLIGHT
BEGIN:STANDARD
TZOFFSETFROM:-0700
TZOFFSETTO:-0800
TZNAME:PST
DTSTART:20241103T090000
END:STANDARD
BEGIN:DAYLIGHT
TZOFFSETFROM:-0800
TZOFFSETTO:-0700
TZNAME:PDT
DTSTART:20250309T100000
END:DAYLIGHT
BEGIN:STANDARD
TZOFFSETFROM:-0700
TZOFFSETTO:-0800
TZNAME:PST
DTSTART:20251102T090000
END:STANDARD
END:VTIMEZONE
BEGIN:VEVENT
DTSTART;TZID=America/Los_Angeles:20240407T083000
DTEND;TZID=America/Los_Angeles:20240407T093000
DTSTAMP:20260423T073219
CREATED:20230907T220747Z
LAST-MODIFIED:20240522T194437Z
UID:10009411-1712478600-1712482200@www.northparkchurch.org
SUMMARY:Junior Bible Quiz
DESCRIPTION:JUNIOR BIBLE QUIZ\nEvery Sunday Morning September – May | 8:30 a.m. | Northpark Room 203 \nFor kids in grades 1-6\, Junior Bible Quiz makes learning the Bible fun! \nGet an in depth understanding of God’s Word and even have the opportunity to do team competitions (these are optional). \n*Childcare is also offered for children age 0 – Kindergarten \n\nWhat is Junior Bible Quiz?\nWe are so excited to introduce you and your children to the world of Junior Bible Quiz (JBQ). JBQ is a great opportunity for your young person to get into God’s Word. Simply\, put – JBQ is a discipleship program whereby children learn 576 various facts about the bible\, doctrinal truths\, and memorize specific verses from the Bible. \nAdditionally\, there is opportunity for the children at our church to participate in a structured team competition format with other churches in our District (even participating in events such as Regional and National Tournaments). \nGET MORE INFO ABOUT JUNIOR BIBLE QUIZ
URL:https://www.northparkchurch.org/event/junior-bible-quiz-2/2024-04-07/
LOCATION:Northpark Community Church\, 2297 E. Shepherd Ave.\, Fresno\, CA\, 93720\, United States
CATEGORIES:Children,Church Event,Preteen,Sunday Morning
ATTACH;FMTTYPE=image/jpeg:https://www.northparkchurch.org/wp-content/uploads/2022/12/junior-bible-quiz.jpg
ORGANIZER;CN="Pastor Candi Maur":MAILTO:Candi@NorthparkCC.org
GEO:36.8657759;-119.741738
X-APPLE-STRUCTURED-LOCATION;VALUE=URI;X-ADDRESS=Northpark Community Church 2297 E. Shepherd Ave. Fresno CA 93720 United States;X-APPLE-RADIUS=500;X-TITLE=2297 E. Shepherd Ave.:geo:-119.741738,36.8657759
END:VEVENT
BEGIN:VEVENT
DTSTART;TZID=America/Los_Angeles:20240410T180000
DTEND;TZID=America/Los_Angeles:20240410T200000
DTSTAMP:20260423T073219
CREATED:20240321T210857Z
LAST-MODIFIED:20240321T210857Z
UID:10009943-1712772000-1712779200@www.northparkchurch.org
SUMMARY:Wednesday Night for All Ages
DESCRIPTION:WEDNESDAY NIGHTS FOR THE WHOLE FAMILY\nApril 10 – May 15  (6 weeks) \nFree Dinner 6:00 | Classes 6:30pm\n \n*You are welcome to join in at any time during these sessions \nBring the whole family for a fantastic dinner\, connection with others\, and great teaching! \nREGISTER ONLINE NOW
URL:https://www.northparkchurch.org/event/wednesday-night-for-all-ages-2/
LOCATION:Northpark Community Church\, 2297 E. Shepherd Ave.\, Fresno\, CA\, 93720\, United States
CATEGORIES:Children,Church Event,Wednesday Night,Youth
ATTACH;FMTTYPE=image/jpeg:https://www.northparkchurch.org/wp-content/uploads/2022/08/Wednesday-Night-500-×-500-px.jpg
GEO:36.8657759;-119.741738
X-APPLE-STRUCTURED-LOCATION;VALUE=URI;X-ADDRESS=Northpark Community Church 2297 E. Shepherd Ave. Fresno CA 93720 United States;X-APPLE-RADIUS=500;X-TITLE=2297 E. Shepherd Ave.:geo:-119.741738,36.8657759
END:VEVENT
END:VCALENDAR