BEGIN:VCALENDAR
VERSION:2.0
PRODID:-//Northpark - ECPv6.15.14//NONSGML v1.0//EN
CALSCALE:GREGORIAN
METHOD:PUBLISH
X-ORIGINAL-URL:https://www.northparkchurch.org
X-WR-CALDESC:Events for Northpark
REFRESH-INTERVAL;VALUE=DURATION:PT1H
X-Robots-Tag:noindex
X-PUBLISHED-TTL:PT1H
BEGIN:VTIMEZONE
TZID:America/Los_Angeles
BEGIN:DAYLIGHT
TZOFFSETFROM:-0800
TZOFFSETTO:-0700
TZNAME:PDT
DTSTART:20250309T100000
END:DAYLIGHT
BEGIN:STANDARD
TZOFFSETFROM:-0700
TZOFFSETTO:-0800
TZNAME:PST
DTSTART:20251102T090000
END:STANDARD
BEGIN:DAYLIGHT
TZOFFSETFROM:-0800
TZOFFSETTO:-0700
TZNAME:PDT
DTSTART:20260308T100000
END:DAYLIGHT
BEGIN:STANDARD
TZOFFSETFROM:-0700
TZOFFSETTO:-0800
TZNAME:PST
DTSTART:20261101T090000
END:STANDARD
BEGIN:DAYLIGHT
TZOFFSETFROM:-0800
TZOFFSETTO:-0700
TZNAME:PDT
DTSTART:20270314T100000
END:DAYLIGHT
BEGIN:STANDARD
TZOFFSETFROM:-0700
TZOFFSETTO:-0800
TZNAME:PST
DTSTART:20271107T090000
END:STANDARD
END:VTIMEZONE
BEGIN:VEVENT
DTSTART;TZID=America/Los_Angeles:20260430T120000
DTEND;TZID=America/Los_Angeles:20260430T133000
DTSTAMP:20260420T021339
CREATED:20250410T210218Z
LAST-MODIFIED:20260205T221155Z
UID:10010750-1777550400-1777555800@www.northparkchurch.org
SUMMARY:Men's Bible Study
DESCRIPTION:Every Thursday at 12:00 p.m. at The Well Coffeehouse\, 327 Nees Avenue\, Clovis. For more information at 559-940-4789 call Chris Doda.
URL:https://www.northparkchurch.org/event/new-mens-bible-study/2026-04-30/
LOCATION:CA
CATEGORIES:Men's Ministry
ATTACH;FMTTYPE=image/jpeg:https://www.northparkchurch.org/wp-content/uploads/2025/04/Mens-Bible-Study.jpg
END:VEVENT
BEGIN:VEVENT
DTSTART;TZID=America/Los_Angeles:20260430T190000
DTEND;TZID=America/Los_Angeles:20260430T210000
DTSTAMP:20260420T021339
CREATED:20260402T202422Z
LAST-MODIFIED:20260407T210317Z
UID:10012089-1777575600-1777582800@www.northparkchurch.org
SUMMARY:Youth: Jordan Feliz Concert
DESCRIPTION:Jordan Feliz Concert with Riley Clemmons \nThursday\, April 30\n7:00 p.m. at Cornerstone Church\n1463 Fulton Street\, Fresno\, CA 93721 \n$25 per ticket\, General Admission \nPURCHASE YOUR TICKET NOW!\nDoors open at 6:00 p.m.\, concert starts at 7:00 p.m. \nWe will sit together as a group\, but students need to arrange for transportation to and from Cornerstone Church (Wilson Theater) \n  \n  \n  \n 
URL:https://www.northparkchurch.org/event/youth-jordan-feliz-concert/
LOCATION:Cornerstone Church\, 1455 Fulton St\, Fresno\, CA\, 93721\, United States
CATEGORIES:Youth
ATTACH;FMTTYPE=image/jpeg:https://www.northparkchurch.org/wp-content/uploads/2026/04/Jordan-Feliz-Concert-2026.jpg
ORGANIZER;CN="Pastor Justin Goble":MAILTO:Justin@Northparkcc.org
GEO:36.7394297;-119.7967315
X-APPLE-STRUCTURED-LOCATION;VALUE=URI;X-ADDRESS=Cornerstone Church 1455 Fulton St Fresno CA 93721 United States;X-APPLE-RADIUS=500;X-TITLE=1455 Fulton St:geo:-119.7967315,36.7394297
END:VEVENT
END:VCALENDAR