BEGIN:VCALENDAR
VERSION:2.0
PRODID:-//Northpark - ECPv6.15.14//NONSGML v1.0//EN
CALSCALE:GREGORIAN
METHOD:PUBLISH
X-WR-CALNAME:Northpark
X-ORIGINAL-URL:https://www.northparkchurch.org
X-WR-CALDESC:Events for Northpark
REFRESH-INTERVAL;VALUE=DURATION:PT1H
X-Robots-Tag:noindex
X-PUBLISHED-TTL:PT1H
BEGIN:VTIMEZONE
TZID:America/Los_Angeles
BEGIN:DAYLIGHT
TZOFFSETFROM:-0800
TZOFFSETTO:-0700
TZNAME:PDT
DTSTART:20240310T100000
END:DAYLIGHT
BEGIN:STANDARD
TZOFFSETFROM:-0700
TZOFFSETTO:-0800
TZNAME:PST
DTSTART:20241103T090000
END:STANDARD
BEGIN:DAYLIGHT
TZOFFSETFROM:-0800
TZOFFSETTO:-0700
TZNAME:PDT
DTSTART:20250309T100000
END:DAYLIGHT
BEGIN:STANDARD
TZOFFSETFROM:-0700
TZOFFSETTO:-0800
TZNAME:PST
DTSTART:20251102T090000
END:STANDARD
BEGIN:DAYLIGHT
TZOFFSETFROM:-0800
TZOFFSETTO:-0700
TZNAME:PDT
DTSTART:20260308T100000
END:DAYLIGHT
BEGIN:STANDARD
TZOFFSETFROM:-0700
TZOFFSETTO:-0800
TZNAME:PST
DTSTART:20261101T090000
END:STANDARD
END:VTIMEZONE
BEGIN:VEVENT
DTSTART;TZID=America/Los_Angeles:20250528T100000
DTEND;TZID=America/Los_Angeles:20250528T113000
DTSTAMP:20260423T093416
CREATED:20250327T195356Z
LAST-MODIFIED:20250327T195356Z
UID:10010660-1748426400-1748431800@www.northparkchurch.org
SUMMARY:Women's Bible Study - Wednesday Morning
DESCRIPTION:WEDNESDAY MORNING BIBLE STUDY\nLiving Like you Belong to God\nApril 23 – May 28\, 2025\n10:00 am\, Northpark Room 101 \n\n\nFacilitated by Margarita Navarrette \nLadies\, you are invited to join us for Bible study and prayer time. Bring your Bible and invite a friend! \nLiving Like You Belong to God by Kay Arthur \nCan Others See That You Belong to God? \nGod calls us to a life of joy\, obedience\, and trust. He calls us to be different from those around us. He calls us to be holy. \nIn this rich study\, you will discover that holiness is not an arbitrary standard within today’s church or an unreachable goal of sinless perfection. Holiness is about pleasing God–living in such a way that it’s clear you belong to Him. Holiness is what makes you unique as a believer in Jesus Christ. \nCome explore the beauty of holy living and see why true holiness and true happiness always go together. \nBooks will be available on the first day. \nFor more information\, contact the church office\, 559-322-7200 or info@northparkcc.org.
URL:https://www.northparkchurch.org/event/womens-bible-study-wednesday-morning-5/2025-05-28/
LOCATION:Northpark Community Church\, 2297 E. Shepherd Ave.\, Fresno\, CA\, 93720\, United States
CATEGORIES:Women's Ministry
ATTACH;FMTTYPE=image/jpeg:https://www.northparkchurch.org/wp-content/uploads/2021/08/Womens-Bible-Study-Square.jpg
GEO:36.8657759;-119.741738
X-APPLE-STRUCTURED-LOCATION;VALUE=URI;X-ADDRESS=Northpark Community Church 2297 E. Shepherd Ave. Fresno CA 93720 United States;X-APPLE-RADIUS=500;X-TITLE=2297 E. Shepherd Ave.:geo:-119.741738,36.8657759
END:VEVENT
END:VCALENDAR