BEGIN:VCALENDAR
VERSION:2.0
PRODID:-//Northpark - ECPv6.15.14//NONSGML v1.0//EN
CALSCALE:GREGORIAN
METHOD:PUBLISH
X-ORIGINAL-URL:https://www.northparkchurch.org
X-WR-CALDESC:Events for Northpark
REFRESH-INTERVAL;VALUE=DURATION:PT1H
X-Robots-Tag:noindex
X-PUBLISHED-TTL:PT1H
BEGIN:VTIMEZONE
TZID:America/Los_Angeles
BEGIN:DAYLIGHT
TZOFFSETFROM:-0800
TZOFFSETTO:-0700
TZNAME:PDT
DTSTART:20240310T100000
END:DAYLIGHT
BEGIN:STANDARD
TZOFFSETFROM:-0700
TZOFFSETTO:-0800
TZNAME:PST
DTSTART:20241103T090000
END:STANDARD
BEGIN:DAYLIGHT
TZOFFSETFROM:-0800
TZOFFSETTO:-0700
TZNAME:PDT
DTSTART:20250309T100000
END:DAYLIGHT
BEGIN:STANDARD
TZOFFSETFROM:-0700
TZOFFSETTO:-0800
TZNAME:PST
DTSTART:20251102T090000
END:STANDARD
BEGIN:DAYLIGHT
TZOFFSETFROM:-0800
TZOFFSETTO:-0700
TZNAME:PDT
DTSTART:20260308T100000
END:DAYLIGHT
BEGIN:STANDARD
TZOFFSETFROM:-0700
TZOFFSETTO:-0800
TZNAME:PST
DTSTART:20261101T090000
END:STANDARD
END:VTIMEZONE
BEGIN:VEVENT
DTSTART;TZID=America/Los_Angeles:20250109T120000
DTEND;TZID=America/Los_Angeles:20250109T133000
DTSTAMP:20260422T150055
CREATED:20250410T210218Z
LAST-MODIFIED:20260205T221155Z
UID:10011532-1736424000-1736429400@www.northparkchurch.org
SUMMARY:Men's Bible Study
DESCRIPTION:Every Thursday at 12:00 p.m. at The Well Coffeehouse\, 327 Nees Avenue\, Clovis. For more information at 559-940-4789 call Chris Doda.
URL:https://www.northparkchurch.org/event/new-mens-bible-study/2025-01-09/
LOCATION:CA
CATEGORIES:Men's Ministry
ATTACH;FMTTYPE=image/jpeg:https://www.northparkchurch.org/wp-content/uploads/2025/04/Mens-Bible-Study.jpg
END:VEVENT
BEGIN:VEVENT
DTSTART;TZID=America/Los_Angeles:20250109T180000
DTEND;TZID=America/Los_Angeles:20250109T190000
DTSTAMP:20260422T150055
CREATED:20250111T095806Z
LAST-MODIFIED:20250407T224908Z
UID:10010518-1736445600-1736449200@www.northparkchurch.org
SUMMARY:Women's Beginner Yoga
DESCRIPTION:Thursdays | 6:00 – 7:15 p.m.\nNorthpark Community Church\, Room 203 \nAll ages and skill levels are welcome! \nThis class is facilitated by certified yoga instructor\, Cheryl Tristan. \nAs we cope with the stressors of life\, including anxiety and isolation\, yoga is a great way to draw closer to God and practice self-care through movement\, breathing and balance.  Modifications can be made as needed so that you can find movement and gain mobility. \nBring a yoga mat\, water and any yoga props you want (blocks etc.) Loaner items will be available if needed. \nSpace is limited\, sign up in advance. \nClick the link below or contact Cheryl at 559-907-5303. \nRegister Online Now
URL:https://www.northparkchurch.org/event/womens-beginner-yoga-6-4/2025-01-09/
LOCATION:Northpark Community Church\, 2297 E. Shepherd Ave.\, Fresno\, CA\, 93720\, United States
CATEGORIES:Church Event,Women's Ministry
ATTACH;FMTTYPE=image/jpeg:https://www.northparkchurch.org/wp-content/uploads/2022/05/yoga-square-e1653233022519.jpg
GEO:36.8657759;-119.741738
X-APPLE-STRUCTURED-LOCATION;VALUE=URI;X-ADDRESS=Northpark Community Church 2297 E. Shepherd Ave. Fresno CA 93720 United States;X-APPLE-RADIUS=500;X-TITLE=2297 E. Shepherd Ave.:geo:-119.741738,36.8657759
END:VEVENT
BEGIN:VEVENT
DTSTART;TZID=America/Los_Angeles:20250109T190000
DTEND;TZID=America/Los_Angeles:20250109T200000
DTSTAMP:20260422T150055
CREATED:20231221T183239Z
LAST-MODIFIED:20241224T222916Z
UID:10009880-1736449200-1736452800@www.northparkchurch.org
SUMMARY:Nightly Prayer & Fasting Service - Clovis Christian Church
DESCRIPTION:Nightly Prayer & Fasting Service\nThursday\, January 9 – 7:00 p.m.\nHosted By Clovis Christian Church\nIn Person: 1701 Locan Ave.\, Clovis\, CA 93619\n \nOnline: www.cloviscc.com/live-stream   \n\nEvery night during the 21 days of Prayer and Fasting there will be a service hosted by a different church allowing us to experience the depth and diversity of congregations across our community while acknowledging that we are One Church. \nThese services will be available online or in person\, will incorporate prayer and worship\, and are a great opportunity for the Church of Fresno/Clovis to gather together in unity. \nWe invite you to join us for 1\, or 2\, or all 21 as we pray for our community and believe God together for powerful results throughout 2025 and beyond. You will be encouraged\, and you will be an encouragement to others as well! \n\nMore Resources\n\nSign up for daily email encouragement from Pastor Bob Willis guiding you during prayer and fasting\nFAQ’s\, Books and Videos about Prayer & Fasting\n\nGet more resources here: NorthparkChurch.org/fasting \n\nOther Nightly Services\nSee the full list of nightly prayer and fasting services: northparkchurch.org/series/nightly-prayer-fasting-service/ \n 
URL:https://www.northparkchurch.org/event/nightly-prayer-fasting-service-29/
LOCATION:Clovis Christian Church\, 1701 Locan Ave\, Clovis\, CA
CATEGORIES:Fasting
ATTACH;FMTTYPE=image/jpeg:https://www.northparkchurch.org/wp-content/uploads/2021/12/NIGHTLY-PRAYER-FASTING-SERVICE-500-x-500-px-e1767913392586.jpg
GEO:36.8114219;-119.6544467
X-APPLE-STRUCTURED-LOCATION;VALUE=URI;X-ADDRESS=Clovis Christian Church 1701 Locan Ave Clovis CA;X-APPLE-RADIUS=500;X-TITLE=1701 Locan Ave:geo:-119.6544467,36.8114219
END:VEVENT
END:VCALENDAR