BEGIN:VCALENDAR
VERSION:2.0
PRODID:-//Northpark - ECPv6.15.14//NONSGML v1.0//EN
CALSCALE:GREGORIAN
METHOD:PUBLISH
X-WR-CALNAME:Northpark
X-ORIGINAL-URL:https://www.northparkchurch.org
X-WR-CALDESC:Events for Northpark
REFRESH-INTERVAL;VALUE=DURATION:PT1H
X-Robots-Tag:noindex
X-PUBLISHED-TTL:PT1H
BEGIN:VTIMEZONE
TZID:America/Los_Angeles
BEGIN:DAYLIGHT
TZOFFSETFROM:-0800
TZOFFSETTO:-0700
TZNAME:PDT
DTSTART:20220313T100000
END:DAYLIGHT
BEGIN:STANDARD
TZOFFSETFROM:-0700
TZOFFSETTO:-0800
TZNAME:PST
DTSTART:20221106T090000
END:STANDARD
BEGIN:DAYLIGHT
TZOFFSETFROM:-0800
TZOFFSETTO:-0700
TZNAME:PDT
DTSTART:20230312T100000
END:DAYLIGHT
BEGIN:STANDARD
TZOFFSETFROM:-0700
TZOFFSETTO:-0800
TZNAME:PST
DTSTART:20231105T090000
END:STANDARD
BEGIN:DAYLIGHT
TZOFFSETFROM:-0800
TZOFFSETTO:-0700
TZNAME:PDT
DTSTART:20240310T100000
END:DAYLIGHT
BEGIN:STANDARD
TZOFFSETFROM:-0700
TZOFFSETTO:-0800
TZNAME:PST
DTSTART:20241103T090000
END:STANDARD
END:VTIMEZONE
BEGIN:VEVENT
DTSTART;TZID=America/Los_Angeles:20230711T183000
DTEND;TZID=America/Los_Angeles:20230711T200000
DTSTAMP:20260423T150323
CREATED:20230706T201801Z
LAST-MODIFIED:20230720T195457Z
UID:10009006-1689100200-1689105600@www.northparkchurch.org
SUMMARY:Women's Book Club
DESCRIPTION:Women’s Summer Book Club\nMonthly Discussion\nTuesday\, July 11\, 6:30 p.m.\nNorthpark Community Church \nThis is a great opportunity to connect with other women once a month to discuss a new book each time. \nEach month we’ll give you the title of the book for you to purchase and read\, and then we’ll meet at the end of the month to talk about it. \nJuly Book: Sensible Shoes by Sharon Garlough Brown \nFacilitated by Robyn Scroggins \nFor more information\, call the church office\, 559-322-7200
URL:https://www.northparkchurch.org/event/womens-book-club/
LOCATION:Northpark Community Church\, 2297 E. Shepherd Ave.\, Fresno\, CA\, 93720\, United States
CATEGORIES:Women's Ministry
ATTACH;FMTTYPE=image/jpeg:https://www.northparkchurch.org/wp-content/uploads/2023/06/Book-Club.jpg
GEO:36.8657759;-119.741738
X-APPLE-STRUCTURED-LOCATION;VALUE=URI;X-ADDRESS=Northpark Community Church 2297 E. Shepherd Ave. Fresno CA 93720 United States;X-APPLE-RADIUS=500;X-TITLE=2297 E. Shepherd Ave.:geo:-119.741738,36.8657759
END:VEVENT
END:VCALENDAR