BEGIN:VCALENDAR
VERSION:2.0
PRODID:-//Northpark - ECPv6.15.14//NONSGML v1.0//EN
CALSCALE:GREGORIAN
METHOD:PUBLISH
X-WR-CALNAME:Northpark
X-ORIGINAL-URL:https://www.northparkchurch.org
X-WR-CALDESC:Events for Northpark
REFRESH-INTERVAL;VALUE=DURATION:PT1H
X-Robots-Tag:noindex
X-PUBLISHED-TTL:PT1H
BEGIN:VTIMEZONE
TZID:America/Los_Angeles
BEGIN:DAYLIGHT
TZOFFSETFROM:-0800
TZOFFSETTO:-0700
TZNAME:PDT
DTSTART:20210314T100000
END:DAYLIGHT
BEGIN:STANDARD
TZOFFSETFROM:-0700
TZOFFSETTO:-0800
TZNAME:PST
DTSTART:20211107T090000
END:STANDARD
BEGIN:DAYLIGHT
TZOFFSETFROM:-0800
TZOFFSETTO:-0700
TZNAME:PDT
DTSTART:20220313T100000
END:DAYLIGHT
BEGIN:STANDARD
TZOFFSETFROM:-0700
TZOFFSETTO:-0800
TZNAME:PST
DTSTART:20221106T090000
END:STANDARD
BEGIN:DAYLIGHT
TZOFFSETFROM:-0800
TZOFFSETTO:-0700
TZNAME:PDT
DTSTART:20230312T100000
END:DAYLIGHT
BEGIN:STANDARD
TZOFFSETFROM:-0700
TZOFFSETTO:-0800
TZNAME:PST
DTSTART:20231105T090000
END:STANDARD
END:VTIMEZONE
BEGIN:VEVENT
DTSTART;TZID=America/Los_Angeles:20221202T183000
DTEND;TZID=America/Los_Angeles:20221202T200000
DTSTAMP:20260422T195510
CREATED:20001019T222519Z
LAST-MODIFIED:20221130T001258Z
UID:10008083-1670005800-1670011200@www.northparkchurch.org
SUMMARY:Campfire Christmas Fun!
DESCRIPTION:Campfire Christmas Fun at Northpark\nFriday\, December 2\, 2022\n6:30 – 8:00 pm\nNorthpark Courtyard* \n*In the event of rain\, we will move into the worship center. \nBring a chair and wear something festive! \nJoin us around the fire pits and under the Christmas lights in the Northpark Courtyard for a festive evening of fun and surprises including: \n\nChristmas Carol Sing Along\nChristmas Performances by some of our own Northpark Families\nGames\nHot Chocolate and Sweet Treats\nand of course\, the Story of the Very First Christmas\n\nWe are excited to have many of our own Northpark families share their talents with us and look forward to a fun evening together celebrating the Christmas season and the birth of our Savior! \nWe hope YOU will be there! \n\nWould you or your family like to share a family friendly Christmas song\, skit\, performance or other Christmas presentation of some kind?\nContact Pastor Candi to be part of the program! \n\nCampfire Christmas 2021 Photos:
URL:https://www.northparkchurch.org/event/campfire-christmas-fun/
LOCATION:Northpark Community Church\, 2297 E. Shepherd Ave.\, Fresno\, CA\, 93720\, United States
CATEGORIES:Children,Christmas,Church Event,Holiday,Men's Ministry,Preteen,Women's Ministry,Young Adult,Youth
ATTACH;FMTTYPE=image/jpeg:https://www.northparkchurch.org/wp-content/uploads/2021/11/Campfire-Christmas-Square-2022.jpg
ORGANIZER;CN="Pastor Candi Maur":MAILTO:Candi@NorthparkCC.org
GEO:36.8657759;-119.741738
X-APPLE-STRUCTURED-LOCATION;VALUE=URI;X-ADDRESS=Northpark Community Church 2297 E. Shepherd Ave. Fresno CA 93720 United States;X-APPLE-RADIUS=500;X-TITLE=2297 E. Shepherd Ave.:geo:-119.741738,36.8657759
END:VEVENT
END:VCALENDAR