BEGIN:VCALENDAR
VERSION:2.0
PRODID:-//Northpark - ECPv6.15.14//NONSGML v1.0//EN
CALSCALE:GREGORIAN
METHOD:PUBLISH
X-ORIGINAL-URL:https://www.northparkchurch.org
X-WR-CALDESC:Events for Northpark
REFRESH-INTERVAL;VALUE=DURATION:PT1H
X-Robots-Tag:noindex
X-PUBLISHED-TTL:PT1H
BEGIN:VTIMEZONE
TZID:America/Los_Angeles
BEGIN:DAYLIGHT
TZOFFSETFROM:-0800
TZOFFSETTO:-0700
TZNAME:PDT
DTSTART:20210314T100000
END:DAYLIGHT
BEGIN:STANDARD
TZOFFSETFROM:-0700
TZOFFSETTO:-0800
TZNAME:PST
DTSTART:20211107T090000
END:STANDARD
BEGIN:DAYLIGHT
TZOFFSETFROM:-0800
TZOFFSETTO:-0700
TZNAME:PDT
DTSTART:20220313T100000
END:DAYLIGHT
BEGIN:STANDARD
TZOFFSETFROM:-0700
TZOFFSETTO:-0800
TZNAME:PST
DTSTART:20221106T090000
END:STANDARD
BEGIN:DAYLIGHT
TZOFFSETFROM:-0800
TZOFFSETTO:-0700
TZNAME:PDT
DTSTART:20230312T100000
END:DAYLIGHT
BEGIN:STANDARD
TZOFFSETFROM:-0700
TZOFFSETTO:-0800
TZNAME:PST
DTSTART:20231105T090000
END:STANDARD
END:VTIMEZONE
BEGIN:VEVENT
DTSTART;TZID=America/Los_Angeles:20220918T083000
DTEND;TZID=America/Los_Angeles:20220918T093000
DTSTAMP:20260420T072142
CREATED:20220915T222919Z
LAST-MODIFIED:20220915T222920Z
UID:10008129-1663489800-1663493400@www.northparkchurch.org
SUMMARY:Going Deeper With God
DESCRIPTION:SUNDAY CLASS: GOING DEEPER WITH GOD\nEvery Sunday \n8:30 a.m. at Northpark \n\nFOR ADULTS\nThe Book of Ephesians\nRoom 202\nThis class takes place at the same time as the Sunday morning 8:30 worship service\, but in a different room.\n \nPastor Bob Fuller will lead study and discussion time on the book of Ephesians. \nThe objective in this short study is to practice self-study and small-group study of the Bible using the book of Ephesians. If you are able to\, it would be helpful to read through the book of Ephesians prior to the class – all the way through in one sitting. \nIn this class\, we will read a passage of scripture\, examine it and answer some questions about it\, and try to see what lessons there are for us individually and collectively. \nYou may join this class at any time! \n\nFOR KIDS\nBirth – 6th Grade: \nChildcare will be available \nDevotions with Pastor Candi for 2nd-6th grade will resume next Sunday
URL:https://www.northparkchurch.org/event/going-deeper-with-god-2022-04-24-2022-05-29-2022-09-18-2/
LOCATION:Northpark Community Church\, 2297 E. Shepherd Ave.\, Fresno\, CA\, 93720\, United States
CATEGORIES:Children,Church Event,Older Adults,Preteen,Sunday Morning
ATTACH;FMTTYPE=image/jpeg:https://www.northparkchurch.org/wp-content/uploads/2022/01/Deeper-with-God-e1767913314386.jpg
GEO:36.8657759;-119.741738
X-APPLE-STRUCTURED-LOCATION;VALUE=URI;X-ADDRESS=Northpark Community Church 2297 E. Shepherd Ave. Fresno CA 93720 United States;X-APPLE-RADIUS=500;X-TITLE=2297 E. Shepherd Ave.:geo:-119.741738,36.8657759
END:VEVENT
BEGIN:VEVENT
DTSTART;TZID=America/Los_Angeles:20220918T183000
DTEND;TZID=America/Los_Angeles:20220918T200000
DTSTAMP:20260420T072142
CREATED:20220909T001110Z
LAST-MODIFIED:20220910T072726Z
UID:10008236-1663525800-1663531200@www.northparkchurch.org
SUMMARY:Young Adult Meet-Up
DESCRIPTION:Sunday Evenings\, 6:30 – 8:00 p.m.\nSeptember 11 | September 18 | September 25\nMe-N-Eds Pizzeria\n10077 N Maple Ave\, Fresno (Maple/Behymer) \nAll young adults are invited to join us for pizza and connection with others! \nMeet us at Me-N-Ed’s and look for the table sign that says ‘Northpark’. \nContact Pastor Candi for more information: 559-273-6752
URL:https://www.northparkchurch.org/event/young-adult-meet-up/2022-09-18/
LOCATION:Me-N-Ed’s Pizzeria\, 10077 N Maple Ave\, Fresno\, CA\, 93720\, United States
CATEGORIES:Young Adult
ATTACH;FMTTYPE=image/jpeg:https://www.northparkchurch.org/wp-content/uploads/2022/09/Young-Adult-Social-Square.jpg
ORGANIZER;CN="Pastor Candi Maur":MAILTO:Candi@NorthparkCC.org
GEO:36.8817087;-119.7486211
X-APPLE-STRUCTURED-LOCATION;VALUE=URI;X-ADDRESS=Me-N-Ed’s Pizzeria 10077 N Maple Ave Fresno CA 93720 United States;X-APPLE-RADIUS=500;X-TITLE=10077 N Maple Ave:geo:-119.7486211,36.8817087
END:VEVENT
END:VCALENDAR