BEGIN:VCALENDAR
VERSION:2.0
PRODID:-//Northpark - ECPv6.15.14//NONSGML v1.0//EN
CALSCALE:GREGORIAN
METHOD:PUBLISH
X-ORIGINAL-URL:https://www.northparkchurch.org
X-WR-CALDESC:Events for Northpark
REFRESH-INTERVAL;VALUE=DURATION:PT1H
X-Robots-Tag:noindex
X-PUBLISHED-TTL:PT1H
BEGIN:VTIMEZONE
TZID:America/Los_Angeles
BEGIN:DAYLIGHT
TZOFFSETFROM:-0800
TZOFFSETTO:-0700
TZNAME:PDT
DTSTART:20210314T100000
END:DAYLIGHT
BEGIN:STANDARD
TZOFFSETFROM:-0700
TZOFFSETTO:-0800
TZNAME:PST
DTSTART:20211107T090000
END:STANDARD
BEGIN:DAYLIGHT
TZOFFSETFROM:-0800
TZOFFSETTO:-0700
TZNAME:PDT
DTSTART:20220313T100000
END:DAYLIGHT
BEGIN:STANDARD
TZOFFSETFROM:-0700
TZOFFSETTO:-0800
TZNAME:PST
DTSTART:20221106T090000
END:STANDARD
BEGIN:DAYLIGHT
TZOFFSETFROM:-0800
TZOFFSETTO:-0700
TZNAME:PDT
DTSTART:20230312T100000
END:DAYLIGHT
BEGIN:STANDARD
TZOFFSETFROM:-0700
TZOFFSETTO:-0800
TZNAME:PST
DTSTART:20231105T090000
END:STANDARD
END:VTIMEZONE
BEGIN:VEVENT
DTSTART;TZID=America/Los_Angeles:20220911T183000
DTEND;TZID=America/Los_Angeles:20220911T200000
DTSTAMP:20260421T141913
CREATED:20220909T001110Z
LAST-MODIFIED:20220910T072726Z
UID:10008235-1662921000-1662926400@www.northparkchurch.org
SUMMARY:Young Adult Meet-Up
DESCRIPTION:Sunday Evenings\, 6:30 – 8:00 p.m.\nSeptember 11 | September 18 | September 25\nMe-N-Eds Pizzeria\n10077 N Maple Ave\, Fresno (Maple/Behymer) \nAll young adults are invited to join us for pizza and connection with others! \nMeet us at Me-N-Ed’s and look for the table sign that says ‘Northpark’. \nContact Pastor Candi for more information: 559-273-6752
URL:https://www.northparkchurch.org/event/young-adult-meet-up/2022-09-11/
LOCATION:Me-N-Ed’s Pizzeria\, 10077 N Maple Ave\, Fresno\, CA\, 93720\, United States
CATEGORIES:Young Adult
ATTACH;FMTTYPE=image/jpeg:https://www.northparkchurch.org/wp-content/uploads/2022/09/Young-Adult-Social-Square.jpg
ORGANIZER;CN="Pastor Candi Maur":MAILTO:Candi@NorthparkCC.org
GEO:36.8817087;-119.7486211
X-APPLE-STRUCTURED-LOCATION;VALUE=URI;X-ADDRESS=Me-N-Ed’s Pizzeria 10077 N Maple Ave Fresno CA 93720 United States;X-APPLE-RADIUS=500;X-TITLE=10077 N Maple Ave:geo:-119.7486211,36.8817087
END:VEVENT
END:VCALENDAR